{"text_format":"1","workbook":"xlsx","n_sheets":15,"sheets":["Instructions","Data Input","Calculations","Results","DataCollectionNeeds","Pick Lists","Country Parameters","Wind Capacity Factor","Conversions","Fuel EFs","LineLoss","Grid EFs","Assumptions","Diesel Efficiency Estimator","PlotData"],"not_rendered":{"charts":1,"images":2,"macros":1,"external_links":1,"defined_names":87,"comments":2,"pivot_tables":0},"unopened":[],"bounds":{"document_bytes":16777216,"sheet_cells":100000,"rows_first":2000,"rows_last":500,"rows_between":2000,"halvings":0,"cell_chars":16384,"cell_head_chars":4096},"cells_cut":0,"cells_raw":0,"read":"whole","date_system":"1900"}

{"sheet":"Instructions","index":0,"n_rows":36,"n_cols":4,"rows_kept":36,"cut":false,"hidden":false,"merged":[[6,1,6,2],[1,1,1,3],[2,1,2,2],[3,1,3,2],[5,1,5,2],[4,1,4,2]]}
[" "]
[null,"USAID Clean Energy Emission Reduction (CLEER) \nRegularization of Unauthorized Electricity Connections"]
[null,"Purpose:",null,"This tool assists USAID operating units in estimating GHG emission reductions associated with the reduction\nof non-technical electricity losses from regularization."]
[null,"Version Number:",null,"Version 2.8"]
[null,"Version Date:",null,"2023-10-01"]
[null,"Activity Type:",null,"Increase Energy System Efficiency - Regularization of Unauthorized Electricity Connections"]
[]
[]
[null,"Instructions:"]
[null,"If your clean energy activity involves multiple actions, each action may have to be estimated separately using this calculator. "]
[null,"Note: Please enable macros before beginning."]
[]
[null,"Step 1: Enter program information on the \"Action Information\" section of the \"Data Input\" page."]
[]
[null,"Step 2: Enter the data on the \"Energy Information and Data\" section of the \"Data Input\" page."]
[]
[null,"Step 3: List any assumptions made about the action data at the bottom of the \"Data Input\" page."]
[]
[null,"Step 4: Click on the \"Review Calculations\" arrow to proceed to the \"Calculations\" page."]
[]
[null,"Step 5: Review calculations and enter alternate values if desired."]
[]
[null,"Step 6: List any assumptions made about the alternate values at the bottom of the \"Calculations\" page."]
[]
[null,"Step 7: Click on the \"View Results\" arrow to review the final calculation of annual emission reductions."]
[]
[null,"Step 8: Report emission reductions to the Global Climate Change Office through the FACTS Info database."]
[]
[null,"Note: Data from multiple actions will have to be aggregated in order to report on an entire activity. "]
[]
[null,"Legend:"]
[null,null,"Cell Color Legend:"]
[null,null,null,"Yellow cells are Input Fields."]
[null,null,null,"Blue cells are input fields for Alternate Values."]
[null,null,null,"Green cells are GHG reduction estimates."]
[null,null,null,"White cells are calculations fields and are not editable."]

{"sheet":"Data Input","index":1,"n_rows":56,"n_cols":13,"rows_kept":56,"cut":false,"hidden":false,"merged":[[45,12,46,17],[41,12,42,17],[54,2,59,10],[3,1,4,9],[37,3,37,5],[45,3,45,5],[47,3,47,5],[43,3,43,5],[39,3,39,5],[41,3,41,5],[20,7,24,9],[38,9,41,9]]}
[]
[null,"Action Information and Data Input"]
[]
[null,"Use this form to enter information about the action and its energy use."]
[]
[]
[]
[]
[null,"Section 1 - Action Information"]
[null,"*required fields"]
[]
[null,null,null,"About the Action",null,null,null,"Reporting Details and Worksheet Status"]
[]
[null,null,null,"Implementing Mechanism Number*",null,null,null,"Point of Contact (Name)"]
[null,null,null,"Implementing Mechanism Name*",null,null,null,"Contact Email"]
[null,null,null,"Action Name*",null,null,null,"Contact Phone (Including Country Code)"]
[null,null,null,"Fiscal Year Reported*",null,null,null," Worksheet Status"]
[null,null,null,"Operating Unit",null,null,null," Worksheet Date"]
[null,null,null,"Implementing Partner",null,null,null,"Description of the Action"]
[]
[null,null,null,"Location of the Action"]
[null,null,null,"Country*"]
[null,null,null,"Subnational Region, State, or Province"]
[null,null,null,"City"]
[null,null,null,"Geographic Coordinates"]
[]
[]
[]
[]
[]
[]
[]
[]
[null,"Section 2 - Energy Information and Data"]
[null,"*All fields are required "]
[]
[]
[null,null,null,"What is the action taken to reduce non-technical line losses?*"]
[null,null,null,null,null,null,null,null,null,{"$f":"IF(AND(H42=\"No\",H46=\"No\",ElecReplFuel=\"\"),\"You must enter either the annual electricity consumption before or after the action was implemented\",\"\")","v":""}]
[null,null,null,"How many customers were impacted by the implemented action?*"]
[]
[null,null,null,"Do you know the average annual electricity consumption per customer before the action was implemented?*",null,null,null,null,null,null,null,null,{"$f":"IF(H42=\"No\",\"Note: A percentage factor based on an average of several case studies will be used to estimate activity emissions\",\"\")","v":""}]
[]
[{"$f":"IF(H42=\"Yes\",TRUE,FALSE)","v":false},null,null,"What is the average annual electricity consumption per customer before the action was implemented?*",null,null,null,null,null,"<Electricity Units>"]
[{"$f":"A44","v":false}]
[{"$f":"IF(H42=\"\",FALSE,IF(H42=\"Yes\",TRUE,IF(H42=\"No\",FALSE,FALSE)))","v":false},null,null,"Do you know the average annual electricity consumption per customer after the action was implemented?*",null,null,null,null,null,null,null,null,{"$f":"IF(H46=\"No\",\"Note: A percentage factor based on an average of several case studies will be used to estimate activity emissions\",\"\")","v":""}]
[{"$f":"A46","v":false}]
[{"$f":"IF(H46=\"Yes\",TRUE,IF(H42=\"No\",TRUE,FALSE))","v":false},null,null,"What is the average annual electricity consumption per customer after the action was implemented?*",null,null,null,null,null,"<Electricity Units>"]
[{"$f":"A48","v":false}]
[]
[null,null,null,{"$f":"IF(H38<>'Pick Lists'!B52,\"\",IF(OR(AND(#REF!='Pick Lists'!B74,'Data Input'!#REF!='Pick Lists'!B51),OR(#REF!='Pick Lists'!B72,#REF!='Pick Lists'!B73)),\"The calculations will assume the National Grid Electricity emission factor. If desired, users can enter an alternate emission factor on the Calculations page.\",\"\"))","v":""}]
[null,"Assumptions"]
[null,"Document all assumptions or comments regarding the action or any of the data used for the estimation."]
[]
[]
["asd"]

{"sheet":"Calculations","index":2,"n_rows":65,"n_cols":14,"rows_kept":65,"cut":false,"hidden":false,"merged":[[53,11,53,13],[54,11,54,13],[33,5,33,7],[34,5,34,7],[47,5,47,7],[54,5,54,7],[52,5,52,7],[53,5,53,7],[45,5,45,7],[43,5,43,7],[44,5,44,7],[3,1,4,11],[5,1,6,11],[12,3,12,7],[14,3,14,7],[66,2,71,12],[20,3,20,7],[22,3,22,7],[16,3,16,7],[18,3,18,7],[45,11,45,13],[44,11,44,13],[49,5,49,7],[58,5,58,7],[56,5,56,7],[35,5,35,7],[31,5,31,7]]}
[]
[null,"Calculations"]
[]
[null,"Review the emission reduction calculations. Enter alternate values in the blue fields, if desired."]
[]
[]
[]
[]
[null,"Summary of Data Input"]
[null,"This section summarizes data input in the Energy Information and Data section."]
["Start"]
[]
[null,null,null,{"$f":"'Data Input'!D38:F38","v":"What is the action taken to reduce non-technical line losses?*"},null,null,null,null,null,{"$f":"IF('Data Input'!H38=\"\",\"\",'Data Input'!H38)","v":""}]
[]
[null,null,null,{"$f":"'Data Input'!D40:F40","v":"How many customers were impacted by the implemented action?*"},null,null,null,null,null,{"$f":"IF('Data Input'!H40=\"\",\"\",'Data Input'!H40)","v":""}]
[]
[null,null,null,{"$f":"'Data Input'!D42:F42","v":"Do you know the average annual electricity consumption per customer before the action was implemented?*"},null,null,null,null,null,{"$f":"IF('Data Input'!H42=\"\",\"\",'Data Input'!H42)","v":""}]
[{"$f":"'Data Input'!A44","v":false}]
[{"$f":"'Data Input'!A45","v":false},null,null,{"$f":"'Data Input'!D44","v":"What is the average annual electricity consumption per customer before the action was implemented?*"},null,null,null,null,null,{"$f":"IF('Data Input'!H44=\"\",\"\",'Data Input'!H44)","v":""},null,{"$f":"'Data Input'!J44","v":"<Electricity Units>"}]
[{"$f":"'Data Input'!A46","v":false}]
[{"$f":"'Data Input'!A47","v":false},null,null,{"$f":"'Data Input'!D46:F46","v":"Do you know the average annual electricity consumption per customer after the action was implemented?*"},null,null,null,null,null,{"$f":"IF('Data Input'!H46=\"\",\"\",'Data Input'!H46)","v":""}]
[{"$f":"'Data Input'!A48","v":false}]
[{"$f":"'Data Input'!A49","v":false},null,null,{"$f":"'Data Input'!D48","v":"What is the average annual electricity consumption per customer after the action was implemented?*"},null,null,null,null,null,{"$f":"IF('Data Input'!H48=\"\",\"\",'Data Input'!H48)","v":""},null,{"$f":"'Data Input'!J48","v":"<Electricity Units>"}]
[]
[]
[]
[null,"Emission Reductions Calculations"]
[null,null,"NA = Not Applicable due to the options selected."]
[]
[null,null,null,"Electricity Regularization"]
[]
[null,null,null,null,null,"Default Values",null,null,null,"Alternate Values"]
[]
[{"$f":"IF(AND(elecreplfuelCalc=\"Yes\",J21=\"Yes\"),FALSE,TRUE)","v":true},null,null,"Intervention Factor",null,{"$f":"IFERROR(VLOOKUP(CalcTrigger,'Pick Lists'!$B$220:$C$224,2,FALSE),\"\")","v":""}]
[false,null,null,{"$f":"IF(J13='Pick Lists'!B51,\"Type of fuel replaced:\",IF(F34='Pick Lists'!B72,\"Source of electricity offset by the project\",\"Alternate electricity source:\"))","v":"Alternate electricity source:"},null,{"$f":"IF(F34=\"\",\"\",IF(J13='Pick Lists'!B51,Calculations!J15,IF(OR(F34='Pick Lists'!B72,F34='Pick Lists'!B73),'Pick Lists'!B55,IF(#REF!='Pick Lists'!B51,'Pick Lists'!B55,'Pick Lists'!B56))))","v":""}]
[true,null,null,{"$f":"\"Emission Factor (Grid) (gCO₂e/kWh)\"","v":"Emission Factor (Grid) (gCO₂e/kWh)"},null,{"$f":"IFERROR(VLOOKUP(CountryInput,'Country Parameters'!$B$4:$U$198,10,FALSE),\"\")","v":""}]
[false]
[false]
[false]
[false]
[]
[]
[]
[{"$f":"IF(elecreplfuelCalc=\"no\",TRUE,FALSE)","v":false},null,null,"Average Annual Electricity Consumed per Customer Post-Regularization",null,"Intervention Factor",null,null,null,"Average Annual Electricity Consumed per Customer Pre-Regularization"]
[{"$f":"IF(elecreplfuelCalc=\"no\",TRUE,FALSE)","v":false},null,null,"kWh",null,"1/(1  ̶  Intervention Factor)"]
[{"$f":"IF(elecreplfuelCalc=\"no\",TRUE,FALSE)","v":false},null,null,{"$f":"J23","v":""},"X",{"$f":"1/(1-IF(J34=\"\",F34,J34))","v":{"$error":"#VALUE!"}},null,null,"=",{"$f":"IFERROR(D46*F46,\"\")","v":""}]
[{"$f":"IF(elecreplfuelCalc=\"no\",TRUE,FALSE)","v":false}]
[null,null,null,"Average Annual Electricity Consumed per Customer Pre-Regularization",null,"Number of Customers",null,null,null,"Grid Emission Factor ",null,"Conversion",null,"Baseline GHG Emissions"]
[null,null,null,"kWh",null,null,null,null,null,"(gCO₂e/kWh)",null,"grams to metric tons",null,"tCO2e"]
[null,null,null,{"$f":"IFERROR(IF(A44=TRUE,J46,J19)*IF(L19=\"MWh\",1000,1),\"\")","v":""},"X",{"$f":"J15","v":""},null,null,"X",{"$f":"IF($J$36=\"\",$F$36,$J$36)","v":""},"/",{"$f":"Conversions!D81","v":1000000},"=",{"$f":"IFERROR((D50*F50*J50)/L50,\"\")","v":""}]
[]
[]
[{"$f":"IF(AND(elecreplfuelCalc=\"yes\",$J$21=\"no\"),TRUE,FALSE)","v":false},null,null,"Average Annual Electricity Consumed per Customer Pre-Regularization",null,"Intervention Factor",null,null,null,"Average Annual Electricity Consumed per Customer Post-Regularization"]
[{"$f":"IF(AND(elecreplfuelCalc=\"yes\",$J$21=\"no\"),TRUE,FALSE)","v":false},null,null,"kWh",null,"1  ̶  Intervention Factor"]
[{"$f":"IF(AND(elecreplfuelCalc=\"yes\",$J$21=\"no\"),TRUE,FALSE)","v":false},null,null,{"$f":"J19","v":""},"X",{"$f":"1-IF(J34=\"\",F34,J34)","v":{"$error":"#VALUE!"}},null,null,"=",{"$f":"IFERROR(D55*(F55),\"\")","v":""}]
[{"$f":"IF(AND(elecreplfuelCalc=\"yes\",$J$21=\"no\"),TRUE,FALSE)","v":false}]
[null,null,null,"Average Annual Electricity Consumed per Customer Post-Regularization",null,"Number of Customers",null,null,null,"Grid Emission Factor ",null,"Conversion",null,"Activity GHG Emissions"]
[null,null,null,"kWh",null,null,null,null,null,"(gCO₂e/kWh)",null,"grams to metric tons",null,"tCO2e"]
[null,null,null,{"$f":"IFERROR(IF(A53=TRUE,J55,J23)*IF(L23=\"MWh\",1000,1),\"\")","v":""},"X",{"$f":"J15","v":""},null,null,"X",{"$f":"IF($J$36=\"\",$F$36,$J$36)","v":""},"/",{"$f":"Conversions!D81","v":1000000},"=",{"$f":"IFERROR((D59*F59*J59)/L59,\"\")","v":""}]
[]
[]
[]
[]
[null,"Assumptions"]
[null,"Document all assumptions or comments regarding the alternate values used for the estimation."]

{"sheet":"Results","index":3,"n_rows":36,"n_cols":8,"rows_kept":36,"cut":false,"hidden":false,"merged":[[35,2,40,11]]}
[]
[null,"Results"]
[]
[]
[null,"This page summarizes total FY emissions reduced or avoided (tCO2e). Report Total FY Emission Reductions in the green field for Indicator 4.8-7."]
[]
[null,"Results and Summary"]
[]
[null,"Action Information Summary"]
[null,null,"Implementing Mechanism Number",null,null,{"$f":"IF('Data Input'!F14=\"\",\"\",'Data Input'!F14)","v":""}]
[null,null,"Implementing Mechanism Name",null,null,{"$f":"IF('Data Input'!F15=\"\",\"\",'Data Input'!F15)","v":""}]
[null,null,"Action Name",null,null,{"$f":"IF('Data Input'!F16=\"\",\"\",'Data Input'!F16)","v":""}]
[null,null,"Operating Unit",null,null,{"$f":"IF('Data Input'!F18=\"\",\"\",'Data Input'!F18)","v":""}]
[null,null,"Implementing Partner",null,null,{"$f":"IF('Data Input'!F19=\"\",\"\",'Data Input'!F19)","v":""}]
[null,null,"Country",null,null,{"$f":"IF('Data Input'!F22=\"\",\"\",'Data Input'!F22)","v":""}]
[null,null,"Fiscal Year Reported",null,null,{"$f":"IF('Data Input'!F17=\"\",\"\",'Data Input'!F17)","v":""}]
[null,null,"Clean Energy Result",null,null,"Increase Energy System Efficiency"]
[]
[]
[null,"Total Fiscal Year Emission Reductions"]
[]
[null,null,null,"Baseline Emissions (tCO2e)",null,"Activity Emissions (tCO2e)",null,"Total FY Emission Reductions (tCO2e)"]
[null,null,null,{"$f":"IFERROR(Calculations!N50,\"\")","v":""},"-",{"$f":"IFERROR(Calculations!N59,\"\")","v":""},"=",{"$f":"IFERROR(IF(D23=\"\",\"\",D23-F23),\"\")","v":""}]
[]
[null,null,null,"(kgCO2e)",null,"(kgCO2e)",null,"(kgCO2e)"]
[null,null,null,{"$f":"IFERROR(IF(D23=\"\",\"\",TEXT(ROUND(IF(D23=\"\",\"\",D23*Conversions!$E$81),1),\"#,##0\")),\"\")","v":""},"-",{"$f":"IFERROR(IF(F23=\"\",\"\",TEXT(ROUND(IF(F23=\"\",\"\",F23*Conversions!$E$81),1),\"#,##0\")),\"\")","v":""},"=",{"$f":"IFERROR(IF(H23=\"\",\"\",TEXT(ROUND(IF(H23=\"\",\"\",H23*Conversions!$E$81),1),\"#,##0\")),\"\")","v":""}]
[]
[null,"Total Fiscal Year Energy Consumption Comparison"]
[]
[null,null,null,"Baseline Energy Consumption (GJ)",null,"Activity Energy Consumption (GJ)",null,"Total FY Energy Savings (GJ)"]
[null,null,null,{"$f":"IFERROR(Calculations!D50*Conversions!K50,\"\")","v":""},"-",{"$f":"IFERROR(Calculations!D59*Conversions!K50,\"\")","v":""},"=",{"$f":"IFERROR(D31-F31,\"\")","v":""}]
[]
[null,"Summary of Assumptions"]
[null,"Summary of all assumptions and comments."]
[]
[null,null,{"$f":"'Data Input'!C55&CHAR(10)&Calculations!C67","v":"\n"}]

{"sheet":"DataCollectionNeeds","index":4,"n_rows":77,"n_cols":5,"rows_kept":77,"cut":false,"hidden":false,"merged":[[8,1,8,4],[72,1,73,1],[72,2,73,2],[72,3,73,3],[72,4,73,4],[70,4,71,4],[70,3,71,3],[70,2,71,2],[70,1,71,1],[74,2,75,2],[74,4,75,4],[74,3,75,3],[76,1,77,1],[76,3,77,3],[76,4,77,4],[76,2,77,2],[74,1,75,1]]}
[]
[null,"Data Collection Needs"]
[]
[]
[null,"This page lists the necessary data the user should collect for estimating GHG emission reductions, which will vary by action."]
[]
[]
[null,"Regularization of Unauthorized Electricity Connections: Calculator Pathways"]
[null,"Instructions: This calculator is capable of estimating emissions using different sets of inputs. Follow the diagram below to understand how sets of inputs are grouped together to complete the calculations. The diagram will also be helpful in determining information you may need to collect in the future. \nThe diagram is color-coded to differentiate the type of input. Highlighted data inputs are further explained in the table below the diagram. Blue shapes are questions asked in the calculator, which determine the set of inputs necessary. Grey shapes indicate a user-selected answer which are chosen from a drop down menu. Yellow shapes indicate a user-input that is manually entered. Green shapes indicate the option of entering an alternative value for a specific input. "]
[]
[]
[]
[]
[]
[]
[]
[]
[]
[]
[]
[]
[]
[]
[]
[]
[]
[]
[]
[]
[]
[]
[]
[]
[]
[]
[]
[]
[]
[]
[]
[]
[]
[]
[]
[]
[]
[]
[]
[]
[]
[]
[]
[]
[]
[]
[]
[]
[]
[]
[]
[]
[]
[]
[]
[]
[]
[]
[null,"Regularization of Unauthorized Electricity Connections: List of Data Definitions and Sources"]
[null,"Some data required for the corresponding methodology calculations are excluded from this table, but are provided for the user in the calculator.  "]
[null,"Source","Parameter","Definition","Typical Value/Units"]
[null,"User-Provided","Regularization Action","The type of regularization action taken by the operating unit","n/a"]
[]
[null,"User-Provided","Average Annual Electricity Consumption per Customer","Average quantity of electricity consumed per customer before and/or after regularization","Kilowatt-hours (kWh)"]
[]
[null,"Default: USAID (2017)","Intervention Factor","Regularization-specific factor by which intervention can be expected to reduce electricity use","Percent (0-99%)"]
[]
[null,"Default: IGES (2015)\nIEA (2014)","Grid Electricity Emission Factor","Combined marginal GHG emission factor for grid electricity (IGES) or average grid emission factor (IEA), by country","tCO2e/kWh of electricity "]

{"sheet":"Pick Lists","index":5,"n_rows":224,"n_cols":5,"rows_kept":224,"cut":false,"hidden":true,"merged":[]}
[]
[]
[null,"Pick Lists"]
[null,"Status List"]
[null,"Draft"]
[null,"In Review"]
[null,"Edits Required"]
[null,"Completed"]
[]
[null,"Grid Electricity"]
[null,"Grid (Average Mix)"]
[null,"Grid (Coal/Peat)"]
[null,"Grid (Oil)"]
[null,"Grid (Natural Gas)"]
[]
[null,"Fuel Units of Measure","<Do not change order>"]
[null,"Gigajoules (GJ)"]
[null,"Tonnes (t)"]
[null,"Gallons (gal)"]
[null,"Liters (L)"]
[null,"Pounds (lbs.)"]
[null,"Kilograms (kg)"]
[null,"Million BTUs (MMBTU)"]
[null,"Therms "]
[null,"100 Cubic Feet (Ccf)","Here just for Match/Vlookup"]
[]
[null,"Alternate Fuels List"]
[null,"Gigajoules (GJ)"]
[null,"Tonnes (t)"]
[null,"Pounds (lbs.)"]
[null,"Kilograms (kg)"]
[null,"Million BTUs (MMBTU)"]
[null,"Therms "]
[]
[null,"Natural Gas Fuels List"]
[null,"Gigajoules (GJ)"]
[null,"Tonnes (t)"]
[null,"Pounds (lbs.)"]
[null,"Kilograms (kg)"]
[null,"Million BTUs (MMBTU)"]
[null,"Therms "]
[null,"100 Cubic Feet (Ccf)"]
[]
[null,"Renewables Electricity Generation List"]
[null,"Solar Photovoltaic"]
[null,"Wind Turbine"]
[null,"Geothermal Power "]
[null,"Hydroelectric Power"]
[]
[null,"Yes No"]
[null,"Yes"]
[null,"No"]
[]
[null,"Source of Electricity","Fuel Combustion"]
[null,"Grid Electricity"]
[null,"On-Site Combustion"]
[]
[]
[null,"Electricity"]
[null,"Diesel"]
[null,"Electricity Units","Power Units"]
[null,"kWh","kW"]
[]
[]
[]
[null,"Clean Energy Types"]
[null,"Renewable Electricity Generation"]
[null,"Fuel Switching"]
[null,"Energy Efficiency"]
[]
[null,"Grid Connection Types"]
[null,"Central Utility Generation","->average mix, no line loss"]
[null,"Distributed/Microgrid Generation","-> average mix, with line loss"]
[null,"Off-Grid","-> diesel or average grid with line loss"]
[]
[null,"Grid Types"]
[null,"Combined Marginal Grid","Average Grid Mix"]
[null,"Coal/Peat"]
[null,"Oil"]
[null,"Natural Gas"]
[]
[null,"Off-Grid Alternatives"]
[null,"Average Grid Mix"]
[null,"Diesel Generator"]
[]
[]
[]
[null,"New Fuel List","[Do not remove blank rows]"]
[]
[null,"Grid Electricity"]
[]
[null,"--Common Fuels--"]
[null,"Natural Gas","Natural Gas"]
[null,"Charcoal","Biomass - Charcoal"]
[null,"Coal - Bituminous","Coal - Bituminous"]
[null,"Diesel","Oil - Gas/Diesel"]
[null,"Motor Gasoline (Petrol)","Gasoline - Motor"]
[null,"Liquefied Petroleum Gases (LPGs)","Liquefied Petroleum Gases"]
[null,"Kerosene","Kerosene - Other"]
[null,"Fuel Oil (Residual)","Oil - Residual Fuel"]
[null,"Wood and Wood Waste","Biomass - Wood / Wood Waste"]
[]
[null,"--Crude Oil and Petroleum Products--"]
[null,"Aviation Gasoline ","Gasoline - Aviation"]
[null,"Bitumen","Bitumen"]
[null,"Crude Oil","Oil - Crude"]
[null,"Ethane","Ethane"]
[null,"Jet Gasoline","Gasoline - Jet"]
[null,"Jet Kerosene","Kerosene - Jet"]
[null,"Lubricants","Lubricants"]
[null,"Naphtha","Naphtha"]
[null,"Natural Gas Liquids","Natural Gas Liquids"]
[null,"Orimulsion","Orimulsion"]
[null,"Other Petroleum Products","Oil - Other Petroleum"]
[null,"Petroleum Coke","Petroleum Coke"]
[null,"Refinery Feedstocks","Refinery Feedstocks"]
[null,"Refinery Gas","Oil - Refinery Gas"]
[null,"Shale Oil","Oil - Shale"]
[null,"Waxes","Oil - Paraffin Waxes"]
[null,"White Spirit and SBP","Oil - White Spirit and SBP"]
[]
[null,"--Coal and Coal Products--"]
[null,"Anthracite","Coal - Anthracite"]
[null,"Blast Furnace Gas","Blast Furnace Gas"]
[null,"Brown Coal Briquettes","Brown Coal Briquettes"]
[null,"Coal Tar","Coal Tar"]
[null,"Coke Oven Coke and Lignite Coke","Coke - Coke Oven and Lignite"]
[null,"Coke Oven Gas","Coke Oven Gas"]
[null,"Coking Coal","Coal - Coking Coal"]
[null,"Gas Coke","Coke - Gas"]
[null,"Gas Works Gas","Gas Works Gas"]
[null,"Lignite","Coal - Lignite"]
[null,"Oil Shale and Tar Sands","Oil Shale and Tar Sands"]
[null,"Oxygen Steel Furnace Gas","Oxygen Steel Furnace Gas"]
[null,"Patent Fuel","Patent Fuel"]
[null,"Sub-Bituminous Coal","Coal - Sub-Bituminous"]
[]
[null,"--Biofuels--"]
[null,"Biodiesels","Biofuel - Biodiesels"]
[null,"Biogasoline","Biofuel - Biogasoline"]
[null,"Landfill Gas","Biogas - Landfill Gas"]
[null,"Municipal Wastes (biomass fraction)","Municipal Wastes (biomass fraction)"]
[null,"Other Biogas","Biogas - Other Biogas"]
[null,"Other Liquid Biofuels","Biofuel - Other Liquid Biofuels"]
[null,"Other Primary Solid Biomass","Biomass - Other Primary Solid"]
[null,"Sludge Gas","Biogas - Sludge Gas"]
[null,"Sulphite Lyes (Black Liquor)","Biomass - Sulphite lyes (Black Liquor)"]
[]
[null,"--Other--"]
[null,"Industrial Wastes","Industrial Wastes"]
[null,"Municipal Wastes (nonbiomass fraction)","Municipal Wastes (nonbiomass fraction)"]
[null,"Peat","Peat"]
[null,"Waste Oils","Waste Oils"]
[]
[null,"Fiscal Years","Installation Years"]
[null,"FY2030",{"$f":"IF(RIGHT('Data Input'!$F$17,4)<RIGHT('Pick Lists'!B156,4),\"\",'Pick Lists'!B156)","v":""}]
[null,"FY2029",{"$f":"IF(RIGHT('Data Input'!$F$17,4)<RIGHT('Pick Lists'!B157,4),\"\",'Pick Lists'!B157)","v":""}]
[null,"FY2028",{"$f":"IF(RIGHT('Data Input'!$F$17,4)<RIGHT('Pick Lists'!B158,4),\"\",'Pick Lists'!B158)","v":""}]
[null,"FY2027",{"$f":"IF(RIGHT('Data Input'!$F$17,4)<RIGHT('Pick Lists'!B159,4),\"\",'Pick Lists'!B159)","v":""}]
[null,"FY2026",{"$f":"IF(RIGHT('Data Input'!$F$17,4)<RIGHT('Pick Lists'!B160,4),\"\",'Pick Lists'!B160)","v":""}]
[null,"FY2025",{"$f":"IF(RIGHT('Data Input'!$F$17,4)<RIGHT('Pick Lists'!B161,4),\"\",'Pick Lists'!B161)","v":""}]
[null,"FY2024",{"$f":"IF(RIGHT('Data Input'!$F$17,4)<RIGHT('Pick Lists'!B162,4),\"\",'Pick Lists'!B162)","v":""}]
[null,"FY2023",{"$f":"IF(RIGHT('Data Input'!$F$17,4)<RIGHT('Pick Lists'!B163,4),\"\",'Pick Lists'!B163)","v":""}]
[null,"FY2022",{"$f":"IF(RIGHT('Data Input'!$F$17,4)<RIGHT('Pick Lists'!B164,4),\"\",'Pick Lists'!B164)","v":""}]
[null,"FY2021",{"$f":"IF(RIGHT('Data Input'!$F$17,4)<RIGHT('Pick Lists'!B165,4),\"\",'Pick Lists'!B165)","v":""}]
[null,"FY2020",{"$f":"IF(RIGHT('Data Input'!$F$17,4)<RIGHT('Pick Lists'!B166,4),\"\",'Pick Lists'!B166)","v":""}]
[null,"FY2019",{"$f":"IF(RIGHT('Data Input'!$F$17,4)<RIGHT('Pick Lists'!B167,4),\"\",'Pick Lists'!B167)","v":""}]
[null,"FY2018",{"$f":"IF(RIGHT('Data Input'!$F$17,4)<RIGHT('Pick Lists'!B168,4),\"\",'Pick Lists'!B168)","v":""}]
[null,"FY2017",{"$f":"IF(RIGHT('Data Input'!$F$17,4)<RIGHT('Pick Lists'!B169,4),\"\",'Pick Lists'!B169)","v":""}]
[null,"FY2016",{"$f":"IF(RIGHT('Data Input'!$F$17,4)<RIGHT('Pick Lists'!B170,4),\"\",'Pick Lists'!B170)","v":""}]
[null,"FY2015",{"$f":"IF(RIGHT('Data Input'!$F$17,4)<RIGHT('Pick Lists'!B171,4),\"\",'Pick Lists'!B171)","v":""}]
[null,"FY2014",{"$f":"IF(RIGHT('Data Input'!$F$17,4)<RIGHT('Pick Lists'!B172,4),\"\",'Pick Lists'!B172)","v":""}]
[null,"FY2013",{"$f":"IF(RIGHT('Data Input'!$F$17,4)<RIGHT('Pick Lists'!B173,4),\"\",'Pick Lists'!B173)","v":""}]
[null,"FY2012",{"$f":"IF(RIGHT('Data Input'!$F$17,4)<RIGHT('Pick Lists'!B174,4),\"\",'Pick Lists'!B174)","v":""}]
[null,"FY2011",{"$f":"IF(RIGHT('Data Input'!$F$17,4)<RIGHT('Pick Lists'!B175,4),\"\",'Pick Lists'!B175)","v":""}]
[null,"FY2010",{"$f":"IF(RIGHT('Data Input'!$F$17,4)<RIGHT('Pick Lists'!B176,4),\"\",'Pick Lists'!B176)","v":""}]
[null,"FY2009",{"$f":"IF(RIGHT('Data Input'!$F$17,4)<RIGHT('Pick Lists'!B177,4),\"\",'Pick Lists'!B177)","v":""}]
[null,"FY2008",{"$f":"IF(RIGHT('Data Input'!$F$17,4)<RIGHT('Pick Lists'!B178,4),\"\",'Pick Lists'!B178)","v":""}]
[null,"FY2007",{"$f":"IF(RIGHT('Data Input'!$F$17,4)<RIGHT('Pick Lists'!B179,4),\"\",'Pick Lists'!B179)","v":""}]
[null,"FY2006",{"$f":"IF(RIGHT('Data Input'!$F$17,4)<RIGHT('Pick Lists'!B180,4),\"\",'Pick Lists'!B180)","v":""}]
[null,"FY2005",{"$f":"IF(RIGHT('Data Input'!$F$17,4)<RIGHT('Pick Lists'!B181,4),\"\",'Pick Lists'!B181)","v":""}]
[null,"FY2004",{"$f":"IF(RIGHT('Data Input'!$F$17,4)<RIGHT('Pick Lists'!B182,4),\"\",'Pick Lists'!B182)","v":""}]
[null,"FY2003",{"$f":"IF(RIGHT('Data Input'!$F$17,4)<RIGHT('Pick Lists'!B183,4),\"\",'Pick Lists'!B183)","v":""}]
[null,"FY2002",{"$f":"IF(RIGHT('Data Input'!$F$17,4)<RIGHT('Pick Lists'!B184,4),\"\",'Pick Lists'!B184)","v":""}]
[null,"FY2001",{"$f":"IF(RIGHT('Data Input'!$F$17,4)<RIGHT('Pick Lists'!B185,4),\"\",'Pick Lists'!B185)","v":""}]
[null,"FY2000",{"$f":"IF(RIGHT('Data Input'!$F$17,4)<RIGHT('Pick Lists'!B186,4),\"\",'Pick Lists'!B186)","v":""}]
[]
[null,"Energy Efficiency PIcklist"]
[null,"Energy in absence of activity"]
[null,"Percent energy savings of activity"]
[null,"Navigation Conditions"]
[null,"Unit 1",null,true]
[null,"Unit 2",null,true]
[null,"Activity Details Sections Check",null,{"$f":"IF(OR('Data Input'!F14=\"\",'Data Input'!F15=\"\",'Data Input'!F16=\"\",'Data Input'!F17=\"\",CountryInput=\"\"),FALSE,TRUE)","v":false}]
[null,"Drop down",null,{"$f":"IF(Section2Trigger=\"\",FALSE,TRUE)","v":false}]
[null,"Customers",null,{"$f":"IF('Data Input'!H40=\"\",FALSE,TRUE)","v":false}]
[null,"Pre data",null,{"$f":"IF('Data Input'!H42=\"\",FALSE,TRUE)","v":false}]
[null,"Pre data values if true",null,{"$f":"IF('Data Input'!H42=\"Yes\",IF(triggerelec=\"\",FALSE,TRUE),TRUE)","v":true}]
[null,"Pre units if true",null,{"$f":"IF('Data Input'!H42=\"Yes\",IF(OR('Data Input'!J44=\"<Electricity Units>\",'Data Input'!J44=\"\"),FALSE,TRUE),TRUE)","v":true}]
[null,"Post data",null,{"$f":"IF(AND('Data Input'!H42=\"yes\",'Data Input'!H46=\"\"),FALSE,TRUE)","v":true}]
[null,"Post data values if true",null,{"$f":"IF(OR('Data Input'!H46=\"Yes\",'Data Input'!H42=\"no\"),IF(ElecReplFuel=\"\",FALSE,TRUE),TRUE)","v":true}]
[null,"Post units if true",null,{"$f":"IF('Data Input'!H46=\"Yes\",IF(OR('Data Input'!J48=\"\",'Data Input'!J48=\"<Electricity Units>\"),FALSE,TRUE),TRUE)","v":true}]
[null,"No No Condition",null,{"$f":"IF(AND('Data Input'!H42=\"No\",'Data Input'!H46=\"No\",ElecReplFuel=\"\"),FALSE,TRUE)","v":true}]
[null,"Final Condition",null,{"$f":"AND(D192:D203)","v":false}]
[]
[]
[]
[null,"Technology ","Estimated Asset Lifetime (Years)","Annual Degradation Rate","Lead"]
[null,"Solar Photovoltaic",25,5.0000000000000001E-3,"Craig Schultz"]
[null,"Solar Thermal",30,3.0000000000000001E-3,"Martin Anderson"]
[null,"Wind Turbine",25,5.0000000000000001E-3,"Ellen Allman"]
[null,"Hydroelectric Power",40,3.0000000000000001E-3,"Martin Anderson"]
[null,"Geothermal Power ",25,0.01,"Ellen Allman"]
[null,"Geothermal- direct heat",25,0.01,"Ellen Allman"]
[null,"Geothermal - heat pumps",20,4.0000000000000001E-3,"Ellen Allman"]
[null,"Energy Efficiency",15,5.0000000000000001E-3,"Test data; Update Later"]
[null,"Fuel Switching",15,5.0000000000000001E-3,"Test data; Update Later"]
[]
[]
[null,"Use of postpaid meters without energy efficiency measures",0.27649225401067618]
[null,"Use of postpaid meters with energy efficiency measures",0.43614478291316527]
[null,"Replacing postpaid meters with prepaid meters",0.22666666666666668]
[null,"Use of prepaid meters without energy efficiency measures",0.33807829181494664]
[null,"Use of prepaid meters with energy efficiency measures ",0.48754448398576511]

{"sheet":"Country Parameters","index":6,"n_rows":233,"n_cols":21,"rows_kept":233,"cut":false,"hidden":true,"merged":[]}
[null,1,2,3,4,5,6,7,8,9,10,11,12,13,null,null,14,15,16]
[null,"Country Parameters"]
[null,"Short-form name","Long-form name","US FIPS","Alpha-2","Alpha-3","Numeric Code","Latitude Average","Longitude Average","Region","Grid Average Utilized (Grams CO2/kWh)","Grams CO2/kWh\n(Coal/Peat)","Grams CO2/kWh\n(Oil)","Grams CO2/kWh\n(Natural Gas)","Grid Average (IEA) (Grams CO2/kWh)","CDM Avearge Combined Marginal (IGES)","Average Solar Insolation (kWh/m^2/day) and Average-Day Insolation (hr)","Average Grid Line Loss Rate (%)","Regional Emission Factor utilized","Wind  Capacity Factor","Regional Capacity Factor Utilized"]
[null,"Afghanistan","Islamic Republic of Afghanistan","AF","AF","AFG",4,33,65,"Asia",{"$f":"IF(P4=\"N/A\",O4,P4)","v":846.53392083466008},919.05070000000001,785.51969999999994,527.41980000000001,451.13060000000002,846.53392083466008,5.3,5.7300046286854894E-2,{"$f":"IF(ISNUMBER(MATCH(B4,'Grid EFs'!$B$4:$B$157,0)),\"\",\"*\")","v":""},{"$f":"VLOOKUP(B4,'Wind Capacity Factor'!$B$6:$L$276,8,FALSE)","v":0.18500946185704334},{"$f":"IF(INDEX('Wind Capacity Factor'!$A$6:$B$258,MATCH('Country Parameters'!B4,'Wind Capacity Factor'!$B$6:$B$258,0),1)=\"*\",\"*\",\"\")","v":"*"}]
[null,"Albania","Republic of Albania","AL","AL","ALB",8,41,20,"Europe",{"$f":"IF(P5=\"N/A\",O5,P5)","v":312.0333333333333},919.05070000000001,785.51969999999994,527.41980000000001,6.9824000000000002,312.0333333333333,4.1399999999999997,0.10120170181363654,{"$f":"IF(ISNUMBER(MATCH(B5,'Grid EFs'!$B$4:$B$157,0)),\"\",\"*\")","v":""},{"$f":"VLOOKUP(B5,'Wind Capacity Factor'!$B$6:$L$276,8,FALSE)","v":0.22185234633472933},{"$f":"IF(INDEX('Wind Capacity Factor'!$A$6:$B$258,MATCH('Country Parameters'!B5,'Wind Capacity Factor'!$B$6:$B$258,0),1)=\"*\",\"*\",\"\")","v":"*"}]
[null,"Algeria","People's Democratic Republic of Algeria","AG","DZ","DZA",12,28,3,"Africa",720.02358500000003,974.53949999999998,935.38210000000004,528.50840000000005,549.20079999999996,720.02358500000003,5.61,9.4921608188063056E-2,{"$f":"IF(ISNUMBER(MATCH(B6,'Grid EFs'!$B$4:$B$157,0)),\"\",\"*\")","v":""},{"$f":"VLOOKUP(B6,'Wind Capacity Factor'!$B$6:$L$276,8,FALSE)","v":0.24610688499118938},{"$f":"IF(INDEX('Wind Capacity Factor'!$A$6:$B$258,MATCH('Country Parameters'!B6,'Wind Capacity Factor'!$B$6:$B$258,0),1)=\"*\",\"*\",\"\")","v":"*"}]
[null,"Andorra","Principality of Andorra","AN","AD","AND",20,42.5,1.6,"Europe",331.06400000000002,917.48320000000001,690.57929999999999,359.07440000000003,331.06400000000002,"N/A",3.7,5.8109323007447068E-2,{"$f":"IF(ISNUMBER(MATCH(B7,'Grid EFs'!$B$4:$B$157,0)),\"\",\"*\")","v":""},{"$f":"VLOOKUP(B7,'Wind Capacity Factor'!$B$6:$L$276,8,FALSE)","v":0.22185234633472933},{"$f":"IF(INDEX('Wind Capacity Factor'!$A$6:$B$258,MATCH('Country Parameters'!B7,'Wind Capacity Factor'!$B$6:$B$258,0),1)=\"*\",\"*\",\"\")","v":"*"}]
[null,"Angola","Republic of Angola","AO","AO","AGO",24,-12.5,18.5,"Africa",840.8,974.53949999999998,1343.4219000000001,456.774,390.84410000000003,840.8,5.58,7.4274443578152466E-2,{"$f":"IF(ISNUMBER(MATCH(B8,'Grid EFs'!$B$4:$B$157,0)),\"\",\"*\")","v":""},{"$f":"VLOOKUP(B8,'Wind Capacity Factor'!$B$6:$L$276,8,FALSE)","v":0.24610688499118938},{"$f":"IF(INDEX('Wind Capacity Factor'!$A$6:$B$258,MATCH('Country Parameters'!B8,'Wind Capacity Factor'!$B$6:$B$258,0),1)=\"*\",\"*\",\"\")","v":"*"}]
[null,"Antigua and Barbuda","Antigua and Barbuda","AC","AG","ATG",28,17.05,-61.8,"North America",472.44098150782378,1240.4880000000001,671.35590000000002,502.83659999999998,200.8047,472.44098150782378,6.16,5.7679364750868239E-2,{"$f":"IF(ISNUMBER(MATCH(B9,'Grid EFs'!$B$4:$B$157,0)),\"\",\"*\")","v":"*"},{"$f":"VLOOKUP(B9,'Wind Capacity Factor'!$B$6:$L$276,8,FALSE)","v":0.23637861684516193},{"$f":"IF(INDEX('Wind Capacity Factor'!$A$6:$B$258,MATCH('Country Parameters'!B9,'Wind Capacity Factor'!$B$6:$B$258,0),1)=\"*\",\"*\",\"\")","v":"*"}]
[null,"Argentina","Argentine Republic","AR","AR","ARG",32,-34,-64,"South America",504.72114285714298,1165.1775,731.76139999999998,476.05540000000002,397.17439999999999,504.72114285714298,4.8,8.483952739530716E-2,{"$f":"IF(ISNUMBER(MATCH(B10,'Grid EFs'!$B$4:$B$157,0)),\"\",\"*\")","v":"*"},{"$f":"VLOOKUP(B10,'Wind Capacity Factor'!$B$6:$L$276,8,FALSE)","v":0.29895874855381749},{"$f":"IF(INDEX('Wind Capacity Factor'!$A$6:$B$258,MATCH('Country Parameters'!B10,'Wind Capacity Factor'!$B$6:$B$258,0),1)=\"*\",\"*\",\"\")","v":""}]
[null,"Armenia","Republic of Armenia","AM","AM","ARM",51,40,45,"Asia",435.9666666666667,919.05070000000001,785.51969999999994,417.32839999999999,176.5181,435.9666666666667,3.96,8.1117836477101496E-2,{"$f":"IF(ISNUMBER(MATCH(B11,'Grid EFs'!$B$4:$B$157,0)),\"\",\"*\")","v":""},{"$f":"VLOOKUP(B11,'Wind Capacity Factor'!$B$6:$L$276,8,FALSE)","v":0.17562346329469616},{"$f":"IF(INDEX('Wind Capacity Factor'!$A$6:$B$258,MATCH('Country Parameters'!B11,'Wind Capacity Factor'!$B$6:$B$258,0),1)=\"*\",\"*\",\"\")","v":""}]
[null,"Australia","Commonwealth of Australia","AS","AU","AUS",36,-27,133,"Oceana",798.90189999999996,993.75379999999996,679.18949999999995,522.1739,798.90189999999996,"N/A",5.9,5.1088307102519909E-2,{"$f":"IF(ISNUMBER(MATCH(B12,'Grid EFs'!$B$4:$B$157,0)),\"\",\"*\")","v":""},{"$f":"VLOOKUP(B12,'Wind Capacity Factor'!$B$6:$L$276,8,FALSE)","v":0.27005845597070838},{"$f":"IF(INDEX('Wind Capacity Factor'!$A$6:$B$258,MATCH('Country Parameters'!B12,'Wind Capacity Factor'!$B$6:$B$258,0),1)=\"*\",\"*\",\"\")","v":""}]
[null,"Austria","Republic of Austria","AU","AT","AUT",40,47.333300000000001,13.333299999999999,"Europe",164.791,1057.8384000000001,578.3732,320.45830000000001,164.791,"N/A",3.25,4.4668720748035434E-2,{"$f":"IF(ISNUMBER(MATCH(B13,'Grid EFs'!$B$4:$B$157,0)),\"\",\"*\")","v":""},{"$f":"VLOOKUP(B13,'Wind Capacity Factor'!$B$6:$L$276,8,FALSE)","v":0.20403801419567769},{"$f":"IF(INDEX('Wind Capacity Factor'!$A$6:$B$258,MATCH('Country Parameters'!B13,'Wind Capacity Factor'!$B$6:$B$258,0),1)=\"*\",\"*\",\"\")","v":""}]
[null,"Azerbaijan","Republic of Azerbaijan","AJ","AZ","AZE",31,40.5,47.5,"Asia",589.7600000000001,919.05070000000001,627.95230000000004,533.89710000000002,493.66230000000002,589.7600000000001,3.48,9.2191028899319433E-2,{"$f":"IF(ISNUMBER(MATCH(B14,'Grid EFs'!$B$4:$B$157,0)),\"\",\"*\")","v":""},{"$f":"VLOOKUP(B14,'Wind Capacity Factor'!$B$6:$L$276,8,FALSE)","v":0.22185234633472933},{"$f":"IF(INDEX('Wind Capacity Factor'!$A$6:$B$258,MATCH('Country Parameters'!B14,'Wind Capacity Factor'!$B$6:$B$258,0),1)=\"*\",\"*\",\"\")","v":"*"}]
[null,"Bahamas, The","Commonwealth of The Bahamas","BF","BS","BHS",44,24.25,-76,"North America",723,1240.4880000000001,671.35590000000002,502.83659999999998,200.8047,723,5.74,5.7679364750868239E-2,{"$f":"IF(ISNUMBER(MATCH(B15,'Grid EFs'!$B$4:$B$157,0)),\"\",\"*\")","v":"*"},{"$f":"VLOOKUP(B15,'Wind Capacity Factor'!$B$6:$L$276,8,FALSE)","v":0.23637861684516193},{"$f":"IF(INDEX('Wind Capacity Factor'!$A$6:$B$258,MATCH('Country Parameters'!B15,'Wind Capacity Factor'!$B$6:$B$258,0),1)=\"*\",\"*\",\"\")","v":"*"}]
[null,"Bahrain","Kingdom of Bahrain","BA","BH","BHR",48,26,50.55,"Asia",679.18018867924513,1144.2709,915.41219999999998,754.71889999999996,754.71889999999996,679.18018867924513,6.01,5.6529996543816623E-2,{"$f":"IF(ISNUMBER(MATCH(B16,'Grid EFs'!$B$4:$B$157,0)),\"\",\"*\")","v":"*"},{"$f":"VLOOKUP(B16,'Wind Capacity Factor'!$B$6:$L$276,8,FALSE)","v":0.3438411178962425},{"$f":"IF(INDEX('Wind Capacity Factor'!$A$6:$B$258,MATCH('Country Parameters'!B16,'Wind Capacity Factor'!$B$6:$B$258,0),1)=\"*\",\"*\",\"\")","v":""}]
[null,"Bangladesh","People's Republic of Bangladesh","BG","BD","BGD",50,24,90,"Asia",640.68500000000006,1037.0159000000001,598.72649999999999,572.85310000000004,575.11630000000002,640.68500000000006,4.6500000000000004,7.5634750299117065E-2,{"$f":"IF(ISNUMBER(MATCH(B17,'Grid EFs'!$B$4:$B$157,0)),\"\",\"*\")","v":""},{"$f":"VLOOKUP(B17,'Wind Capacity Factor'!$B$6:$L$276,8,FALSE)","v":0.11415525114155252},{"$f":"IF(INDEX('Wind Capacity Factor'!$A$6:$B$258,MATCH('Country Parameters'!B17,'Wind Capacity Factor'!$B$6:$B$258,0),1)=\"*\",\"*\",\"\")","v":""}]
[null,"Barbados","Barbados","BB","BB","BRB",52,13.166700000000001,-59.533299999999997,"North America",472.44098150782378,1240.4880000000001,671.35590000000002,502.83659999999998,200.8047,472.44098150782378,6.1,5.7679364750868239E-2,{"$f":"IF(ISNUMBER(MATCH(B18,'Grid EFs'!$B$4:$B$157,0)),\"\",\"*\")","v":"*"},{"$f":"VLOOKUP(B18,'Wind Capacity Factor'!$B$6:$L$276,8,FALSE)","v":0.23637861684516193},{"$f":"IF(INDEX('Wind Capacity Factor'!$A$6:$B$258,MATCH('Country Parameters'!B18,'Wind Capacity Factor'!$B$6:$B$258,0),1)=\"*\",\"*\",\"\")","v":"*"}]
[null,"Belarus","Republic of Belarus","BO","BY","BLR",112,53,28,"Europe",425.11810000000003,1487.011,583.20280000000002,422.51690000000002,425.11810000000003,"N/A",2.82,7.3645600865716615E-2,{"$f":"IF(ISNUMBER(MATCH(B19,'Grid EFs'!$B$4:$B$157,0)),\"\",\"*\")","v":""},{"$f":"VLOOKUP(B19,'Wind Capacity Factor'!$B$6:$L$276,8,FALSE)","v":0.36049026676279738},{"$f":"IF(INDEX('Wind Capacity Factor'!$A$6:$B$258,MATCH('Country Parameters'!B19,'Wind Capacity Factor'!$B$6:$B$258,0),1)=\"*\",\"*\",\"\")","v":""}]
[null,"Belgium","Kingdom of Belgium","BE","BE","BEL",56,50.833300000000001,4,"Europe",212.018,1318.2679000000001,507.5213,313.30309999999997,212.018,"N/A",2.81,4.2668640828300589E-2,{"$f":"IF(ISNUMBER(MATCH(B20,'Grid EFs'!$B$4:$B$157,0)),\"\",\"*\")","v":""},{"$f":"VLOOKUP(B20,'Wind Capacity Factor'!$B$6:$L$276,8,FALSE)","v":0.22536033068145686},{"$f":"IF(INDEX('Wind Capacity Factor'!$A$6:$B$258,MATCH('Country Parameters'!B20,'Wind Capacity Factor'!$B$6:$B$258,0),1)=\"*\",\"*\",\"\")","v":""}]
[null,"Belize","Belize","BH","BZ","BLZ",84,17.25,-88.75,"North America",151.9,1240.4880000000001,671.35590000000002,502.83659999999998,200.8047,151.9,4.8499999999999996,5.7679364750868239E-2,{"$f":"IF(ISNUMBER(MATCH(B21,'Grid EFs'!$B$4:$B$157,0)),\"\",\"*\")","v":"*"},{"$f":"VLOOKUP(B21,'Wind Capacity Factor'!$B$6:$L$276,8,FALSE)","v":0.34246575342465752},{"$f":"IF(INDEX('Wind Capacity Factor'!$A$6:$B$258,MATCH('Country Parameters'!B21,'Wind Capacity Factor'!$B$6:$B$258,0),1)=\"*\",\"*\",\"\")","v":""}]
[null,"Benin","Republic of Benin","BN","BJ","BEN",204,9.5,2.25,"Africa",720.02358500000003,974.53949999999998,725.1481,456.774,720.69939999999997,720.02358500000003,5.59,7.571494692664206E-2,{"$f":"IF(ISNUMBER(MATCH(B22,'Grid EFs'!$B$4:$B$157,0)),\"\",\"*\")","v":""},{"$f":"VLOOKUP(B22,'Wind Capacity Factor'!$B$6:$L$276,8,FALSE)","v":0.24610688499118938},{"$f":"IF(INDEX('Wind Capacity Factor'!$A$6:$B$258,MATCH('Country Parameters'!B22,'Wind Capacity Factor'!$B$6:$B$258,0),1)=\"*\",\"*\",\"\")","v":"*"}]
[null,"Bhutan","Kingdom of Bhutan","BT","BT","BTN",64,27.5,90.5,"Asia",830.45,1144.2709,843.06479999999999,451.97480000000002,736.13379999999995,830.45,5.31,5.7300046286854894E-2,{"$f":"IF(ISNUMBER(MATCH(B23,'Grid EFs'!$B$4:$B$157,0)),\"\",\"*\")","v":""},{"$f":"VLOOKUP(B23,'Wind Capacity Factor'!$B$6:$L$276,8,FALSE)","v":0.18500946185704334},{"$f":"IF(INDEX('Wind Capacity Factor'!$A$6:$B$258,MATCH('Country Parameters'!B23,'Wind Capacity Factor'!$B$6:$B$258,0),1)=\"*\",\"*\",\"\")","v":"*"}]
[null,"Bolivia","Plurinational State of Bolivia","BL","BO","BOL",68,-17,-65,"South America",588.75,1240.4880000000001,942.25810000000001,634.07849999999996,426.27800000000002,588.75,4.6100000000000003,7.3745933119281321E-2,{"$f":"IF(ISNUMBER(MATCH(B24,'Grid EFs'!$B$4:$B$157,0)),\"\",\"*\")","v":"*"},{"$f":"VLOOKUP(B24,'Wind Capacity Factor'!$B$6:$L$276,8,FALSE)","v":0.23637861684516193},{"$f":"IF(INDEX('Wind Capacity Factor'!$A$6:$B$258,MATCH('Country Parameters'!B24,'Wind Capacity Factor'!$B$6:$B$258,0),1)=\"*\",\"*\",\"\")","v":"*"}]
[null,"Bosnia and Herzegovina","Bosnia and Herzegovina","BK","BA","BIH",70,44,18,"Europe",973.15,1395.2871,765.82140000000004,694.42309999999998,973.81259999999997,973.15,3.43,7.0304641404584214E-2,{"$f":"IF(ISNUMBER(MATCH(B25,'Grid EFs'!$B$4:$B$157,0)),\"\",\"*\")","v":""},{"$f":"VLOOKUP(B25,'Wind Capacity Factor'!$B$6:$L$276,8,FALSE)","v":0.22185234633472933},{"$f":"IF(INDEX('Wind Capacity Factor'!$A$6:$B$258,MATCH('Country Parameters'!B25,'Wind Capacity Factor'!$B$6:$B$258,0),1)=\"*\",\"*\",\"\")","v":"*"}]
[null,"Botswana","Republic of Botswana","BC","BW","BWA",72,-22,24,"Africa",720.02358500000003,1478.836,833.97270000000003,456.774,1478.836,720.02358500000003,5.87,7.571494692664206E-2,{"$f":"IF(ISNUMBER(MATCH(B26,'Grid EFs'!$B$4:$B$157,0)),\"\",\"*\")","v":""},{"$f":"VLOOKUP(B26,'Wind Capacity Factor'!$B$6:$L$276,8,FALSE)","v":0.24610688499118938},{"$f":"IF(INDEX('Wind Capacity Factor'!$A$6:$B$258,MATCH('Country Parameters'!B26,'Wind Capacity Factor'!$B$6:$B$258,0),1)=\"*\",\"*\",\"\")","v":"*"}]
[null,"Brazil","Federative Republic of Brazil","BR","BR","BRA",76,-10,-55,"South America",292.37793200000033,1409.4494,726.96900000000005,428.30650000000003,98.173900000000003,292.37793200000033,4.87,8.9500586040335006E-2,{"$f":"IF(ISNUMBER(MATCH(B27,'Grid EFs'!$B$4:$B$157,0)),\"\",\"*\")","v":"*"},{"$f":"VLOOKUP(B27,'Wind Capacity Factor'!$B$6:$L$276,8,FALSE)","v":0.22985806150910693},{"$f":"IF(INDEX('Wind Capacity Factor'!$A$6:$B$258,MATCH('Country Parameters'!B27,'Wind Capacity Factor'!$B$6:$B$258,0),1)=\"*\",\"*\",\"\")","v":""}]
[null,"Brunei Darussalam","Brunei Darussalam","BX","BN","BRN",96,4.5,114.66670000000001,"Asia",846.53392083466008,1144.2709,858.10810000000004,721.75040000000001,722.66690000000006,846.53392083466008,5.65,6.0705841105028524E-2,{"$f":"IF(ISNUMBER(MATCH(B28,'Grid EFs'!$B$4:$B$157,0)),\"\",\"*\")","v":""},{"$f":"VLOOKUP(B28,'Wind Capacity Factor'!$B$6:$L$276,8,FALSE)","v":0.18500946185704334},{"$f":"IF(INDEX('Wind Capacity Factor'!$A$6:$B$258,MATCH('Country Parameters'!B28,'Wind Capacity Factor'!$B$6:$B$258,0),1)=\"*\",\"*\",\"\")","v":"*"}]
[null,"Bulgaria","Republic of Bulgaria","BU","BG","BGR",100,43,25,"Europe",531.69439999999997,1042.7764,782.32849999999996,311.90859999999998,531.69439999999997,"N/A",3.78,6.7275341301240382E-2,{"$f":"IF(ISNUMBER(MATCH(B29,'Grid EFs'!$B$4:$B$157,0)),\"\",\"*\")","v":""},{"$f":"VLOOKUP(B29,'Wind Capacity Factor'!$B$6:$L$276,8,FALSE)","v":0.20680053656355429},{"$f":"IF(INDEX('Wind Capacity Factor'!$A$6:$B$258,MATCH('Country Parameters'!B29,'Wind Capacity Factor'!$B$6:$B$258,0),1)=\"*\",\"*\",\"\")","v":""}]
[null,"Burkina Faso","Burkina Faso","UV","BF","BFA",854,13,-2,"Africa",470.62499999999994,974.53949999999998,833.97270000000003,456.774,597.66229999999996,470.62499999999994,5.95,7.571494692664206E-2,{"$f":"IF(ISNUMBER(MATCH(B30,'Grid EFs'!$B$4:$B$157,0)),\"\",\"*\")","v":""},{"$f":"VLOOKUP(B30,'Wind Capacity Factor'!$B$6:$L$276,8,FALSE)","v":0.24610688499118938},{"$f":"IF(INDEX('Wind Capacity Factor'!$A$6:$B$258,MATCH('Country Parameters'!B30,'Wind Capacity Factor'!$B$6:$B$258,0),1)=\"*\",\"*\",\"\")","v":"*"}]
[null,"Burma","Union of Burma","BM",null,null,null,20,96,"Asia",394.8,939.99220000000003,809.33330000000001,724.95759999999996,216.20570000000001,394.8,5.14,0.10284541921067245,{"$f":"IF(ISNUMBER(MATCH(B31,'Grid EFs'!$B$4:$B$157,0)),\"\",\"*\")","v":""},{"$f":"VLOOKUP(B31,'Wind Capacity Factor'!$B$6:$L$276,8,FALSE)","v":0.18500946185704334},{"$f":"IF(INDEX('Wind Capacity Factor'!$A$6:$B$258,MATCH('Country Parameters'!B31,'Wind Capacity Factor'!$B$6:$B$258,0),1)=\"*\",\"*\",\"\")","v":"*"}]
[null,"Burundi","Republic of Burundi","BY","BI","BDI",108,-3.5,30,"Africa",720.02358500000003,974.53949999999998,833.97270000000003,456.774,597.66229999999996,720.02358500000003,5.05,7.571494692664206E-2,{"$f":"IF(ISNUMBER(MATCH(B32,'Grid EFs'!$B$4:$B$157,0)),\"\",\"*\")","v":""},{"$f":"VLOOKUP(B32,'Wind Capacity Factor'!$B$6:$L$276,8,FALSE)","v":0.24610688499118938},{"$f":"IF(INDEX('Wind Capacity Factor'!$A$6:$B$258,MATCH('Country Parameters'!B32,'Wind Capacity Factor'!$B$6:$B$258,0),1)=\"*\",\"*\",\"\")","v":"*"}]
[null,"Cambodia","Kingdom of Cambodia","CB","KH","KHM",116,13,105,"Asia",585.86,1062.6486,839.21820000000002,451.97480000000002,528.95960000000002,585.86,5.27,0.10295623418100149,{"$f":"IF(ISNUMBER(MATCH(B33,'Grid EFs'!$B$4:$B$157,0)),\"\",\"*\")","v":""},{"$f":"VLOOKUP(B33,'Wind Capacity Factor'!$B$6:$L$276,8,FALSE)","v":0.18500946185704334},{"$f":"IF(INDEX('Wind Capacity Factor'!$A$6:$B$258,MATCH('Country Parameters'!B33,'Wind Capacity Factor'!$B$6:$B$258,0),1)=\"*\",\"*\",\"\")","v":"*"}]
[null,"Cameroon","Republic of Cameroon","CM","CM","CMR",120,6,12,"Africa",390,974.53949999999998,859.74220000000003,537.85019999999997,208.59460000000001,390,5.65,6.8913922466941349E-2,{"$f":"IF(ISNUMBER(MATCH(B34,'Grid EFs'!$B$4:$B$157,0)),\"\",\"*\")","v":""},{"$f":"VLOOKUP(B34,'Wind Capacity Factor'!$B$6:$L$276,8,FALSE)","v":0.24610688499118938},{"$f":"IF(INDEX('Wind Capacity Factor'!$A$6:$B$258,MATCH('Country Parameters'!B34,'Wind Capacity Factor'!$B$6:$B$258,0),1)=\"*\",\"*\",\"\")","v":"*"}]
[null,"Canada","Canada","CA","CA","CAN",124,60,-95,"North America",150.88890000000001,900.98339999999996,882.01819999999998,475.46699999999998,150.88890000000001,"N/A",2.87,6.4650871431311707E-2,{"$f":"IF(ISNUMBER(MATCH(B35,'Grid EFs'!$B$4:$B$157,0)),\"\",\"*\")","v":""},{"$f":"VLOOKUP(B35,'Wind Capacity Factor'!$B$6:$L$276,8,FALSE)","v":0.20824127264692882},{"$f":"IF(INDEX('Wind Capacity Factor'!$A$6:$B$258,MATCH('Country Parameters'!B35,'Wind Capacity Factor'!$B$6:$B$258,0),1)=\"*\",\"*\",\"\")","v":""}]
[null,"Cape Verde","Republic of Cape Verde","CV","CV","CPV",132,16,-24,"Africa",654.90000000000009,974.53949999999998,833.97270000000003,456.774,597.66229999999996,654.90000000000009,5.9,7.571494692664206E-2,{"$f":"IF(ISNUMBER(MATCH(B36,'Grid EFs'!$B$4:$B$157,0)),\"\",\"*\")","v":""},{"$f":"VLOOKUP(B36,'Wind Capacity Factor'!$B$6:$L$276,8,FALSE)","v":0.24610688499118938},{"$f":"IF(INDEX('Wind Capacity Factor'!$A$6:$B$258,MATCH('Country Parameters'!B36,'Wind Capacity Factor'!$B$6:$B$258,0),1)=\"*\",\"*\",\"\")","v":"*"}]
[null,"Central African Republic","Central African Republic","CT","CF","CAF",140,7,21,"Africa",720.02358500000003,974.53949999999998,833.97270000000003,456.774,597.66229999999996,720.02358500000003,5.69,7.571494692664206E-2,{"$f":"IF(ISNUMBER(MATCH(B37,'Grid EFs'!$B$4:$B$157,0)),\"\",\"*\")","v":""},{"$f":"VLOOKUP(B37,'Wind Capacity Factor'!$B$6:$L$276,8,FALSE)","v":0.24610688499118938},{"$f":"IF(INDEX('Wind Capacity Factor'!$A$6:$B$258,MATCH('Country Parameters'!B37,'Wind Capacity Factor'!$B$6:$B$258,0),1)=\"*\",\"*\",\"\")","v":"*"}]
[null,"Chad","Republic of Chad","CD","TD","TCD",148,15,19,"Africa",720.02358500000003,974.53949999999998,833.97270000000003,456.774,597.66229999999996,720.02358500000003,6.64,7.571494692664206E-2,{"$f":"IF(ISNUMBER(MATCH(B38,'Grid EFs'!$B$4:$B$157,0)),\"\",\"*\")","v":""},{"$f":"VLOOKUP(B38,'Wind Capacity Factor'!$B$6:$L$276,8,FALSE)","v":0.24610688499118938},{"$f":"IF(INDEX('Wind Capacity Factor'!$A$6:$B$258,MATCH('Country Parameters'!B38,'Wind Capacity Factor'!$B$6:$B$258,0),1)=\"*\",\"*\",\"\")","v":"*"}]
[null,"Chile","Republic of Chile","CI","CL","CHL",152,-30,-71,"South America",598.5909591836737,868.79169999999999,984.12059999999997,438.09780000000001,482.97699999999998,598.5909591836737,5.59,6.008554031852776E-2,{"$f":"IF(ISNUMBER(MATCH(B39,'Grid EFs'!$B$4:$B$157,0)),\"\",\"*\")","v":""},{"$f":"VLOOKUP(B39,'Wind Capacity Factor'!$B$6:$L$276,8,FALSE)","v":0.2277536473994877},{"$f":"IF(INDEX('Wind Capacity Factor'!$A$6:$B$258,MATCH('Country Parameters'!B39,'Wind Capacity Factor'!$B$6:$B$258,0),1)=\"*\",\"*\",\"\")","v":""}]
[null,"China","People's Republic of China","CH","CN","CHN",156,35,105,"Asia",850.280479512748,948.2106,755.21159999999998,508.38440000000003,734.28530000000001,850.280479512748,4.28,5.3072478000304985E-2,{"$f":"IF(ISNUMBER(MATCH(B40,'Grid EFs'!$B$4:$B$157,0)),\"\",\"*\")","v":"*"},{"$f":"VLOOKUP(B40,'Wind Capacity Factor'!$B$6:$L$276,8,FALSE)","v":0.17961299498465455},{"$f":"IF(INDEX('Wind Capacity Factor'!$A$6:$B$258,MATCH('Country Parameters'!B40,'Wind Capacity Factor'!$B$6:$B$258,0),1)=\"*\",\"*\",\"\")","v":""}]
[null,"Colombia","Republic of Colombia","CO","CO","COL",170,4,-72,"South America",333.13090909090914,959.6617,921.27110000000005,451.85820000000001,122.7676,333.13090909090914,4.8600000000000003,8.2565240146690311E-2,{"$f":"IF(ISNUMBER(MATCH(B41,'Grid EFs'!$B$4:$B$157,0)),\"\",\"*\")","v":"*"},{"$f":"VLOOKUP(B41,'Wind Capacity Factor'!$B$6:$L$276,8,FALSE)","v":0.32197634937360964},{"$f":"IF(INDEX('Wind Capacity Factor'!$A$6:$B$258,MATCH('Country Parameters'!B41,'Wind Capacity Factor'!$B$6:$B$258,0),1)=\"*\",\"*\",\"\")","v":""}]
[null,"Comoros","Union of the Comoros","CN","KM","COM",174,-12.166700000000001,44.25,"Africa",720.02358500000003,974.53949999999998,833.97270000000003,456.774,597.66229999999996,720.02358500000003,6.22,7.571494692664206E-2,{"$f":"IF(ISNUMBER(MATCH(B42,'Grid EFs'!$B$4:$B$157,0)),\"\",\"*\")","v":""},{"$f":"VLOOKUP(B42,'Wind Capacity Factor'!$B$6:$L$276,8,FALSE)","v":0.24610688499118938},{"$f":"IF(INDEX('Wind Capacity Factor'!$A$6:$B$258,MATCH('Country Parameters'!B42,'Wind Capacity Factor'!$B$6:$B$258,0),1)=\"*\",\"*\",\"\")","v":"*"}]
[null,"Congo","Republic of the Congo","CF","CG","COG",178,-1,15,"Africa",720.02358500000003,974.53949999999998,1058.4444000000001,584.13869999999997,229.9598,720.02358500000003,4.8600000000000003,0.16409249290783473,{"$f":"IF(ISNUMBER(MATCH(B43,'Grid EFs'!$B$4:$B$157,0)),\"\",\"*\")","v":""},{"$f":"VLOOKUP(B43,'Wind Capacity Factor'!$B$6:$L$276,8,FALSE)","v":0.24610688499118938},{"$f":"IF(INDEX('Wind Capacity Factor'!$A$6:$B$258,MATCH('Country Parameters'!B43,'Wind Capacity Factor'!$B$6:$B$258,0),1)=\"*\",\"*\",\"\")","v":"*"}]
[null,"Congo, Democratic Republic","Democratic Republic of the Congo","CG","CD","COD",180,0,25,"Africa",720.02358500000003,974.53949999999998,1058.1667,573.20690000000002,2.8837999999999999,720.02358500000003,4.8,5.4988988608486125E-2,{"$f":"IF(ISNUMBER(MATCH(B44,'Grid EFs'!$B$4:$B$157,0)),\"\",\"*\")","v":""},{"$f":"VLOOKUP(B44,'Wind Capacity Factor'!$B$6:$L$276,8,FALSE)","v":0.24610688499118938},{"$f":"IF(INDEX('Wind Capacity Factor'!$A$6:$B$258,MATCH('Country Parameters'!B44,'Wind Capacity Factor'!$B$6:$B$258,0),1)=\"*\",\"*\",\"\")","v":"*"}]
[null,"Costa Rica","Republic of Costa Rica","CS","CR","CRI",188,10,-84,"North America",280.52307692307693,1240.4880000000001,666.34820000000002,502.83659999999998,54.355699999999999,280.52307692307693,4.1500000000000004,7.2176076836942007E-2,{"$f":"IF(ISNUMBER(MATCH(B45,'Grid EFs'!$B$4:$B$157,0)),\"\",\"*\")","v":"*"},{"$f":"VLOOKUP(B45,'Wind Capacity Factor'!$B$6:$L$276,8,FALSE)","v":0.40670696762982272},{"$f":"IF(INDEX('Wind Capacity Factor'!$A$6:$B$258,MATCH('Country Parameters'!B45,'Wind Capacity Factor'!$B$6:$B$258,0),1)=\"*\",\"*\",\"\")","v":""}]
[null,"Côte d'Ivoire","Republic of Côte d'Ivoire","IV","CI","CIV",384,8,-5,"Africa",634.44999999999993,974.53949999999998,928.70090000000005,642.93790000000001,490.38060000000002,634.44999999999993,5.0999999999999996,9.7900354249586069E-2,{"$f":"IF(ISNUMBER(MATCH(B46,'Grid EFs'!$B$4:$B$157,0)),\"\",\"*\")","v":""},{"$f":"VLOOKUP(B46,'Wind Capacity Factor'!$B$6:$L$276,8,FALSE)","v":0.24610688499118938},{"$f":"IF(INDEX('Wind Capacity Factor'!$A$6:$B$258,MATCH('Country Parameters'!B46,'Wind Capacity Factor'!$B$6:$B$258,0),1)=\"*\",\"*\",\"\")","v":"*"}]
[null,"Croatia","Republic of Croatia","HR","HR","HRV",191,45.166699999999999,15.5,"Europe",311.06299999999999,868.73990000000003,638.58630000000005,365.64839999999998,311.06299999999999,"N/A",3.54,8.7756785661199613E-2,{"$f":"IF(ISNUMBER(MATCH(B47,'Grid EFs'!$B$4:$B$157,0)),\"\",\"*\")","v":""},{"$f":"VLOOKUP(B47,'Wind Capacity Factor'!$B$6:$L$276,8,FALSE)","v":0.20865043125317095},{"$f":"IF(INDEX('Wind Capacity Factor'!$A$6:$B$258,MATCH('Country Parameters'!B47,'Wind Capacity Factor'!$B$6:$B$258,0),1)=\"*\",\"*\",\"\")","v":""}]
[null,"Cuba","Republic of Cuba","CU","CU","CUB",192,21.5,-80,"North America",873.5,1240.4880000000001,989.4932,502.23230000000001,897.25570000000005,873.5,5.05,8.7291441760489002E-2,{"$f":"IF(ISNUMBER(MATCH(B48,'Grid EFs'!$B$4:$B$157,0)),\"\",\"*\")","v":"*"},{"$f":"VLOOKUP(B48,'Wind Capacity Factor'!$B$6:$L$276,8,FALSE)","v":0.16586660422276861},{"$f":"IF(INDEX('Wind Capacity Factor'!$A$6:$B$258,MATCH('Country Parameters'!B48,'Wind Capacity Factor'!$B$6:$B$258,0),1)=\"*\",\"*\",\"\")","v":""}]
[null,"Cyprus","Republic of Cyprus","CY","CY","CYP",196,35,33,"Europe",798.22,919.05070000000001,768.14729999999997,527.41980000000001,726.29570000000001,798.22,5.19,3.4014957464301235E-2,{"$f":"IF(ISNUMBER(MATCH(B49,'Grid EFs'!$B$4:$B$157,0)),\"\",\"*\")","v":""},{"$f":"VLOOKUP(B49,'Wind Capacity Factor'!$B$6:$L$276,8,FALSE)","v":0.143664771844811},{"$f":"IF(INDEX('Wind Capacity Factor'!$A$6:$B$258,MATCH('Country Parameters'!B49,'Wind Capacity Factor'!$B$6:$B$258,0),1)=\"*\",\"*\",\"\")","v":""}]
[null,"Czech Republic","Czech Republic","EZ","CZ","CZE",203,49.75,15.5,"Europe",551.84950000000003,1008.5516,925.98440000000005,419.25749999999999,551.84950000000003,"N/A",2.84,4.5793323849111701E-2,{"$f":"IF(ISNUMBER(MATCH(B50,'Grid EFs'!$B$4:$B$157,0)),\"\",\"*\")","v":""},{"$f":"VLOOKUP(B50,'Wind Capacity Factor'!$B$6:$L$276,8,FALSE)","v":0.18264840182648404},{"$f":"IF(INDEX('Wind Capacity Factor'!$A$6:$B$258,MATCH('Country Parameters'!B50,'Wind Capacity Factor'!$B$6:$B$258,0),1)=\"*\",\"*\",\"\")","v":""}]
[null,"Denmark","Kingdom of Denmark","DA","DK","DNK",208,56,10,"Europe",257.26420000000002,579.9076,602.43290000000002,270.12759999999997,257.26420000000002,"N/A",2.91,5.5707210593762352E-2,{"$f":"IF(ISNUMBER(MATCH(B51,'Grid EFs'!$B$4:$B$157,0)),\"\",\"*\")","v":""},{"$f":"VLOOKUP(B51,'Wind Capacity Factor'!$B$6:$L$276,8,FALSE)","v":0.28168535060637773},{"$f":"IF(INDEX('Wind Capacity Factor'!$A$6:$B$258,MATCH('Country Parameters'!B51,'Wind Capacity Factor'!$B$6:$B$258,0),1)=\"*\",\"*\",\"\")","v":""}]
[null,"Djibouti","Republic of Djibouti","DJ","DJ","DJI",262,11.5,43,"Africa",720.02358500000003,974.53949999999998,833.97270000000003,456.774,597.66229999999996,720.02358500000003,6.05,7.571494692664206E-2,{"$f":"IF(ISNUMBER(MATCH(B52,'Grid EFs'!$B$4:$B$157,0)),\"\",\"*\")","v":""},{"$f":"VLOOKUP(B52,'Wind Capacity Factor'!$B$6:$L$276,8,FALSE)","v":0.24610688499118938},{"$f":"IF(INDEX('Wind Capacity Factor'!$A$6:$B$258,MATCH('Country Parameters'!B52,'Wind Capacity Factor'!$B$6:$B$258,0),1)=\"*\",\"*\",\"\")","v":"*"}]
[null,"Dominica","Commonwealth of Dominica","DO","DM","DMA",212,15.416700000000001,-61.333300000000001,"North America",472.44098150782378,1240.4880000000001,671.35590000000002,502.83659999999998,200.8047,472.44098150782378,5.97,5.7679364750868239E-2,{"$f":"IF(ISNUMBER(MATCH(B53,'Grid EFs'!$B$4:$B$157,0)),\"\",\"*\")","v":"*"},{"$f":"VLOOKUP(B53,'Wind Capacity Factor'!$B$6:$L$276,8,FALSE)","v":0.23637861684516193},{"$f":"IF(INDEX('Wind Capacity Factor'!$A$6:$B$258,MATCH('Country Parameters'!B53,'Wind Capacity Factor'!$B$6:$B$258,0),1)=\"*\",\"*\",\"\")","v":"*"}]
[null,"Dominican Republic","Dominican Republic","DR","DO","DOM",214,19,-70.666700000000006,"North America",637.8599999999999,953.69870000000003,616.92409999999995,458.23329999999999,555.25109999999995,637.8599999999999,5.0999999999999996,7.7815670694859229E-2,{"$f":"IF(ISNUMBER(MATCH(B54,'Grid EFs'!$B$4:$B$157,0)),\"\",\"*\")","v":"*"},{"$f":"VLOOKUP(B54,'Wind Capacity Factor'!$B$6:$L$276,8,FALSE)","v":0.3493842534938425},{"$f":"IF(INDEX('Wind Capacity Factor'!$A$6:$B$258,MATCH('Country Parameters'!B54,'Wind Capacity Factor'!$B$6:$B$258,0),1)=\"*\",\"*\",\"\")","v":""}]
[null,"Ecuador","Republic of Ecuador","EC","EC","ECU",218,-2,-77.5,"South America",566.77962962962954,1240.4880000000001,752.96360000000004,490.99270000000001,313.02069999999998,566.77962962962954,3.75,8.7447715846942081E-2,{"$f":"IF(ISNUMBER(MATCH(B55,'Grid EFs'!$B$4:$B$157,0)),\"\",\"*\")","v":"*"},{"$f":"VLOOKUP(B55,'Wind Capacity Factor'!$B$6:$L$276,8,FALSE)","v":0.23637861684516193},{"$f":"IF(INDEX('Wind Capacity Factor'!$A$6:$B$258,MATCH('Country Parameters'!B55,'Wind Capacity Factor'!$B$6:$B$258,0),1)=\"*\",\"*\",\"\")","v":"*"}]
[null,"Egypt","Arab Republic of Egypt","EG","EG","EGY",818,27,30,"Africa",532.76666666666677,974.53949999999998,834.98019999999997,418.28910000000002,443.76,532.76666666666677,6.05,7.0400638981562028E-2,{"$f":"IF(ISNUMBER(MATCH(B56,'Grid EFs'!$B$4:$B$157,0)),\"\",\"*\")","v":""},{"$f":"VLOOKUP(B56,'Wind Capacity Factor'!$B$6:$L$276,8,FALSE)","v":0.26151930261519302},{"$f":"IF(INDEX('Wind Capacity Factor'!$A$6:$B$258,MATCH('Country Parameters'!B56,'Wind Capacity Factor'!$B$6:$B$258,0),1)=\"*\",\"*\",\"\")","v":""}]
[null,"El Salvador","Republic of El Salvador","ES","SV","SLV",222,13.833299999999999,-88.916700000000006,"North America",678.41428571428571,1240.4880000000001,662.95349999999996,502.83659999999998,238.35130000000001,678.41428571428571,5.28,7.4692994471491109E-2,{"$f":"IF(ISNUMBER(MATCH(B57,'Grid EFs'!$B$4:$B$157,0)),\"\",\"*\")","v":"*"},{"$f":"VLOOKUP(B57,'Wind Capacity Factor'!$B$6:$L$276,8,FALSE)","v":0.23637861684516193},{"$f":"IF(INDEX('Wind Capacity Factor'!$A$6:$B$258,MATCH('Country Parameters'!B57,'Wind Capacity Factor'!$B$6:$B$258,0),1)=\"*\",\"*\",\"\")","v":"*"}]
[null,"Equatorial Guinea","Republic of Equatorial Guinea","EK","GQ","GNQ",226,2,10,"Africa",720.02358500000003,974.53949999999998,833.97270000000003,456.774,597.66229999999996,720.02358500000003,4.3499999999999996,7.571494692664206E-2,{"$f":"IF(ISNUMBER(MATCH(B58,'Grid EFs'!$B$4:$B$157,0)),\"\",\"*\")","v":""},{"$f":"VLOOKUP(B58,'Wind Capacity Factor'!$B$6:$L$276,8,FALSE)","v":0.24610688499118938},{"$f":"IF(INDEX('Wind Capacity Factor'!$A$6:$B$258,MATCH('Country Parameters'!B58,'Wind Capacity Factor'!$B$6:$B$258,0),1)=\"*\",\"*\",\"\")","v":"*"}]
[null,"Eritrea","State of Eritrea","ER","ER","ERI",232,15,39,"Africa",720.02358500000003,974.53949999999998,854.09799999999996,456.774,849.33979999999997,720.02358500000003,5.48,8.320590989926839E-2,{"$f":"IF(ISNUMBER(MATCH(B59,'Grid EFs'!$B$4:$B$157,0)),\"\",\"*\")","v":""},{"$f":"VLOOKUP(B59,'Wind Capacity Factor'!$B$6:$L$276,8,FALSE)","v":0.24610688499118938},{"$f":"IF(INDEX('Wind Capacity Factor'!$A$6:$B$258,MATCH('Country Parameters'!B59,'Wind Capacity Factor'!$B$6:$B$258,0),1)=\"*\",\"*\",\"\")","v":"*"}]
[null,"Estonia","Republic of Estonia","EN","EE","EST",233,59,26,"Europe",911.99310000000003,1050.2034000000001,840.80529999999999,240.0607,911.99310000000003,"N/A",2.82,6.1741215301746567E-2,{"$f":"IF(ISNUMBER(MATCH(B60,'Grid EFs'!$B$4:$B$157,0)),\"\",\"*\")","v":""},{"$f":"VLOOKUP(B60,'Wind Capacity Factor'!$B$6:$L$276,8,FALSE)","v":0.18417613009454939},{"$f":"IF(INDEX('Wind Capacity Factor'!$A$6:$B$258,MATCH('Country Parameters'!B60,'Wind Capacity Factor'!$B$6:$B$258,0),1)=\"*\",\"*\",\"\")","v":""}]
[null,"Ethiopia","Federal Democratic Republic of Ethiopia","ET","ET","ETH",231,8,38,"Africa",3.4615E-2,974.53949999999998,1111.2750000000001,456.774,6.6345000000000001,3.4615E-2,5.81,9.0737612181809923E-2,{"$f":"IF(ISNUMBER(MATCH(B61,'Grid EFs'!$B$4:$B$157,0)),\"\",\"*\")","v":""},{"$f":"VLOOKUP(B61,'Wind Capacity Factor'!$B$6:$L$276,8,FALSE)","v":0.24610688499118938},{"$f":"IF(INDEX('Wind Capacity Factor'!$A$6:$B$258,MATCH('Country Parameters'!B61,'Wind Capacity Factor'!$B$6:$B$258,0),1)=\"*\",\"*\",\"\")","v":"*"}]
[null,"Fiji","Republic of Fiji","FJ","FJ","FJI",242,-18,175,"Oceana",596.49999999999989,1144.2709,843.06479999999999,451.97480000000002,736.13379999999995,596.49999999999989,5.47,5.2001785658027835E-2,{"$f":"IF(ISNUMBER(MATCH(B62,'Grid EFs'!$B$4:$B$157,0)),\"\",\"*\")","v":""},{"$f":"VLOOKUP(B62,'Wind Capacity Factor'!$B$6:$L$276,8,FALSE)","v":0.22831050228310504},{"$f":"IF(INDEX('Wind Capacity Factor'!$A$6:$B$258,MATCH('Country Parameters'!B62,'Wind Capacity Factor'!$B$6:$B$258,0),1)=\"*\",\"*\",\"\")","v":""}]
[null,"Finland","Republic of Finland","FI","FI","FIN",246,64,26,"Europe",134.1499,661.47760000000005,570.2242,241.48099999999999,134.1499,"N/A",2.48,3.487435012324297E-2,{"$f":"IF(ISNUMBER(MATCH(B63,'Grid EFs'!$B$4:$B$157,0)),\"\",\"*\")","v":""},{"$f":"VLOOKUP(B63,'Wind Capacity Factor'!$B$6:$L$276,8,FALSE)","v":0.19580796549974636},{"$f":"IF(INDEX('Wind Capacity Factor'!$A$6:$B$258,MATCH('Country Parameters'!B63,'Wind Capacity Factor'!$B$6:$B$258,0),1)=\"*\",\"*\",\"\")","v":""}]
[null,"France","French Republic","FR","FR","FRA",250,46,2,"Europe",69.254199999999997,1046.1799000000001,623.31330000000003,457.6925,69.254199999999997,"N/A",3.34,5.5384649184760749E-2,{"$f":"IF(ISNUMBER(MATCH(B64,'Grid EFs'!$B$4:$B$157,0)),\"\",\"*\")","v":""},{"$f":"VLOOKUP(B64,'Wind Capacity Factor'!$B$6:$L$276,8,FALSE)","v":0.22399963950973328},{"$f":"IF(INDEX('Wind Capacity Factor'!$A$6:$B$258,MATCH('Country Parameters'!B64,'Wind Capacity Factor'!$B$6:$B$258,0),1)=\"*\",\"*\",\"\")","v":""}]
[null,"Gabon","Gabonese Republic","GB","GA","GAB",266,-1,11.75,"Africa",360.3,974.53949999999998,714.58309999999994,763.5163,436.12560000000002,360.3,4.55,9.526458561652712E-2,{"$f":"IF(ISNUMBER(MATCH(B65,'Grid EFs'!$B$4:$B$157,0)),\"\",\"*\")","v":""},{"$f":"VLOOKUP(B65,'Wind Capacity Factor'!$B$6:$L$276,8,FALSE)","v":0.24610688499118938},{"$f":"IF(INDEX('Wind Capacity Factor'!$A$6:$B$258,MATCH('Country Parameters'!B65,'Wind Capacity Factor'!$B$6:$B$258,0),1)=\"*\",\"*\",\"\")","v":"*"}]
[null,"Gambia, The","Republic of The Gambia","GA","GM","GMB",270,13.466699999999999,-16.566700000000001,"Africa",720.02358500000003,974.53949999999998,833.97270000000003,456.774,597.66229999999996,720.02358500000003,5.75,7.571494692664206E-2,{"$f":"IF(ISNUMBER(MATCH(B66,'Grid EFs'!$B$4:$B$157,0)),\"\",\"*\")","v":""},{"$f":"VLOOKUP(B66,'Wind Capacity Factor'!$B$6:$L$276,8,FALSE)","v":0.24610688499118938},{"$f":"IF(INDEX('Wind Capacity Factor'!$A$6:$B$258,MATCH('Country Parameters'!B66,'Wind Capacity Factor'!$B$6:$B$258,0),1)=\"*\",\"*\",\"\")","v":"*"}]
[null,"Georgia","Georgia","GG","GE","GEO",268,42,43.5,"Asia",402.46600000000001,919.05070000000001,785.51969999999994,458.91669999999999,117.01309999999999,402.46600000000001,3.77,7.321278244601806E-2,{"$f":"IF(ISNUMBER(MATCH(B67,'Grid EFs'!$B$4:$B$157,0)),\"\",\"*\")","v":""},{"$f":"VLOOKUP(B67,'Wind Capacity Factor'!$B$6:$L$276,8,FALSE)","v":0.22185234633472933},{"$f":"IF(INDEX('Wind Capacity Factor'!$A$6:$B$258,MATCH('Country Parameters'!B67,'Wind Capacity Factor'!$B$6:$B$258,0),1)=\"*\",\"*\",\"\")","v":"*"}]
[null,"Germany","Federal Republic of Germany","GM","DE","DEU",276,51,9,"Europe",475.40809999999999,894.91300000000001,606.77779999999996,331.24009999999998,475.40809999999999,"N/A",2.7,3.6652588492908249E-2,{"$f":"IF(ISNUMBER(MATCH(B68,'Grid EFs'!$B$4:$B$157,0)),\"\",\"*\")","v":""},{"$f":"VLOOKUP(B68,'Wind Capacity Factor'!$B$6:$L$276,8,FALSE)","v":0.18471169009556013},{"$f":"IF(INDEX('Wind Capacity Factor'!$A$6:$B$258,MATCH('Country Parameters'!B68,'Wind Capacity Factor'!$B$6:$B$258,0),1)=\"*\",\"*\",\"\")","v":""}]
[null,"Ghana","Republic of Ghana","GH","GH","GHA",288,8,-2,"Africa",{"$f":"IF(P69=\"N/A\",O69,P69)","v":478.51500000000004},974.53949999999998,869.63149999999996,566.91849999999999,249.44489999999999,478.51500000000004,5.28,0.10121890471249963,{"$f":"IF(ISNUMBER(MATCH(B69,'Grid EFs'!$B$4:$B$157,0)),\"\",\"*\")","v":""},{"$f":"VLOOKUP(B69,'Wind Capacity Factor'!$B$6:$L$276,8,FALSE)","v":0.24610688499118938},{"$f":"IF(INDEX('Wind Capacity Factor'!$A$6:$B$258,MATCH('Country Parameters'!B69,'Wind Capacity Factor'!$B$6:$B$258,0),1)=\"*\",\"*\",\"\")","v":"*"}]
[null,"Greece","Hellenic Republic","GR","GR","GRC",300,39,22,"Europe",684.61030000000005,1024.2320999999999,737.72590000000002,387.5806,684.61030000000005,"N/A",4.16,4.727855578999432E-2,{"$f":"IF(ISNUMBER(MATCH(B70,'Grid EFs'!$B$4:$B$157,0)),\"\",\"*\")","v":""},{"$f":"VLOOKUP(B70,'Wind Capacity Factor'!$B$6:$L$276,8,FALSE)","v":0.25128514402228541},{"$f":"IF(INDEX('Wind Capacity Factor'!$A$6:$B$258,MATCH('Country Parameters'!B70,'Wind Capacity Factor'!$B$6:$B$258,0),1)=\"*\",\"*\",\"\")","v":""}]
[null,"Grenada","Grenada","GJ","GD","GRD",308,12.1167,-61.666699999999999,"North America",472.44098150782378,1240.4880000000001,671.35590000000002,502.83659999999998,200.8047,472.44098150782378,6.21,5.7679364750868239E-2,{"$f":"IF(ISNUMBER(MATCH(B71,'Grid EFs'!$B$4:$B$157,0)),\"\",\"*\")","v":"*"},{"$f":"VLOOKUP(B71,'Wind Capacity Factor'!$B$6:$L$276,8,FALSE)","v":0.23637861684516193},{"$f":"IF(INDEX('Wind Capacity Factor'!$A$6:$B$258,MATCH('Country Parameters'!B71,'Wind Capacity Factor'!$B$6:$B$258,0),1)=\"*\",\"*\",\"\")","v":"*"}]
[null,"Guatemala","Republic of Guatemala","GT","GT","GTM",320,15.5,-90.25,"North America",589.38666666666666,960.22540000000004,640.81590000000006,502.83659999999998,254.23429999999999,589.38666666666666,4.87,8.2606532693671908E-2,{"$f":"IF(ISNUMBER(MATCH(B72,'Grid EFs'!$B$4:$B$157,0)),\"\",\"*\")","v":"*"},{"$f":"VLOOKUP(B72,'Wind Capacity Factor'!$B$6:$L$276,8,FALSE)","v":0.23637861684516193},{"$f":"IF(INDEX('Wind Capacity Factor'!$A$6:$B$258,MATCH('Country Parameters'!B72,'Wind Capacity Factor'!$B$6:$B$258,0),1)=\"*\",\"*\",\"\")","v":"*"}]
[null,"Guinea","Republic of Guinea","GV","GN","GIN",324,11,-10,"Africa",720.02358500000003,974.53949999999998,833.97270000000003,456.774,597.66229999999996,720.02358500000003,5.67,7.571494692664206E-2,{"$f":"IF(ISNUMBER(MATCH(B73,'Grid EFs'!$B$4:$B$157,0)),\"\",\"*\")","v":""},{"$f":"VLOOKUP(B73,'Wind Capacity Factor'!$B$6:$L$276,8,FALSE)","v":0.24610688499118938},{"$f":"IF(INDEX('Wind Capacity Factor'!$A$6:$B$258,MATCH('Country Parameters'!B73,'Wind Capacity Factor'!$B$6:$B$258,0),1)=\"*\",\"*\",\"\")","v":"*"}]
[null,"Guinea-Bissau","Republic of Guinea-Bissau","PU","GW","GNB",624,12,-15,"Africa",720.02358500000003,974.53949999999998,833.97270000000003,456.774,597.66229999999996,720.02358500000003,5.66,7.571494692664206E-2,{"$f":"IF(ISNUMBER(MATCH(B74,'Grid EFs'!$B$4:$B$157,0)),\"\",\"*\")","v":""},{"$f":"VLOOKUP(B74,'Wind Capacity Factor'!$B$6:$L$276,8,FALSE)","v":0.24610688499118938},{"$f":"IF(INDEX('Wind Capacity Factor'!$A$6:$B$258,MATCH('Country Parameters'!B74,'Wind Capacity Factor'!$B$6:$B$258,0),1)=\"*\",\"*\",\"\")","v":"*"}]
[null,"Guyana","Co-operative Republic of Guyana","GY","GY","GUY",328,5,-59,"South America",948.30000000000007,1240.4880000000001,671.35590000000002,502.83659999999998,200.8047,948.30000000000007,4.8899999999999997,8.3808354719636283E-2,{"$f":"IF(ISNUMBER(MATCH(B75,'Grid EFs'!$B$4:$B$157,0)),\"\",\"*\")","v":"*"},{"$f":"VLOOKUP(B75,'Wind Capacity Factor'!$B$6:$L$276,8,FALSE)","v":0.23637861684516193},{"$f":"IF(INDEX('Wind Capacity Factor'!$A$6:$B$258,MATCH('Country Parameters'!B75,'Wind Capacity Factor'!$B$6:$B$258,0),1)=\"*\",\"*\",\"\")","v":"*"}]
[null,"Haiti","Republic of Haiti","HA","HT","HTI",332,19,-72.416700000000006,"North America",472.44098150782378,1240.4880000000001,687.30100000000004,502.83659999999998,591.67650000000003,472.44098150782378,5.47,0.16997056886453349,{"$f":"IF(ISNUMBER(MATCH(B76,'Grid EFs'!$B$4:$B$157,0)),\"\",\"*\")","v":"*"},{"$f":"VLOOKUP(B76,'Wind Capacity Factor'!$B$6:$L$276,8,FALSE)","v":0.23637861684516193},{"$f":"IF(INDEX('Wind Capacity Factor'!$A$6:$B$258,MATCH('Country Parameters'!B76,'Wind Capacity Factor'!$B$6:$B$258,0),1)=\"*\",\"*\",\"\")","v":"*"}]
[null,"Holy See","Holy See","VT","VA","VAT",336,41.9,12.45,"Europe",331.06400000000002,917.48320000000001,690.57929999999999,359.07440000000003,331.06400000000002,"N/A",4.08,5.8109323007447068E-2,{"$f":"IF(ISNUMBER(MATCH(B77,'Grid EFs'!$B$4:$B$157,0)),\"\",\"*\")","v":""},{"$f":"VLOOKUP(B77,'Wind Capacity Factor'!$B$6:$L$276,8,FALSE)","v":0.22185234633472933},{"$f":"IF(INDEX('Wind Capacity Factor'!$A$6:$B$258,MATCH('Country Parameters'!B77,'Wind Capacity Factor'!$B$6:$B$258,0),1)=\"*\",\"*\",\"\")","v":"*"}]
[null,"Honduras","Republic of Honduras","HO","HN","HND",340,15,-86.5,"North America",659.2249999999998,927.07749999999999,637.28480000000002,502.83659999999998,363.47480000000002,659.2249999999998,5.05,0.10999961316374203,{"$f":"IF(ISNUMBER(MATCH(B78,'Grid EFs'!$B$4:$B$157,0)),\"\",\"*\")","v":"*"},{"$f":"VLOOKUP(B78,'Wind Capacity Factor'!$B$6:$L$276,8,FALSE)","v":0.37827916554749752},{"$f":"IF(INDEX('Wind Capacity Factor'!$A$6:$B$258,MATCH('Country Parameters'!B78,'Wind Capacity Factor'!$B$6:$B$258,0),1)=\"*\",\"*\",\"\")","v":""}]
[null,"Hungary","Hungary","HU","HU","HUN",348,47,20,"Europe",314.01240000000001,1085.4237000000001,851.28489999999999,370.63900000000001,314.01240000000001,"N/A",3.42,7.2762088179621043E-2,{"$f":"IF(ISNUMBER(MATCH(B79,'Grid EFs'!$B$4:$B$157,0)),\"\",\"*\")","v":""},{"$f":"VLOOKUP(B79,'Wind Capacity Factor'!$B$6:$L$276,8,FALSE)","v":0.27046013347383208},{"$f":"IF(INDEX('Wind Capacity Factor'!$A$6:$B$258,MATCH('Country Parameters'!B79,'Wind Capacity Factor'!$B$6:$B$258,0),1)=\"*\",\"*\",\"\")","v":""}]
[null,"Iceland","Republic of Iceland","IC","IS","ISL",352,65,-18,"Europe",0.1779,917.48320000000001,1040.6667,359.07440000000003,0.1779,"N/A",2,2.8281817890827204E-2,{"$f":"IF(ISNUMBER(MATCH(B80,'Grid EFs'!$B$4:$B$157,0)),\"\",\"*\")","v":""},{"$f":"VLOOKUP(B80,'Wind Capacity Factor'!$B$6:$L$276,8,FALSE)","v":0.22185234633472933},{"$f":"IF(INDEX('Wind Capacity Factor'!$A$6:$B$258,MATCH('Country Parameters'!B80,'Wind Capacity Factor'!$B$6:$B$258,0),1)=\"*\",\"*\",\"\")","v":"*"}]
[null,"India","Republic of India","IN","IN","IND",356,20,77,"Asia",905.00592497628338,1218.9636,1098.298,440.04199999999997,926.09799999999996,905.00592497628338,5.23,9.4936484643830046E-2,{"$f":"IF(ISNUMBER(MATCH(B81,'Grid EFs'!$B$4:$B$157,0)),\"\",\"*\")","v":""},{"$f":"VLOOKUP(B81,'Wind Capacity Factor'!$B$6:$L$276,8,FALSE)","v":0.17524544525443589},{"$f":"IF(INDEX('Wind Capacity Factor'!$A$6:$B$258,MATCH('Country Parameters'!B81,'Wind Capacity Factor'!$B$6:$B$258,0),1)=\"*\",\"*\",\"\")","v":""}]
[null,"Indonesia","Republic of Indonesia","ID","ID","IDN",360,-5,120,"Asia",777.71475409836069,1111.7001,869.32550000000003,529.69830000000002,809.18769999999995,777.71475409836069,5.05,6.7548430769630338E-2,{"$f":"IF(ISNUMBER(MATCH(B82,'Grid EFs'!$B$4:$B$157,0)),\"\",\"*\")","v":""},{"$f":"VLOOKUP(B82,'Wind Capacity Factor'!$B$6:$L$276,8,FALSE)","v":0.40769732550554472},{"$f":"IF(INDEX('Wind Capacity Factor'!$A$6:$B$258,MATCH('Country Parameters'!B82,'Wind Capacity Factor'!$B$6:$B$258,0),1)=\"*\",\"*\",\"\")","v":""}]
[null,"Iran","Islamic Republic of Iran","IR","IR","IRN",364,32,53,"Asia",672.77,1144.2709,905.75850000000003,473.08449999999999,568.67899999999997,672.77,5.34,8.531177294768473E-2,{"$f":"IF(ISNUMBER(MATCH(B83,'Grid EFs'!$B$4:$B$157,0)),\"\",\"*\")","v":"*"},{"$f":"VLOOKUP(B83,'Wind Capacity Factor'!$B$6:$L$276,8,FALSE)","v":0.23630136986301367},{"$f":"IF(INDEX('Wind Capacity Factor'!$A$6:$B$258,MATCH('Country Parameters'!B83,'Wind Capacity Factor'!$B$6:$B$258,0),1)=\"*\",\"*\",\"\")","v":""}]
[null,"Iraq","Republic of Iraq","IZ","IQ","IRQ",368,33,44,"Asia",679.18018867924513,1144.2709,1945.5879,330.7998,907.31920000000002,679.18018867924513,5.0199999999999996,0.12766128361792253,{"$f":"IF(ISNUMBER(MATCH(B84,'Grid EFs'!$B$4:$B$157,0)),\"\",\"*\")","v":"*"},{"$f":"VLOOKUP(B84,'Wind Capacity Factor'!$B$6:$L$276,8,FALSE)","v":0.22710481994381521},{"$f":"IF(INDEX('Wind Capacity Factor'!$A$6:$B$258,MATCH('Country Parameters'!B84,'Wind Capacity Factor'!$B$6:$B$258,0),1)=\"*\",\"*\",\"\")","v":"*"}]
[null,"Ireland","Ireland","EI","IE","IRL",372,53,-8,"Europe",456.58359999999999,857.84320000000002,710.49,385.3494,456.58359999999999,"N/A",2.42,5.9890561655961128E-2,{"$f":"IF(ISNUMBER(MATCH(B85,'Grid EFs'!$B$4:$B$157,0)),\"\",\"*\")","v":""},{"$f":"VLOOKUP(B85,'Wind Capacity Factor'!$B$6:$L$276,8,FALSE)","v":0.26172816299464013},{"$f":"IF(INDEX('Wind Capacity Factor'!$A$6:$B$258,MATCH('Country Parameters'!B85,'Wind Capacity Factor'!$B$6:$B$258,0),1)=\"*\",\"*\",\"\")","v":""}]
[null,"Israel","State of Israel","IS","IL","ISR",376,31.5,34.75,"Asia",700.81263157894739,851.55619999999999,869.50779999999997,364.53910000000002,766.67169999999999,700.81263157894739,5.19,2.9304993199727951E-2,{"$f":"IF(ISNUMBER(MATCH(B86,'Grid EFs'!$B$4:$B$157,0)),\"\",\"*\")","v":""},{"$f":"VLOOKUP(B86,'Wind Capacity Factor'!$B$6:$L$276,8,FALSE)","v":0.11415525114155249},{"$f":"IF(INDEX('Wind Capacity Factor'!$A$6:$B$258,MATCH('Country Parameters'!B86,'Wind Capacity Factor'!$B$6:$B$258,0),1)=\"*\",\"*\",\"\")","v":""}]
[null,"Italy","Italian Republic","IT","IT","ITA",380,42.833300000000001,12.833299999999999,"Europe",385.04079999999999,900.39570000000003,757.4991,370.93520000000001,385.04079999999999,"N/A",3.75,5.7985703238292274E-2,{"$f":"IF(ISNUMBER(MATCH(B87,'Grid EFs'!$B$4:$B$157,0)),\"\",\"*\")","v":""},{"$f":"VLOOKUP(B87,'Wind Capacity Factor'!$B$6:$L$276,8,FALSE)","v":0.18894808050059195},{"$f":"IF(INDEX('Wind Capacity Factor'!$A$6:$B$258,MATCH('Country Parameters'!B87,'Wind Capacity Factor'!$B$6:$B$258,0),1)=\"*\",\"*\",\"\")","v":""}]
[null,"Jamaica","Jamaica","JM","JM","JAM",388,18.25,-77.5,"North America",783.2,1240.4880000000001,704.72829999999999,502.83659999999998,642.77409999999998,783.2,5.6,0.10257433755508308,{"$f":"IF(ISNUMBER(MATCH(B88,'Grid EFs'!$B$4:$B$157,0)),\"\",\"*\")","v":"*"},{"$f":"VLOOKUP(B88,'Wind Capacity Factor'!$B$6:$L$276,8,FALSE)","v":0.25607152771794794},{"$f":"IF(INDEX('Wind Capacity Factor'!$A$6:$B$258,MATCH('Country Parameters'!B88,'Wind Capacity Factor'!$B$6:$B$258,0),1)=\"*\",\"*\",\"\")","v":""}]
[null,"Japan","Japan","JA","JP","JPN",392,36,138,"Asia",846.53392083466008,908.60310000000004,613.74609999999996,437.642,550.88379999999995,846.53392083466008,3.63,4.1804802630211163E-2,{"$f":"IF(ISNUMBER(MATCH(B89,'Grid EFs'!$B$4:$B$157,0)),\"\",\"*\")","v":""},{"$f":"VLOOKUP(B89,'Wind Capacity Factor'!$B$6:$L$276,8,FALSE)","v":0.21127892311508456},{"$f":"IF(INDEX('Wind Capacity Factor'!$A$6:$B$258,MATCH('Country Parameters'!B89,'Wind Capacity Factor'!$B$6:$B$258,0),1)=\"*\",\"*\",\"\")","v":""}]
[null,"Jordan","Hashemite Kingdom of Jordan","JO","JO","JOR",400,31,36,"Asia",575.23333333333335,1144.2709,670.17309999999998,499.36489999999998,635.61580000000004,575.23333333333335,5.34,8.4241217866165952E-2,{"$f":"IF(ISNUMBER(MATCH(B90,'Grid EFs'!$B$4:$B$157,0)),\"\",\"*\")","v":"*"},{"$f":"VLOOKUP(B90,'Wind Capacity Factor'!$B$6:$L$276,8,FALSE)","v":0.22831050228310498},{"$f":"IF(INDEX('Wind Capacity Factor'!$A$6:$B$258,MATCH('Country Parameters'!B90,'Wind Capacity Factor'!$B$6:$B$258,0),1)=\"*\",\"*\",\"\")","v":""}]
[null,"Kazakhstan","Republic of Kazakhstan","KZ","KZ","KAZ",398,48,68,"Asia",846.53392083466008,491.55970000000002,301.59410000000003,573.98879999999997,460.87490000000003,846.53392083466008,3.83,6.441055862536349E-2,{"$f":"IF(ISNUMBER(MATCH(B91,'Grid EFs'!$B$4:$B$157,0)),\"\",\"*\")","v":""},{"$f":"VLOOKUP(B91,'Wind Capacity Factor'!$B$6:$L$276,8,FALSE)","v":0.17123287671232876},{"$f":"IF(INDEX('Wind Capacity Factor'!$A$6:$B$258,MATCH('Country Parameters'!B91,'Wind Capacity Factor'!$B$6:$B$258,0),1)=\"*\",\"*\",\"\")","v":""}]
[null,"Kenya","Republic of Kenya","KE","KE","KEN",404,1,38,"Africa",582.54153846153838,974.53949999999998,898.12819999999999,456.774,223.17779999999999,582.54153846153838,6.08,9.0117373839958784E-2,{"$f":"IF(ISNUMBER(MATCH(B92,'Grid EFs'!$B$4:$B$157,0)),\"\",\"*\")","v":""},{"$f":"VLOOKUP(B92,'Wind Capacity Factor'!$B$6:$L$276,8,FALSE)","v":0.34246575342465757},{"$f":"IF(INDEX('Wind Capacity Factor'!$A$6:$B$258,MATCH('Country Parameters'!B92,'Wind Capacity Factor'!$B$6:$B$258,0),1)=\"*\",\"*\",\"\")","v":""}]
[null,"Kiribati","Republic of Kiribati","KR","KI","KIR",296,1.4167000000000001,173,"Oceana",736.13379999999995,1144.2709,843.06479999999999,451.97480000000002,736.13379999999995,"N/A",5.96,5.2001785658027835E-2,{"$f":"IF(ISNUMBER(MATCH(B93,'Grid EFs'!$B$4:$B$157,0)),\"\",\"*\")","v":""},{"$f":"VLOOKUP(B93,'Wind Capacity Factor'!$B$6:$L$276,8,FALSE)","v":0.18500946185704334},{"$f":"IF(INDEX('Wind Capacity Factor'!$A$6:$B$258,MATCH('Country Parameters'!B93,'Wind Capacity Factor'!$B$6:$B$258,0),1)=\"*\",\"*\",\"\")","v":"*"}]
[null,"Korea, North","Democratic People's Republic of Korea","KN","KP","PRK",408,40,127,"Asia",911.65,1255.8557000000001,1380.2612999999999,451.97480000000002,378.04820000000001,911.65,4.03,8.7624497301248452E-2,{"$f":"IF(ISNUMBER(MATCH(B94,'Grid EFs'!$B$4:$B$157,0)),\"\",\"*\")","v":""},{"$f":"VLOOKUP(B94,'Wind Capacity Factor'!$B$6:$L$276,8,FALSE)","v":0.18500946185704334},{"$f":"IF(INDEX('Wind Capacity Factor'!$A$6:$B$258,MATCH('Country Parameters'!B94,'Wind Capacity Factor'!$B$6:$B$258,0),1)=\"*\",\"*\",\"\")","v":"*"}]
[null,"Korea, South","Republic of Korea","KS","KR","KOR",410,37,127.5,"Asia",625.37875000000008,924.70600000000002,649.11210000000005,419.58620000000002,540.3365,625.37875000000008,3.88,3.2314563389374634E-2,{"$f":"IF(ISNUMBER(MATCH(B95,'Grid EFs'!$B$4:$B$157,0)),\"\",\"*\")","v":""},{"$f":"VLOOKUP(B95,'Wind Capacity Factor'!$B$6:$L$276,8,FALSE)","v":0.216729534775991},{"$f":"IF(INDEX('Wind Capacity Factor'!$A$6:$B$258,MATCH('Country Parameters'!B95,'Wind Capacity Factor'!$B$6:$B$258,0),1)=\"*\",\"*\",\"\")","v":""}]
[null,"Kosovo","Republic of Kosovo","KV","RS","XKX",null,42,21,"Europe",1026.3259,1040.9362000000001,1110.4793999999999,527.41980000000001,1026.3259,"N/A",3.74,8.9069375133888309E-2,{"$f":"IF(ISNUMBER(MATCH(B96,'Grid EFs'!$B$4:$B$157,0)),\"\",\"*\")","v":""},{"$f":"VLOOKUP(B96,'Wind Capacity Factor'!$B$6:$L$276,8,FALSE)","v":0.22185234633472933},{"$f":"IF(INDEX('Wind Capacity Factor'!$A$6:$B$258,MATCH('Country Parameters'!B96,'Wind Capacity Factor'!$B$6:$B$258,0),1)=\"*\",\"*\",\"\")","v":"*"}]
[null,"Kuwait","State of Kuwait","KU","KW","KWT",414,29.337499999999999,47.658099999999997,"Asia",780,1144.2709,842.09519999999998,573.92409999999995,744.97059999999999,780,5.57,8.1267237119299576E-2,{"$f":"IF(ISNUMBER(MATCH(B97,'Grid EFs'!$B$4:$B$157,0)),\"\",\"*\")","v":"*"},{"$f":"VLOOKUP(B97,'Wind Capacity Factor'!$B$6:$L$276,8,FALSE)","v":0.22710481994381521},{"$f":"IF(INDEX('Wind Capacity Factor'!$A$6:$B$258,MATCH('Country Parameters'!B97,'Wind Capacity Factor'!$B$6:$B$258,0),1)=\"*\",\"*\",\"\")","v":"*"}]
[null,"Kyrgyzstan","Kyrgyz Republic","KG","KG","KGZ",417,41,75,"Asia",846.53392083466008,443.45170000000002,936.13329999999996,448.21289999999999,34.786499999999997,846.53392083466008,4.4000000000000004,0.10150764628784838,{"$f":"IF(ISNUMBER(MATCH(B98,'Grid EFs'!$B$4:$B$157,0)),\"\",\"*\")","v":""},{"$f":"VLOOKUP(B98,'Wind Capacity Factor'!$B$6:$L$276,8,FALSE)","v":0.22185234633472933},{"$f":"IF(INDEX('Wind Capacity Factor'!$A$6:$B$258,MATCH('Country Parameters'!B98,'Wind Capacity Factor'!$B$6:$B$258,0),1)=\"*\",\"*\",\"\")","v":"*"}]
[null,"Laos","Lao People's Democratic Republic","LA","LA","LAO",418,18,105,"Asia",573.90190476190469,1144.2709,843.06479999999999,451.97480000000002,736.13379999999995,573.90190476190469,4.01,5.7300046286854894E-2,{"$f":"IF(ISNUMBER(MATCH(B99,'Grid EFs'!$B$4:$B$157,0)),\"\",\"*\")","v":""},{"$f":"VLOOKUP(B99,'Wind Capacity Factor'!$B$6:$L$276,8,FALSE)","v":0.18500946185704334},{"$f":"IF(INDEX('Wind Capacity Factor'!$A$6:$B$258,MATCH('Country Parameters'!B99,'Wind Capacity Factor'!$B$6:$B$258,0),1)=\"*\",\"*\",\"\")","v":"*"}]
[null,"Latvia","Republic of Latvia","LG","LV","LVA",428,57,25,"Europe",91.083699999999993,919.05070000000001,702.46960000000001,256.64830000000001,91.083699999999993,"N/A",2.91,7.2143457753547496E-2,{"$f":"IF(ISNUMBER(MATCH(B100,'Grid EFs'!$B$4:$B$157,0)),\"\",\"*\")","v":""},{"$f":"VLOOKUP(B100,'Wind Capacity Factor'!$B$6:$L$276,8,FALSE)","v":0.19137792103142626},{"$f":"IF(INDEX('Wind Capacity Factor'!$A$6:$B$258,MATCH('Country Parameters'!B100,'Wind Capacity Factor'!$B$6:$B$258,0),1)=\"*\",\"*\",\"\")","v":""}]
[null,"Lebanon","Lebanese Republic","LE","LB","LBN",422,33.833300000000001,35.833300000000001,"Asia",650,1144.2709,864.34829999999999,547.42639999999994,805.64070000000004,650,4.93,7.4354580078326668E-2,{"$f":"IF(ISNUMBER(MATCH(B101,'Grid EFs'!$B$4:$B$157,0)),\"\",\"*\")","v":"*"},{"$f":"VLOOKUP(B101,'Wind Capacity Factor'!$B$6:$L$276,8,FALSE)","v":0.22710481994381521},{"$f":"IF(INDEX('Wind Capacity Factor'!$A$6:$B$258,MATCH('Country Parameters'!B101,'Wind Capacity Factor'!$B$6:$B$258,0),1)=\"*\",\"*\",\"\")","v":"*"}]
[null,"Lesotho","Kingdom of Lesotho","LT","LS","LSO",426,-29.5,28.5,"Africa",720.02358500000003,974.53949999999998,833.97270000000003,456.774,597.66229999999996,720.02358500000003,5.13,7.571494692664206E-2,{"$f":"IF(ISNUMBER(MATCH(B102,'Grid EFs'!$B$4:$B$157,0)),\"\",\"*\")","v":""},{"$f":"VLOOKUP(B102,'Wind Capacity Factor'!$B$6:$L$276,8,FALSE)","v":0.24610688499118938},{"$f":"IF(INDEX('Wind Capacity Factor'!$A$6:$B$258,MATCH('Country Parameters'!B102,'Wind Capacity Factor'!$B$6:$B$258,0),1)=\"*\",\"*\",\"\")","v":"*"}]
[null,"Liberia","Republic of Liberia","LI","LR","LBR",430,6.5,-9.5,"Africa",720.02358500000003,974.53949999999998,833.97270000000003,456.774,597.66229999999996,720.02358500000003,4.99,7.571494692664206E-2,{"$f":"IF(ISNUMBER(MATCH(B103,'Grid EFs'!$B$4:$B$157,0)),\"\",\"*\")","v":""},{"$f":"VLOOKUP(B103,'Wind Capacity Factor'!$B$6:$L$276,8,FALSE)","v":0.24610688499118938},{"$f":"IF(INDEX('Wind Capacity Factor'!$A$6:$B$258,MATCH('Country Parameters'!B103,'Wind Capacity Factor'!$B$6:$B$258,0),1)=\"*\",\"*\",\"\")","v":"*"}]
[null,"Libya","Libya","LY","LY","LBY",434,25,17,"Africa",793.7,974.53949999999998,858.23180000000002,383.43419999999998,568.60249999999996,793.7,5.89,9.4501315786315487E-2,{"$f":"IF(ISNUMBER(MATCH(B104,'Grid EFs'!$B$4:$B$157,0)),\"\",\"*\")","v":""},{"$f":"VLOOKUP(B104,'Wind Capacity Factor'!$B$6:$L$276,8,FALSE)","v":0.24610688499118938},{"$f":"IF(INDEX('Wind Capacity Factor'!$A$6:$B$258,MATCH('Country Parameters'!B104,'Wind Capacity Factor'!$B$6:$B$258,0),1)=\"*\",\"*\",\"\")","v":"*"}]
[null,"Liechtenstein","Principality of Liechtenstein","LS","LI","LIE",438,47.166699999999999,9.5333000000000006,"Europe",331.06400000000002,917.48320000000001,690.57929999999999,359.07440000000003,331.06400000000002,"N/A",3.34,5.8109323007447068E-2,{"$f":"IF(ISNUMBER(MATCH(B105,'Grid EFs'!$B$4:$B$157,0)),\"\",\"*\")","v":""},{"$f":"VLOOKUP(B105,'Wind Capacity Factor'!$B$6:$L$276,8,FALSE)","v":0.22185234633472933},{"$f":"IF(INDEX('Wind Capacity Factor'!$A$6:$B$258,MATCH('Country Parameters'!B105,'Wind Capacity Factor'!$B$6:$B$258,0),1)=\"*\",\"*\",\"\")","v":"*"}]
[null,"Lithuania","Republic of Lithuania","LH","LT","LTU",440,56,24,"Europe",271.19240000000002,919.05070000000001,916.47770000000003,350.495,271.19240000000002,"N/A",2.87,8.6966897015945344E-2,{"$f":"IF(ISNUMBER(MATCH(B106,'Grid EFs'!$B$4:$B$157,0)),\"\",\"*\")","v":""},{"$f":"VLOOKUP(B106,'Wind Capacity Factor'!$B$6:$L$276,8,FALSE)","v":0.27397260273972601},{"$f":"IF(INDEX('Wind Capacity Factor'!$A$6:$B$258,MATCH('Country Parameters'!B106,'Wind Capacity Factor'!$B$6:$B$258,0),1)=\"*\",\"*\",\"\")","v":""}]
[null,"Luxembourg","Grand Duchy of Luxembourg","LU","LU","LUX",442,49.75,6.1666999999999996,"Europe",340.3408,917.48320000000001,690.57929999999999,357.65460000000002,340.3408,"N/A",2.81,3.0645061061586217E-2,{"$f":"IF(ISNUMBER(MATCH(B107,'Grid EFs'!$B$4:$B$157,0)),\"\",\"*\")","v":""},{"$f":"VLOOKUP(B107,'Wind Capacity Factor'!$B$6:$L$276,8,FALSE)","v":0.14685495429873821},{"$f":"IF(INDEX('Wind Capacity Factor'!$A$6:$B$258,MATCH('Country Parameters'!B107,'Wind Capacity Factor'!$B$6:$B$258,0),1)=\"*\",\"*\",\"\")","v":""}]
[null,"Macedonia, FYR","Former Yugoslav Republic of Macedonia","MK","MK","MKD",807,41.833300000000001,22,"Europe",861.23333333333335,1069.4612,800.75,351.517,853.21860000000004,861.23333333333335,3.79,9.4054826014044579E-2,{"$f":"IF(ISNUMBER(MATCH(B108,'Grid EFs'!$B$4:$B$157,0)),\"\",\"*\")","v":""},{"$f":"VLOOKUP(B108,'Wind Capacity Factor'!$B$6:$L$276,8,FALSE)","v":0.22185234633472933},{"$f":"IF(INDEX('Wind Capacity Factor'!$A$6:$B$258,MATCH('Country Parameters'!B108,'Wind Capacity Factor'!$B$6:$B$258,0),1)=\"*\",\"*\",\"\")","v":"*"}]
[null,"Madagascar","Republic of Madagascar","MA","MG","MDG",450,-20,47,"Africa",600.9,974.53949999999998,833.97270000000003,456.774,597.66229999999996,600.9,5.49,7.571494692664206E-2,{"$f":"IF(ISNUMBER(MATCH(B109,'Grid EFs'!$B$4:$B$157,0)),\"\",\"*\")","v":""},{"$f":"VLOOKUP(B109,'Wind Capacity Factor'!$B$6:$L$276,8,FALSE)","v":0.24610688499118938},{"$f":"IF(INDEX('Wind Capacity Factor'!$A$6:$B$258,MATCH('Country Parameters'!B109,'Wind Capacity Factor'!$B$6:$B$258,0),1)=\"*\",\"*\",\"\")","v":"*"}]
[null,"Malawi","Republic of Malawi","MI","MW","MWI",454,-13.5,34,"Africa",720.02358500000003,974.53949999999998,833.97270000000003,456.774,597.66229999999996,720.02358500000003,5.22,7.571494692664206E-2,{"$f":"IF(ISNUMBER(MATCH(B110,'Grid EFs'!$B$4:$B$157,0)),\"\",\"*\")","v":""},{"$f":"VLOOKUP(B110,'Wind Capacity Factor'!$B$6:$L$276,8,FALSE)","v":0.24610688499118938},{"$f":"IF(INDEX('Wind Capacity Factor'!$A$6:$B$258,MATCH('Country Parameters'!B110,'Wind Capacity Factor'!$B$6:$B$258,0),1)=\"*\",\"*\",\"\")","v":"*"}]
[null,"Malaysia","Malaysia","MY","MY","MYS",458,2.5,112.5,"Asia",670.33902439024416,983.67769999999996,720.28020000000004,494.76960000000003,671.36329999999998,670.33902439024416,5.05,5.5166139611296301E-2,{"$f":"IF(ISNUMBER(MATCH(B111,'Grid EFs'!$B$4:$B$157,0)),\"\",\"*\")","v":""},{"$f":"VLOOKUP(B111,'Wind Capacity Factor'!$B$6:$L$276,8,FALSE)","v":0.18500946185704334},{"$f":"IF(INDEX('Wind Capacity Factor'!$A$6:$B$258,MATCH('Country Parameters'!B111,'Wind Capacity Factor'!$B$6:$B$258,0),1)=\"*\",\"*\",\"\")","v":"*"}]
[null,"Maldives","Republic of Maldives","MV","MV","MDV",462,3.25,73,"Asia",846.53392083466008,1144.2709,843.06479999999999,451.97480000000002,736.13379999999995,846.53392083466008,5.84,5.7300046286854894E-2,{"$f":"IF(ISNUMBER(MATCH(B112,'Grid EFs'!$B$4:$B$157,0)),\"\",\"*\")","v":""},{"$f":"VLOOKUP(B112,'Wind Capacity Factor'!$B$6:$L$276,8,FALSE)","v":0.18500946185704334},{"$f":"IF(INDEX('Wind Capacity Factor'!$A$6:$B$258,MATCH('Country Parameters'!B112,'Wind Capacity Factor'!$B$6:$B$258,0),1)=\"*\",\"*\",\"\")","v":"*"}]
[null,"Mali","Republic of Mali","ML","ML","MLI",466,17,-4,"Africa",613.6,974.53949999999998,833.97270000000003,456.774,597.66229999999996,613.6,6.18,7.571494692664206E-2,{"$f":"IF(ISNUMBER(MATCH(B113,'Grid EFs'!$B$4:$B$157,0)),\"\",\"*\")","v":""},{"$f":"VLOOKUP(B113,'Wind Capacity Factor'!$B$6:$L$276,8,FALSE)","v":0.24610688499118938},{"$f":"IF(INDEX('Wind Capacity Factor'!$A$6:$B$258,MATCH('Country Parameters'!B113,'Wind Capacity Factor'!$B$6:$B$258,0),1)=\"*\",\"*\",\"\")","v":"*"}]
[null,"Malta","Republic of Malta","MT","MT","MLT",470,35.833300000000001,14.583299999999999,"Europe",871.5258,919.05070000000001,881.14530000000002,527.41980000000001,871.5258,"N/A",4.9800000000000004,7.5127864818267928E-2,{"$f":"IF(ISNUMBER(MATCH(B114,'Grid EFs'!$B$4:$B$157,0)),\"\",\"*\")","v":""},{"$f":"VLOOKUP(B114,'Wind Capacity Factor'!$B$6:$L$276,8,FALSE)","v":0.22185234633472933},{"$f":"IF(INDEX('Wind Capacity Factor'!$A$6:$B$258,MATCH('Country Parameters'!B114,'Wind Capacity Factor'!$B$6:$B$258,0),1)=\"*\",\"*\",\"\")","v":"*"}]
[null,"Marshall Islands","Republic of the Marshall Islands","RM","MH","MHL",584,9,168,"Oceana",736.13379999999995,1144.2709,843.06479999999999,451.97480000000002,736.13379999999995,"N/A",5.83,5.2001785658027835E-2,{"$f":"IF(ISNUMBER(MATCH(B115,'Grid EFs'!$B$4:$B$157,0)),\"\",\"*\")","v":""},{"$f":"VLOOKUP(B115,'Wind Capacity Factor'!$B$6:$L$276,8,FALSE)","v":0.18500946185704334},{"$f":"IF(INDEX('Wind Capacity Factor'!$A$6:$B$258,MATCH('Country Parameters'!B115,'Wind Capacity Factor'!$B$6:$B$258,0),1)=\"*\",\"*\",\"\")","v":"*"}]
[null,"Mauritania","Islamic Republic of Mauritania","MR","MR","MRT",478,20,-12,"Africa",720.02358500000003,974.53949999999998,833.97270000000003,456.774,597.66229999999996,720.02358500000003,5.81,7.571494692664206E-2,{"$f":"IF(ISNUMBER(MATCH(B116,'Grid EFs'!$B$4:$B$157,0)),\"\",\"*\")","v":""},{"$f":"VLOOKUP(B116,'Wind Capacity Factor'!$B$6:$L$276,8,FALSE)","v":0.24610688499118938},{"$f":"IF(INDEX('Wind Capacity Factor'!$A$6:$B$258,MATCH('Country Parameters'!B116,'Wind Capacity Factor'!$B$6:$B$258,0),1)=\"*\",\"*\",\"\")","v":"*"}]
[null,"Mauritius","Republic of Mauritius","MP","MU","MUS",480,-20.283300000000001,57.55,"Africa",968.50000000000023,974.53949999999998,833.97270000000003,456.774,597.66229999999996,968.50000000000023,5.92,7.571494692664206E-2,{"$f":"IF(ISNUMBER(MATCH(B117,'Grid EFs'!$B$4:$B$157,0)),\"\",\"*\")","v":""},{"$f":"VLOOKUP(B117,'Wind Capacity Factor'!$B$6:$L$276,8,FALSE)","v":0.41511000415110005},{"$f":"IF(INDEX('Wind Capacity Factor'!$A$6:$B$258,MATCH('Country Parameters'!B117,'Wind Capacity Factor'!$B$6:$B$258,0),1)=\"*\",\"*\",\"\")","v":""}]
[null,"Mexico","United Mexican States","MX","MX","MEX",484,23,-102,"North America",529.13947368421032,963.50099999999998,696.73030000000006,406.79509999999999,453.44450000000001,529.13947368421032,5.79,8.6922303767348635E-2,{"$f":"IF(ISNUMBER(MATCH(B118,'Grid EFs'!$B$4:$B$157,0)),\"\",\"*\")","v":""},{"$f":"VLOOKUP(B118,'Wind Capacity Factor'!$B$6:$L$276,8,FALSE)","v":0.27064524083267233},{"$f":"IF(INDEX('Wind Capacity Factor'!$A$6:$B$258,MATCH('Country Parameters'!B118,'Wind Capacity Factor'!$B$6:$B$258,0),1)=\"*\",\"*\",\"\")","v":""}]
[null,"Micronesia, Federated States of","Federated States of Micronesia","FM","FM","FSM",583,6.9166999999999996,158.25,"Oceana",736.13379999999995,1144.2709,843.06479999999999,451.97480000000002,736.13379999999995,"N/A",5.55,5.2001785658027835E-2,{"$f":"IF(ISNUMBER(MATCH(B119,'Grid EFs'!$B$4:$B$157,0)),\"\",\"*\")","v":""},{"$f":"VLOOKUP(B119,'Wind Capacity Factor'!$B$6:$L$276,8,FALSE)","v":0.18500946185704334},{"$f":"IF(INDEX('Wind Capacity Factor'!$A$6:$B$258,MATCH('Country Parameters'!B119,'Wind Capacity Factor'!$B$6:$B$258,0),1)=\"*\",\"*\",\"\")","v":"*"}]
[null,"Moldova","Republic of Moldova","MD","MD","MDA",498,47,29,"Europe",497.12479999999999,919.05070000000001,785.51969999999994,521.75530000000003,497.12479999999999,"N/A",3.37,0.10199026384034973,{"$f":"IF(ISNUMBER(MATCH(B120,'Grid EFs'!$B$4:$B$157,0)),\"\",\"*\")","v":""},{"$f":"VLOOKUP(B120,'Wind Capacity Factor'!$B$6:$L$276,8,FALSE)","v":0.22185234633472933},{"$f":"IF(INDEX('Wind Capacity Factor'!$A$6:$B$258,MATCH('Country Parameters'!B120,'Wind Capacity Factor'!$B$6:$B$258,0),1)=\"*\",\"*\",\"\")","v":"*"}]
[null,"Monaco","Principality of Monaco","MN","MC","MCO",492,43.7333,7.4,"Europe",331.06400000000002,917.48320000000001,690.57929999999999,359.07440000000003,331.06400000000002,"N/A",3.67,5.8109323007447068E-2,{"$f":"IF(ISNUMBER(MATCH(B121,'Grid EFs'!$B$4:$B$157,0)),\"\",\"*\")","v":""},{"$f":"VLOOKUP(B121,'Wind Capacity Factor'!$B$6:$L$276,8,FALSE)","v":0.22185234633472933},{"$f":"IF(INDEX('Wind Capacity Factor'!$A$6:$B$258,MATCH('Country Parameters'!B121,'Wind Capacity Factor'!$B$6:$B$258,0),1)=\"*\",\"*\",\"\")","v":"*"}]
[null,"Mongolia","Mongolia","MG","MN","MNG",496,46,105,"Asia",1130,875.55420000000004,1038.2815000000001,451.97480000000002,884.1028,1130,4.2,8.2757554009730963E-2,{"$f":"IF(ISNUMBER(MATCH(B122,'Grid EFs'!$B$4:$B$157,0)),\"\",\"*\")","v":""},{"$f":"VLOOKUP(B122,'Wind Capacity Factor'!$B$6:$L$276,8,FALSE)","v":0.35124692658939233},{"$f":"IF(INDEX('Wind Capacity Factor'!$A$6:$B$258,MATCH('Country Parameters'!B122,'Wind Capacity Factor'!$B$6:$B$258,0),1)=\"*\",\"*\",\"\")","v":""}]
[null,"Montenegro","Montenegro","MJ","ME","MNE",499,42,19,"Europe",983.6,1132.5757000000001,785.51969999999994,527.41980000000001,545.46169999999995,983.6,3.88,9.8910719081152371E-2,{"$f":"IF(ISNUMBER(MATCH(B123,'Grid EFs'!$B$4:$B$157,0)),\"\",\"*\")","v":""},{"$f":"VLOOKUP(B123,'Wind Capacity Factor'!$B$6:$L$276,8,FALSE)","v":0.22185234633472933},{"$f":"IF(INDEX('Wind Capacity Factor'!$A$6:$B$258,MATCH('Country Parameters'!B123,'Wind Capacity Factor'!$B$6:$B$258,0),1)=\"*\",\"*\",\"\")","v":"*"}]
[null,"Morocco","Kingdom of Morocco","MO","MA","MAR",504,32,-5,"Africa",647.20000000000016,986.82029999999997,723.58849999999995,376.73469999999998,696.63,647.20000000000016,5.18,8.1508808637105731E-2,{"$f":"IF(ISNUMBER(MATCH(B124,'Grid EFs'!$B$4:$B$157,0)),\"\",\"*\")","v":""},{"$f":"VLOOKUP(B124,'Wind Capacity Factor'!$B$6:$L$276,8,FALSE)","v":0.28558427089707983},{"$f":"IF(INDEX('Wind Capacity Factor'!$A$6:$B$258,MATCH('Country Parameters'!B124,'Wind Capacity Factor'!$B$6:$B$258,0),1)=\"*\",\"*\",\"\")","v":""}]
[null,"Mozambique","Republic of Mozambique","MZ","MZ","MOZ",508,-18.25,35,"Africa",964.40000000000009,974.53949999999998,833.97270000000003,853.80949999999996,1.1821999999999999,964.40000000000009,5.41,8.6519294893573948E-2,{"$f":"IF(ISNUMBER(MATCH(B125,'Grid EFs'!$B$4:$B$157,0)),\"\",\"*\")","v":""},{"$f":"VLOOKUP(B125,'Wind Capacity Factor'!$B$6:$L$276,8,FALSE)","v":0.24610688499118938},{"$f":"IF(INDEX('Wind Capacity Factor'!$A$6:$B$258,MATCH('Country Parameters'!B125,'Wind Capacity Factor'!$B$6:$B$258,0),1)=\"*\",\"*\",\"\")","v":"*"}]
[null,"Namibia","Republic of Namibia","WA","NA","NAM",516,-22,17,"Africa",920,1402.5333000000001,1110.3333,456.774,26.995699999999999,920,6.2,0.10446053736616828,{"$f":"IF(ISNUMBER(MATCH(B126,'Grid EFs'!$B$4:$B$157,0)),\"\",\"*\")","v":""},{"$f":"VLOOKUP(B126,'Wind Capacity Factor'!$B$6:$L$276,8,FALSE)","v":0.24610688499118938},{"$f":"IF(INDEX('Wind Capacity Factor'!$A$6:$B$258,MATCH('Country Parameters'!B126,'Wind Capacity Factor'!$B$6:$B$258,0),1)=\"*\",\"*\",\"\")","v":"*"}]
[null,"Nauru","Republic of Nauru","NR","NR","NRU",520,-0.5333,166.91669999999999,"Oceana",736.13379999999995,1144.2709,843.06479999999999,451.97480000000002,736.13379999999995,"N/A",6.11,5.2001785658027835E-2,{"$f":"IF(ISNUMBER(MATCH(B127,'Grid EFs'!$B$4:$B$157,0)),\"\",\"*\")","v":""},{"$f":"VLOOKUP(B127,'Wind Capacity Factor'!$B$6:$L$276,8,FALSE)","v":0.18500946185704334},{"$f":"IF(INDEX('Wind Capacity Factor'!$A$6:$B$258,MATCH('Country Parameters'!B127,'Wind Capacity Factor'!$B$6:$B$258,0),1)=\"*\",\"*\",\"\")","v":"*"}]
[null,"Nepal","Federal Democratic Republic of Nepal","NP","NP","NPL",524,28,84,"Asia",846.53392083466008,1144.2709,712.94740000000002,451.97480000000002,3.8136000000000001,846.53392083466008,5.0599999999999996,0.12083028942699647,{"$f":"IF(ISNUMBER(MATCH(B128,'Grid EFs'!$B$4:$B$157,0)),\"\",\"*\")","v":""},{"$f":"VLOOKUP(B128,'Wind Capacity Factor'!$B$6:$L$276,8,FALSE)","v":0.18500946185704334},{"$f":"IF(INDEX('Wind Capacity Factor'!$A$6:$B$258,MATCH('Country Parameters'!B128,'Wind Capacity Factor'!$B$6:$B$258,0),1)=\"*\",\"*\",\"\")","v":"*"}]
[null,"Netherlands","Kingdom of the Netherlands","NL","NL","NLD",528,52.5,5.75,"Europe",440.69659999999999,912.89919999999995,703.0788,300.13510000000002,440.69659999999999,"N/A",2.87,3.7946664409079553E-2,{"$f":"IF(ISNUMBER(MATCH(B129,'Grid EFs'!$B$4:$B$157,0)),\"\",\"*\")","v":""},{"$f":"VLOOKUP(B129,'Wind Capacity Factor'!$B$6:$L$276,8,FALSE)","v":0.23785924767344818},{"$f":"IF(INDEX('Wind Capacity Factor'!$A$6:$B$258,MATCH('Country Parameters'!B129,'Wind Capacity Factor'!$B$6:$B$258,0),1)=\"*\",\"*\",\"\")","v":""}]
[null,"New Zealand","New Zealand","NZ","NZ","NZL",554,-41,174,"Oceana",173.28200000000001,1127.9532999999999,1040.6667,411.54259999999999,173.28200000000001,"N/A",4.46,5.7198995787467392E-2,{"$f":"IF(ISNUMBER(MATCH(B130,'Grid EFs'!$B$4:$B$157,0)),\"\",\"*\")","v":""},{"$f":"VLOOKUP(B130,'Wind Capacity Factor'!$B$6:$L$276,8,FALSE)","v":0.38015091661461126},{"$f":"IF(INDEX('Wind Capacity Factor'!$A$6:$B$258,MATCH('Country Parameters'!B130,'Wind Capacity Factor'!$B$6:$B$258,0),1)=\"*\",\"*\",\"\")","v":""}]
[null,"Nicaragua","Republic of Nicaragua","NU","NI","NIC",558,13,-85,"North America",631.24,1240.4880000000001,711.10929999999996,502.83659999999998,406.62540000000001,631.24,4.5599999999999996,9.1213803073282473E-2,{"$f":"IF(ISNUMBER(MATCH(B131,'Grid EFs'!$B$4:$B$157,0)),\"\",\"*\")","v":"*"},{"$f":"VLOOKUP(B131,'Wind Capacity Factor'!$B$6:$L$276,8,FALSE)","v":0.25802214299118037},{"$f":"IF(INDEX('Wind Capacity Factor'!$A$6:$B$258,MATCH('Country Parameters'!B131,'Wind Capacity Factor'!$B$6:$B$258,0),1)=\"*\",\"*\",\"\")","v":""}]
[null,"Niger","Republic of Niger","NG","NE","NER",562,16,8,"Africa",720.02358500000003,974.53949999999998,833.97270000000003,456.774,597.66229999999996,720.02358500000003,6.67,7.571494692664206E-2,{"$f":"IF(ISNUMBER(MATCH(B132,'Grid EFs'!$B$4:$B$157,0)),\"\",\"*\")","v":""},{"$f":"VLOOKUP(B132,'Wind Capacity Factor'!$B$6:$L$276,8,FALSE)","v":0.24610688499118938},{"$f":"IF(INDEX('Wind Capacity Factor'!$A$6:$B$258,MATCH('Country Parameters'!B132,'Wind Capacity Factor'!$B$6:$B$258,0),1)=\"*\",\"*\",\"\")","v":"*"}]
[null,"Nigeria","Federal Republic of Nigeria","NI","NG","NGA",566,10,8,"Africa",{"$f":"IF(P133=\"N/A\",O133,P133)","v":573.28},974.53949999999998,833.97270000000003,502.23219999999998,403.22390000000001,573.28,5.69,7.5301373595601281E-2,{"$f":"IF(ISNUMBER(MATCH(B133,'Grid EFs'!$B$4:$B$157,0)),\"\",\"*\")","v":""},{"$f":"VLOOKUP(B133,'Wind Capacity Factor'!$B$6:$L$276,8,FALSE)","v":0.24610688499118938},{"$f":"IF(INDEX('Wind Capacity Factor'!$A$6:$B$258,MATCH('Country Parameters'!B133,'Wind Capacity Factor'!$B$6:$B$258,0),1)=\"*\",\"*\",\"\")","v":"*"}]
[null,"Norway","Kingdom of Norway","NO","NO","NOR",578,62,10,"Europe",8.0572999999999997,1191.7299,304.37299999999999,338.78710000000001,8.0572999999999997,"N/A",2.4300000000000002,5.714087819177658E-2,{"$f":"IF(ISNUMBER(MATCH(B134,'Grid EFs'!$B$4:$B$157,0)),\"\",\"*\")","v":""},{"$f":"VLOOKUP(B134,'Wind Capacity Factor'!$B$6:$L$276,8,FALSE)","v":0.25266795274005083},{"$f":"IF(INDEX('Wind Capacity Factor'!$A$6:$B$258,MATCH('Country Parameters'!B134,'Wind Capacity Factor'!$B$6:$B$258,0),1)=\"*\",\"*\",\"\")","v":""}]
[null,"Oman","Sultanate of Oman","MU","OM","OMN",512,21,57,"Asia",679.18018867924513,1144.2709,766.20500000000004,598.00850000000003,602.0761,679.18018867924513,5.77,8.4378298802939206E-2,{"$f":"IF(ISNUMBER(MATCH(B135,'Grid EFs'!$B$4:$B$157,0)),\"\",\"*\")","v":"*"},{"$f":"VLOOKUP(B135,'Wind Capacity Factor'!$B$6:$L$276,8,FALSE)","v":0.22710481994381521},{"$f":"IF(INDEX('Wind Capacity Factor'!$A$6:$B$258,MATCH('Country Parameters'!B135,'Wind Capacity Factor'!$B$6:$B$258,0),1)=\"*\",\"*\",\"\")","v":"*"}]
[null,"Pakistan","Islamic Republic of Pakistan","PK","PK","PAK",586,30,70,"Asia",544.60565217391297,2334.2458999999999,702.83109999999999,579.99519999999995,417.62200000000001,544.60565217391297,4.93,9.0821453399386798E-2,{"$f":"IF(ISNUMBER(MATCH(B136,'Grid EFs'!$B$4:$B$157,0)),\"\",\"*\")","v":""},{"$f":"VLOOKUP(B136,'Wind Capacity Factor'!$B$6:$L$276,8,FALSE)","v":0.18500946185704334},{"$f":"IF(INDEX('Wind Capacity Factor'!$A$6:$B$258,MATCH('Country Parameters'!B136,'Wind Capacity Factor'!$B$6:$B$258,0),1)=\"*\",\"*\",\"\")","v":"*"}]
[null,"Palau","Republic of Palau","PS","PW","PLW",585,7.5,134.5,"Oceana",736.13379999999995,1144.2709,843.06479999999999,451.97480000000002,736.13379999999995,"N/A",5.52,5.2001785658027835E-2,{"$f":"IF(ISNUMBER(MATCH(B137,'Grid EFs'!$B$4:$B$157,0)),\"\",\"*\")","v":""},{"$f":"VLOOKUP(B137,'Wind Capacity Factor'!$B$6:$L$276,8,FALSE)","v":0.18500946185704334},{"$f":"IF(INDEX('Wind Capacity Factor'!$A$6:$B$258,MATCH('Country Parameters'!B137,'Wind Capacity Factor'!$B$6:$B$258,0),1)=\"*\",\"*\",\"\")","v":"*"}]
[null,"Panama","Republic of Panama","PM","PA","PAN",591,9,-80,"North America",578.70434782608697,1113.2175999999999,813.40959999999995,502.83659999999998,325.59030000000001,578.70434782608697,4.8600000000000003,8.340054595367366E-2,{"$f":"IF(ISNUMBER(MATCH(B138,'Grid EFs'!$B$4:$B$157,0)),\"\",\"*\")","v":"*"},{"$f":"VLOOKUP(B138,'Wind Capacity Factor'!$B$6:$L$276,8,FALSE)","v":0.23637861684516193},{"$f":"IF(INDEX('Wind Capacity Factor'!$A$6:$B$258,MATCH('Country Parameters'!B138,'Wind Capacity Factor'!$B$6:$B$258,0),1)=\"*\",\"*\",\"\")","v":"*"}]
[null,"Papua New Guinea","Independent State of Papua New Guinea","PP","PG","PNG",598,-6,147,"Oceana",678.57142857142856,1144.2709,843.06479999999999,451.97480000000002,736.13379999999995,678.57142857142856,5.51,5.2001785658027835E-2,{"$f":"IF(ISNUMBER(MATCH(B139,'Grid EFs'!$B$4:$B$157,0)),\"\",\"*\")","v":""},{"$f":"VLOOKUP(B139,'Wind Capacity Factor'!$B$6:$L$276,8,FALSE)","v":0.18500946185704334},{"$f":"IF(INDEX('Wind Capacity Factor'!$A$6:$B$258,MATCH('Country Parameters'!B139,'Wind Capacity Factor'!$B$6:$B$258,0),1)=\"*\",\"*\",\"\")","v":"*"}]
[null,"Paraguay","Republic of Paraguay","PA","PY","PRY",600,-23,-58,"South America",472.44098150782378,1240.4880000000001,671.35590000000002,502.83659999999998,200.8047,472.44098150782378,5.0199999999999996,5.4041871098959984E-2,"*",{"$f":"VLOOKUP(B140,'Wind Capacity Factor'!$B$6:$L$276,8,FALSE)","v":0.23637861684516193},{"$f":"IF(INDEX('Wind Capacity Factor'!$A$6:$B$258,MATCH('Country Parameters'!B140,'Wind Capacity Factor'!$B$6:$B$258,0),1)=\"*\",\"*\",\"\")","v":"*"}]
[null,"Peru","Republic of Peru","PE","PE","PER",604,-10,-76,"South America",580.28557692307686,1173.7519,905.29150000000004,586.44259999999997,285.56150000000002,580.28557692307686,4.37,6.4456639702917901E-2,{"$f":"IF(ISNUMBER(MATCH(B141,'Grid EFs'!$B$4:$B$157,0)),\"\",\"*\")","v":"*"},{"$f":"VLOOKUP(B141,'Wind Capacity Factor'!$B$6:$L$276,8,FALSE)","v":0.16307893020221789},{"$f":"IF(INDEX('Wind Capacity Factor'!$A$6:$B$258,MATCH('Country Parameters'!B141,'Wind Capacity Factor'!$B$6:$B$258,0),1)=\"*\",\"*\",\"\")","v":""}]
[null,"Philippines","Republic of the Philippines","RP","PH","PHL",608,13,122,"Asia",511.56415094339604,936.76829999999995,726.19039999999995,358.52760000000001,502.37360000000001,511.56415094339604,5.07,7.5181041228041534E-2,{"$f":"IF(ISNUMBER(MATCH(B142,'Grid EFs'!$B$4:$B$157,0)),\"\",\"*\")","v":""},{"$f":"VLOOKUP(B142,'Wind Capacity Factor'!$B$6:$L$276,8,FALSE)","v":0.25944375259443747},{"$f":"IF(INDEX('Wind Capacity Factor'!$A$6:$B$258,MATCH('Country Parameters'!B142,'Wind Capacity Factor'!$B$6:$B$258,0),1)=\"*\",\"*\",\"\")","v":""}]
[null,"Poland","Republic of Poland","PL","PL","POL",616,52,20,"Europe",755.83529999999996,874.21640000000002,484.0102,337.33870000000002,755.83529999999996,"N/A",2.85,5.8177484713456594E-2,{"$f":"IF(ISNUMBER(MATCH(B143,'Grid EFs'!$B$4:$B$157,0)),\"\",\"*\")","v":""},{"$f":"VLOOKUP(B143,'Wind Capacity Factor'!$B$6:$L$276,8,FALSE)","v":0.21710535944268822},{"$f":"IF(INDEX('Wind Capacity Factor'!$A$6:$B$258,MATCH('Country Parameters'!B143,'Wind Capacity Factor'!$B$6:$B$258,0),1)=\"*\",\"*\",\"\")","v":""}]
[null,"Portugal","Portuguese Republic","PO","PT","PRT",620,39.5,-8,"Europe",363.95909999999998,861.59159999999997,528.9271,351.45780000000002,363.95909999999998,"N/A",4.32,6.5132991732206935E-2,{"$f":"IF(ISNUMBER(MATCH(B144,'Grid EFs'!$B$4:$B$157,0)),\"\",\"*\")","v":""},{"$f":"VLOOKUP(B144,'Wind Capacity Factor'!$B$6:$L$276,8,FALSE)","v":0.25858218623563417},{"$f":"IF(INDEX('Wind Capacity Factor'!$A$6:$B$258,MATCH('Country Parameters'!B144,'Wind Capacity Factor'!$B$6:$B$258,0),1)=\"*\",\"*\",\"\")","v":""}]
[null,"Qatar","State of Qatar","QA","QA","QAT",634,25.5,51.25,"Asia",679.18018867924513,1144.2709,915.41219999999998,492.94900000000001,492.94900000000001,679.18018867924513,6.01,5.4999577809971605E-2,{"$f":"IF(ISNUMBER(MATCH(B145,'Grid EFs'!$B$4:$B$157,0)),\"\",\"*\")","v":"*"},{"$f":"VLOOKUP(B145,'Wind Capacity Factor'!$B$6:$L$276,8,FALSE)","v":0.22710481994381521},{"$f":"IF(INDEX('Wind Capacity Factor'!$A$6:$B$258,MATCH('Country Parameters'!B145,'Wind Capacity Factor'!$B$6:$B$258,0),1)=\"*\",\"*\",\"\")","v":"*"}]
[null,"Romania","Romania","RO","RO","ROU",642,46,25,"Europe",480.62779999999998,1056.0931,721.27279999999996,393.21120000000002,480.62779999999998,"N/A",3.33,7.724103385949288E-2,{"$f":"IF(ISNUMBER(MATCH(B146,'Grid EFs'!$B$4:$B$157,0)),\"\",\"*\")","v":""},{"$f":"VLOOKUP(B146,'Wind Capacity Factor'!$B$6:$L$276,8,FALSE)","v":0.15819940315679717},{"$f":"IF(INDEX('Wind Capacity Factor'!$A$6:$B$258,MATCH('Country Parameters'!B146,'Wind Capacity Factor'!$B$6:$B$258,0),1)=\"*\",\"*\",\"\")","v":""}]
[null,"Russia","Russian Federation","RS","RU","RUS",643,60,100,"Europe",428.779,935.50450000000001,801.72310000000004,520.05700000000002,428.779,"N/A",2.86,7.0715108357251089E-2,{"$f":"IF(ISNUMBER(MATCH(B147,'Grid EFs'!$B$4:$B$157,0)),\"\",\"*\")","v":""},{"$f":"VLOOKUP(B147,'Wind Capacity Factor'!$B$6:$L$276,8,FALSE)","v":0.22185234633472933},{"$f":"IF(INDEX('Wind Capacity Factor'!$A$6:$B$258,MATCH('Country Parameters'!B147,'Wind Capacity Factor'!$B$6:$B$258,0),1)=\"*\",\"*\",\"\")","v":"*"}]
[null,"Rwanda","Republic of Rwanda","RW","RW","RWA",646,-2,30,"Africa",654,974.53949999999998,833.97270000000003,456.774,597.66229999999996,654,4.88,7.571494692664206E-2,{"$f":"IF(ISNUMBER(MATCH(B148,'Grid EFs'!$B$4:$B$157,0)),\"\",\"*\")","v":""},{"$f":"VLOOKUP(B148,'Wind Capacity Factor'!$B$6:$L$276,8,FALSE)","v":0.24610688499118938},{"$f":"IF(INDEX('Wind Capacity Factor'!$A$6:$B$258,MATCH('Country Parameters'!B148,'Wind Capacity Factor'!$B$6:$B$258,0),1)=\"*\",\"*\",\"\")","v":"*"}]
[null,"Saint Kitts and Nevis","Federation of Saint Kitts and Nevis","SC","KN","KNA",659,17.333300000000001,-62.75,"North America",472.44098150782378,1240.4880000000001,671.35590000000002,502.83659999999998,200.8047,472.44098150782378,6.23,5.7679364750868239E-2,{"$f":"IF(ISNUMBER(MATCH(B149,'Grid EFs'!$B$4:$B$157,0)),\"\",\"*\")","v":"*"},{"$f":"VLOOKUP(B149,'Wind Capacity Factor'!$B$6:$L$276,8,FALSE)","v":0.23637861684516193},{"$f":"IF(INDEX('Wind Capacity Factor'!$A$6:$B$258,MATCH('Country Parameters'!B149,'Wind Capacity Factor'!$B$6:$B$258,0),1)=\"*\",\"*\",\"\")","v":"*"}]
[null,"Saint Lucia","Saint Lucia","ST","LC","LCA",662,13.8833,-61.133299999999998,"North America",472.44098150782378,1240.4880000000001,671.35590000000002,502.83659999999998,200.8047,472.44098150782378,6.09,5.7679364750868239E-2,{"$f":"IF(ISNUMBER(MATCH(B150,'Grid EFs'!$B$4:$B$157,0)),\"\",\"*\")","v":"*"},{"$f":"VLOOKUP(B150,'Wind Capacity Factor'!$B$6:$L$276,8,FALSE)","v":0.23637861684516193},{"$f":"IF(INDEX('Wind Capacity Factor'!$A$6:$B$258,MATCH('Country Parameters'!B150,'Wind Capacity Factor'!$B$6:$B$258,0),1)=\"*\",\"*\",\"\")","v":"*"}]
[null,"Saint Vincent and the Grenadines","Saint Vincent and the Grenadines","VC","VC","VCT",670,13.25,-61.2,"North America",472.44098150782378,1240.4880000000001,671.35590000000002,502.83659999999998,200.8047,472.44098150782378,6.08,5.7679364750868239E-2,{"$f":"IF(ISNUMBER(MATCH(B151,'Grid EFs'!$B$4:$B$157,0)),\"\",\"*\")","v":"*"},{"$f":"VLOOKUP(B151,'Wind Capacity Factor'!$B$6:$L$276,8,FALSE)","v":0.23637861684516193},{"$f":"IF(INDEX('Wind Capacity Factor'!$A$6:$B$258,MATCH('Country Parameters'!B151,'Wind Capacity Factor'!$B$6:$B$258,0),1)=\"*\",\"*\",\"\")","v":"*"}]
[null,"Samoa","Independent State of Samoa","WS","WS","WSM",882,-13.583299999999999,-172.33330000000001,"Oceana",736.13379999999995,1144.2709,843.06479999999999,451.97480000000002,736.13379999999995,"N/A",5.26,5.2001785658027835E-2,{"$f":"IF(ISNUMBER(MATCH(B152,'Grid EFs'!$B$4:$B$157,0)),\"\",\"*\")","v":""},{"$f":"VLOOKUP(B152,'Wind Capacity Factor'!$B$6:$L$276,8,FALSE)","v":0.18500946185704334},{"$f":"IF(INDEX('Wind Capacity Factor'!$A$6:$B$258,MATCH('Country Parameters'!B152,'Wind Capacity Factor'!$B$6:$B$258,0),1)=\"*\",\"*\",\"\")","v":"*"}]
[null,"San Marino","Republic of San Marino","SM","SM","SMR",674,43.7667,12.416700000000001,"Europe",331.06400000000002,917.48320000000001,690.57929999999999,359.07440000000003,331.06400000000002,"N/A",3.94,5.8109323007447068E-2,{"$f":"IF(ISNUMBER(MATCH(B153,'Grid EFs'!$B$4:$B$157,0)),\"\",\"*\")","v":""},{"$f":"VLOOKUP(B153,'Wind Capacity Factor'!$B$6:$L$276,8,FALSE)","v":0.22185234633472933},{"$f":"IF(INDEX('Wind Capacity Factor'!$A$6:$B$258,MATCH('Country Parameters'!B153,'Wind Capacity Factor'!$B$6:$B$258,0),1)=\"*\",\"*\",\"\")","v":"*"}]
[null,"Sao Tome and Principe","Democratic Republic of Sao Tome and Principe","TP","ST","STP",678,1,7,"Africa",720.02358500000003,974.53949999999998,833.97270000000003,456.774,597.66229999999996,720.02358500000003,4.8600000000000003,7.571494692664206E-2,{"$f":"IF(ISNUMBER(MATCH(B154,'Grid EFs'!$B$4:$B$157,0)),\"\",\"*\")","v":""},{"$f":"VLOOKUP(B154,'Wind Capacity Factor'!$B$6:$L$276,8,FALSE)","v":0.24610688499118938},{"$f":"IF(INDEX('Wind Capacity Factor'!$A$6:$B$258,MATCH('Country Parameters'!B154,'Wind Capacity Factor'!$B$6:$B$258,0),1)=\"*\",\"*\",\"\")","v":"*"}]
[null,"Saudi Arabia","Kingdom of Saudi Arabia","SA","SA","SAU",682,25,45,"Asia",654,1144.2709,820.30669999999998,636.60609999999997,738.21579999999994,654,5.73,6.3908736846161052E-2,{"$f":"IF(ISNUMBER(MATCH(B155,'Grid EFs'!$B$4:$B$157,0)),\"\",\"*\")","v":"*"},{"$f":"VLOOKUP(B155,'Wind Capacity Factor'!$B$6:$L$276,8,FALSE)","v":0.22710481994381521},{"$f":"IF(INDEX('Wind Capacity Factor'!$A$6:$B$258,MATCH('Country Parameters'!B155,'Wind Capacity Factor'!$B$6:$B$258,0),1)=\"*\",\"*\",\"\")","v":"*"}]
[null,"Senegal","Republic of Senegal","SG","SN","SEN",686,14,-14,"Africa",648.37142857142851,974.53949999999998,709.80399999999997,368.42140000000001,601.72170000000006,648.37142857142851,5.74,8.8533399421868941E-2,{"$f":"IF(ISNUMBER(MATCH(B156,'Grid EFs'!$B$4:$B$157,0)),\"\",\"*\")","v":""},{"$f":"VLOOKUP(B156,'Wind Capacity Factor'!$B$6:$L$276,8,FALSE)","v":0.24610688499118938},{"$f":"IF(INDEX('Wind Capacity Factor'!$A$6:$B$258,MATCH('Country Parameters'!B156,'Wind Capacity Factor'!$B$6:$B$258,0),1)=\"*\",\"*\",\"\")","v":"*"}]
[null,"Serbia","Republic of Serbia","RI","RS","SRB",688,44,21,"Europe",1099.111373,1031.1309000000001,463.3784,474.06,759.94740000000002,1099.111373,3.59,8.6227193943721442E-2,{"$f":"IF(ISNUMBER(MATCH(B157,'Grid EFs'!$B$4:$B$157,0)),\"\",\"*\")","v":""},{"$f":"VLOOKUP(B157,'Wind Capacity Factor'!$B$6:$L$276,8,FALSE)","v":0.22185234633472933},{"$f":"IF(INDEX('Wind Capacity Factor'!$A$6:$B$258,MATCH('Country Parameters'!B157,'Wind Capacity Factor'!$B$6:$B$258,0),1)=\"*\",\"*\",\"\")","v":"*"}]
[null,"Seychelles","Republic of Seychelles","SE","SC","SYC",690,-4.5833000000000004,55.666699999999999,"Africa",720.02358500000003,974.53949999999998,833.97270000000003,456.774,597.66229999999996,720.02358500000003,5.88,7.571494692664206E-2,{"$f":"IF(ISNUMBER(MATCH(B158,'Grid EFs'!$B$4:$B$157,0)),\"\",\"*\")","v":""},{"$f":"VLOOKUP(B158,'Wind Capacity Factor'!$B$6:$L$276,8,FALSE)","v":0.24610688499118938},{"$f":"IF(INDEX('Wind Capacity Factor'!$A$6:$B$258,MATCH('Country Parameters'!B158,'Wind Capacity Factor'!$B$6:$B$258,0),1)=\"*\",\"*\",\"\")","v":"*"}]
[null,"Sierra Leone","Republic of Sierra Leone","SL","SL","SLE",694,8.5,-11.5,"Africa",402,974.53949999999998,833.97270000000003,456.774,597.66229999999996,402,5.34,7.571494692664206E-2,{"$f":"IF(ISNUMBER(MATCH(B159,'Grid EFs'!$B$4:$B$157,0)),\"\",\"*\")","v":""},{"$f":"VLOOKUP(B159,'Wind Capacity Factor'!$B$6:$L$276,8,FALSE)","v":0.24610688499118938},{"$f":"IF(INDEX('Wind Capacity Factor'!$A$6:$B$258,MATCH('Country Parameters'!B159,'Wind Capacity Factor'!$B$6:$B$258,0),1)=\"*\",\"*\",\"\")","v":"*"}]
[null,"Singapore","Republic of Singapore","SN","SG","SGP",702,1.3667,103.8,"Asia",486.23333333333329,1144.2709,827.18820000000005,398.09429999999998,472.47890000000001,486.23333333333329,4.49,2.8070764025719307E-2,{"$f":"IF(ISNUMBER(MATCH(B160,'Grid EFs'!$B$4:$B$157,0)),\"\",\"*\")","v":""},{"$f":"VLOOKUP(B160,'Wind Capacity Factor'!$B$6:$L$276,8,FALSE)","v":0.18500946185704334},{"$f":"IF(INDEX('Wind Capacity Factor'!$A$6:$B$258,MATCH('Country Parameters'!B160,'Wind Capacity Factor'!$B$6:$B$258,0),1)=\"*\",\"*\",\"\")","v":"*"}]
[null,"Slovakia","Slovak Republic","LO","SK","SVK",703,48.666699999999999,19.5,"Europe",194.3861,1043.6219000000001,767.25229999999999,336.15199999999999,194.3861,"N/A",2.86,2.8398567714420182E-2,{"$f":"IF(ISNUMBER(MATCH(B161,'Grid EFs'!$B$4:$B$157,0)),\"\",\"*\")","v":""},{"$f":"VLOOKUP(B161,'Wind Capacity Factor'!$B$6:$L$276,8,FALSE)","v":0.22831050228310498},{"$f":"IF(INDEX('Wind Capacity Factor'!$A$6:$B$258,MATCH('Country Parameters'!B161,'Wind Capacity Factor'!$B$6:$B$258,0),1)=\"*\",\"*\",\"\")","v":""}]
[null,"Slovenia","Republic of Slovenia","SI","SI","SVN",705,46,15,"Europe",331.47609999999997,952.66920000000005,1041,371.8492,331.47609999999997,"N/A",3.4,4.9546630344902906E-2,{"$f":"IF(ISNUMBER(MATCH(B162,'Grid EFs'!$B$4:$B$157,0)),\"\",\"*\")","v":""},{"$f":"VLOOKUP(B162,'Wind Capacity Factor'!$B$6:$L$276,8,FALSE)","v":0.22185234633472933},{"$f":"IF(INDEX('Wind Capacity Factor'!$A$6:$B$258,MATCH('Country Parameters'!B162,'Wind Capacity Factor'!$B$6:$B$258,0),1)=\"*\",\"*\",\"\")","v":"*"}]
[null,"Solomon Islands","Solomon Islands","BP","SB","SLB",90,-8,159,"Oceana",736.13379999999995,1144.2709,843.06479999999999,451.97480000000002,736.13379999999995,"N/A",5.27,5.2001785658027835E-2,{"$f":"IF(ISNUMBER(MATCH(B163,'Grid EFs'!$B$4:$B$157,0)),\"\",\"*\")","v":""},{"$f":"VLOOKUP(B163,'Wind Capacity Factor'!$B$6:$L$276,8,FALSE)","v":0.18500946185704334},{"$f":"IF(INDEX('Wind Capacity Factor'!$A$6:$B$258,MATCH('Country Parameters'!B163,'Wind Capacity Factor'!$B$6:$B$258,0),1)=\"*\",\"*\",\"\")","v":"*"}]
[null,"Somalia","Somalia","SO","SO","SOM",706,10,49,"Africa",720.02358500000003,974.53949999999998,833.97270000000003,456.774,597.66229999999996,720.02358500000003,6.13,7.571494692664206E-2,{"$f":"IF(ISNUMBER(MATCH(B164,'Grid EFs'!$B$4:$B$157,0)),\"\",\"*\")","v":""},{"$f":"VLOOKUP(B164,'Wind Capacity Factor'!$B$6:$L$276,8,FALSE)","v":0.24610688499118938},{"$f":"IF(INDEX('Wind Capacity Factor'!$A$6:$B$258,MATCH('Country Parameters'!B164,'Wind Capacity Factor'!$B$6:$B$258,0),1)=\"*\",\"*\",\"\")","v":"*"}]
[null,"South Africa","Republic of South Africa","SF","ZA","ZAF",710,-29,24,"Africa",950.57297297297316,972.85919999999999,762.36080000000004,456.774,913.52679999999998,950.57297297297316,5.77,6.5632243029264389E-2,{"$f":"IF(ISNUMBER(MATCH(B165,'Grid EFs'!$B$4:$B$157,0)),\"\",\"*\")","v":""},{"$f":"VLOOKUP(B165,'Wind Capacity Factor'!$B$6:$L$276,8,FALSE)","v":0.24610688499118938},{"$f":"IF(INDEX('Wind Capacity Factor'!$A$6:$B$258,MATCH('Country Parameters'!B165,'Wind Capacity Factor'!$B$6:$B$258,0),1)=\"*\",\"*\",\"\")","v":"*"}]
[null,"South Sudan","Republic of South Sudan","OD","SS","SSD",728,8,30,"Africa",720.02358500000003,974.53949999999998,833.97270000000003,456.774,597.66229999999996,720.02358500000003,5.66,5.0847457627118647E-2,null,{"$f":"VLOOKUP(B166,'Wind Capacity Factor'!$B$6:$L$276,8,FALSE)","v":0.24610688499118938}]
[null,"Spain","Kingdom of Spain","SP","ES","ESP",724,40,-4,"Europe",305.35539999999997,927.68790000000001,708.73649999999998,356.82209999999998,305.35539999999997,"N/A",4.4000000000000004,6.4954149822595675E-2,{"$f":"IF(ISNUMBER(MATCH(B167,'Grid EFs'!$B$4:$B$157,0)),\"\",\"*\")","v":""},{"$f":"VLOOKUP(B167,'Wind Capacity Factor'!$B$6:$L$276,8,FALSE)","v":0.24796876331393575},{"$f":"IF(INDEX('Wind Capacity Factor'!$A$6:$B$258,MATCH('Country Parameters'!B167,'Wind Capacity Factor'!$B$6:$B$258,0),1)=\"*\",\"*\",\"\")","v":""}]
[null,"Sri Lanka","Democratic Socialist Republic of Sri Lanka","CE","LK","LKA",144,7,81,"Asia",715.41571428571433,1209.5291999999999,677.39149999999995,451.97480000000002,542.09180000000003,715.41571428571433,5.03,8.0096018487556597E-2,{"$f":"IF(ISNUMBER(MATCH(B168,'Grid EFs'!$B$4:$B$157,0)),\"\",\"*\")","v":""},{"$f":"VLOOKUP(B168,'Wind Capacity Factor'!$B$6:$L$276,8,FALSE)","v":0.26636225266362251},{"$f":"IF(INDEX('Wind Capacity Factor'!$A$6:$B$258,MATCH('Country Parameters'!B168,'Wind Capacity Factor'!$B$6:$B$258,0),1)=\"*\",\"*\",\"\")","v":""}]
[null,"Sudan","Republic of the Sudan","SU","SD","SDN",736,15,30,"Africa",305,974.53949999999998,676.48850000000004,456.774,201.9572,305,6.77,0.22909373784519643,{"$f":"IF(ISNUMBER(MATCH(B169,'Grid EFs'!$B$4:$B$157,0)),\"\",\"*\")","v":""},{"$f":"VLOOKUP(B169,'Wind Capacity Factor'!$B$6:$L$276,8,FALSE)","v":0.24610688499118938},{"$f":"IF(INDEX('Wind Capacity Factor'!$A$6:$B$258,MATCH('Country Parameters'!B169,'Wind Capacity Factor'!$B$6:$B$258,0),1)=\"*\",\"*\",\"\")","v":"*"}]
[null,"Suriname","Republic of Suriname","NS","SR","SUR",740,4,-56,"South America",472.44098150782378,1240.4880000000001,671.35590000000002,502.83659999999998,200.8047,472.44098150782378,5.28,8.3808354719636283E-2,{"$f":"IF(ISNUMBER(MATCH(B170,'Grid EFs'!$B$4:$B$157,0)),\"\",\"*\")","v":"*"},{"$f":"VLOOKUP(B170,'Wind Capacity Factor'!$B$6:$L$276,8,FALSE)","v":0.23637861684516193},{"$f":"IF(INDEX('Wind Capacity Factor'!$A$6:$B$258,MATCH('Country Parameters'!B170,'Wind Capacity Factor'!$B$6:$B$258,0),1)=\"*\",\"*\",\"\")","v":"*"}]
[null,"Swaziland","Kingdom of Swaziland","WZ","SZ","SWZ",748,-26.5,31.5,"Africa",720.02358500000003,974.53949999999998,833.97270000000003,456.774,597.66229999999996,720.02358500000003,4.8099999999999996,7.571494692664206E-2,{"$f":"IF(ISNUMBER(MATCH(B171,'Grid EFs'!$B$4:$B$157,0)),\"\",\"*\")","v":""},{"$f":"VLOOKUP(B171,'Wind Capacity Factor'!$B$6:$L$276,8,FALSE)","v":0.24610688499118938},{"$f":"IF(INDEX('Wind Capacity Factor'!$A$6:$B$258,MATCH('Country Parameters'!B171,'Wind Capacity Factor'!$B$6:$B$258,0),1)=\"*\",\"*\",\"\")","v":"*"}]
[null,"Sweden","Kingdom of Sweden","SW","SE","SWE",752,62,15,"Europe",12.357900000000001,704.76710000000003,398.2251,214.38130000000001,12.357900000000001,"N/A",2.54,5.7607294381684979E-2,{"$f":"IF(ISNUMBER(MATCH(B172,'Grid EFs'!$B$4:$B$157,0)),\"\",\"*\")","v":""},{"$f":"VLOOKUP(B172,'Wind Capacity Factor'!$B$6:$L$276,8,FALSE)","v":0.21834553508521723},{"$f":"IF(INDEX('Wind Capacity Factor'!$A$6:$B$258,MATCH('Country Parameters'!B172,'Wind Capacity Factor'!$B$6:$B$258,0),1)=\"*\",\"*\",\"\")","v":""}]
[null,"Switzerland","Swiss Confederation","SZ","CH","CHE",756,47,8,"Europe",28.036300000000001,917.48320000000001,424.65320000000003,257.98930000000001,28.036300000000001,"N/A",3.37,5.6305117502635019E-2,{"$f":"IF(ISNUMBER(MATCH(B173,'Grid EFs'!$B$4:$B$157,0)),\"\",\"*\")","v":""},{"$f":"VLOOKUP(B173,'Wind Capacity Factor'!$B$6:$L$276,8,FALSE)","v":0.20091324200913238},{"$f":"IF(INDEX('Wind Capacity Factor'!$A$6:$B$258,MATCH('Country Parameters'!B173,'Wind Capacity Factor'!$B$6:$B$258,0),1)=\"*\",\"*\",\"\")","v":""}]
[null,"Syria","Syrian Arab Republic","SY","SY","SYR",760,35,38,"Asia",679.18018867924513,1144.2709,801.84029999999996,542.96730000000002,582.41600000000005,679.18018867924513,5,9.0559603936660571E-2,{"$f":"IF(ISNUMBER(MATCH(B174,'Grid EFs'!$B$4:$B$157,0)),\"\",\"*\")","v":"*"},{"$f":"VLOOKUP(B174,'Wind Capacity Factor'!$B$6:$L$276,8,FALSE)","v":0.22710481994381521},{"$f":"IF(INDEX('Wind Capacity Factor'!$A$6:$B$258,MATCH('Country Parameters'!B174,'Wind Capacity Factor'!$B$6:$B$258,0),1)=\"*\",\"*\",\"\")","v":"*"}]
[null,"Tajikistan","Republic of Tajikistan","TI","TJ","TJK",762,39,71,"Asia",846.53392083466008,919.05070000000001,785.51969999999994,293.83760000000001,1.2809999999999999,846.53392083466008,4.13,8.4144536558726835E-2,{"$f":"IF(ISNUMBER(MATCH(B175,'Grid EFs'!$B$4:$B$157,0)),\"\",\"*\")","v":""},{"$f":"VLOOKUP(B175,'Wind Capacity Factor'!$B$6:$L$276,8,FALSE)","v":0.22185234633472933},{"$f":"IF(INDEX('Wind Capacity Factor'!$A$6:$B$258,MATCH('Country Parameters'!B175,'Wind Capacity Factor'!$B$6:$B$258,0),1)=\"*\",\"*\",\"\")","v":"*"}]
[null,"Tanzania","United Republic of Tanzania","TZ","TZ","TZA",834,-6,35,"Africa",498.3,974.53949999999998,1051.8036,542.39390000000003,486.80590000000001,498.3,6.03,0.10294208145456486,{"$f":"IF(ISNUMBER(MATCH(B176,'Grid EFs'!$B$4:$B$157,0)),\"\",\"*\")","v":""},{"$f":"VLOOKUP(B176,'Wind Capacity Factor'!$B$6:$L$276,8,FALSE)","v":0.24610688499118938},{"$f":"IF(INDEX('Wind Capacity Factor'!$A$6:$B$258,MATCH('Country Parameters'!B176,'Wind Capacity Factor'!$B$6:$B$258,0),1)=\"*\",\"*\",\"\")","v":"*"}]
[null,"Thailand","Kingdom of Thailand","TH","TH","THA",764,15,100,"Asia",548.34038461538432,1011.3687,687.81290000000001,409.82740000000001,500.42399999999998,548.34038461538432,5.19,5.491050395418097E-2,{"$f":"IF(ISNUMBER(MATCH(B177,'Grid EFs'!$B$4:$B$157,0)),\"\",\"*\")","v":""},{"$f":"VLOOKUP(B177,'Wind Capacity Factor'!$B$6:$L$276,8,FALSE)","v":0.1437133072407045},{"$f":"IF(INDEX('Wind Capacity Factor'!$A$6:$B$258,MATCH('Country Parameters'!B177,'Wind Capacity Factor'!$B$6:$B$258,0),1)=\"*\",\"*\",\"\")","v":""}]
[null,"Timor-Leste","Democratic Republic of Timor-Leste","TT","TL","TLS",626,-8.5500000000000007,125.5167,"Oceana",846.53392083466008,1144.2709,843.06479999999999,451.97480000000002,736.13379999999995,846.53392083466008,5.64,5.2001785658027835E-2,{"$f":"IF(ISNUMBER(MATCH(B178,'Grid EFs'!$B$4:$B$157,0)),\"\",\"*\")","v":""},{"$f":"VLOOKUP(B178,'Wind Capacity Factor'!$B$6:$L$276,8,FALSE)","v":0.18500946185704334},{"$f":"IF(INDEX('Wind Capacity Factor'!$A$6:$B$258,MATCH('Country Parameters'!B178,'Wind Capacity Factor'!$B$6:$B$258,0),1)=\"*\",\"*\",\"\")","v":"*"}]
[null,"Togo","Togolese Republic","TO","TG","TGO",768,8,1.1667000000000001,"Africa",720.02358500000003,974.53949999999998,1118.4118000000001,456.774,171.28829999999999,720.02358500000003,5.3,7.571494692664206E-2,{"$f":"IF(ISNUMBER(MATCH(B179,'Grid EFs'!$B$4:$B$157,0)),\"\",\"*\")","v":""},{"$f":"VLOOKUP(B179,'Wind Capacity Factor'!$B$6:$L$276,8,FALSE)","v":0.24610688499118938},{"$f":"IF(INDEX('Wind Capacity Factor'!$A$6:$B$258,MATCH('Country Parameters'!B179,'Wind Capacity Factor'!$B$6:$B$258,0),1)=\"*\",\"*\",\"\")","v":"*"}]
[null,"Tonga","Kingdom of Tonga","TN","TO","TON",776,-20,-175,"Oceana",736.13379999999995,1144.2709,843.06479999999999,451.97480000000002,736.13379999999995,"N/A",5.39,5.2001785658027835E-2,{"$f":"IF(ISNUMBER(MATCH(B180,'Grid EFs'!$B$4:$B$157,0)),\"\",\"*\")","v":""},{"$f":"VLOOKUP(B180,'Wind Capacity Factor'!$B$6:$L$276,8,FALSE)","v":0.18500946185704334},{"$f":"IF(INDEX('Wind Capacity Factor'!$A$6:$B$258,MATCH('Country Parameters'!B180,'Wind Capacity Factor'!$B$6:$B$258,0),1)=\"*\",\"*\",\"\")","v":"*"}]
[null,"Trinidad and Tobago","Republic of Trinidad and Tobago","TD","TT","TTO",780,11,-61,"North America",472.44098150782378,1240.4880000000001,789.54169999999999,676.07249999999999,676.37070000000006,472.44098150782378,6.1,2.7960562547982112E-2,{"$f":"IF(ISNUMBER(MATCH(B181,'Grid EFs'!$B$4:$B$157,0)),\"\",\"*\")","v":"*"},{"$f":"VLOOKUP(B181,'Wind Capacity Factor'!$B$6:$L$276,8,FALSE)","v":0.23637861684516193},{"$f":"IF(INDEX('Wind Capacity Factor'!$A$6:$B$258,MATCH('Country Parameters'!B181,'Wind Capacity Factor'!$B$6:$B$258,0),1)=\"*\",\"*\",\"\")","v":"*"}]
[null,"Tunisia","Tunisian Republic","TS","TN","TUN",788,34,9,"Africa",553.64,974.53949999999998,833.97270000000003,473.0899,459.02890000000002,553.64,4.84,8.293450109061215E-2,{"$f":"IF(ISNUMBER(MATCH(B182,'Grid EFs'!$B$4:$B$157,0)),\"\",\"*\")","v":""},{"$f":"VLOOKUP(B182,'Wind Capacity Factor'!$B$6:$L$276,8,FALSE)","v":0.21513874253600282},{"$f":"IF(INDEX('Wind Capacity Factor'!$A$6:$B$258,MATCH('Country Parameters'!B182,'Wind Capacity Factor'!$B$6:$B$258,0),1)=\"*\",\"*\",\"\")","v":""}]
[null,"Turkey","Republic of Turkey","TU","TR","TUR",792,39,35,"Asia",459.1454,1024.6189999999999,642.71379999999999,373.39429999999999,459.1454,"N/A",4.45,8.5460915686455904E-2,{"$f":"IF(ISNUMBER(MATCH(B183,'Grid EFs'!$B$4:$B$157,0)),\"\",\"*\")","v":""},{"$f":"VLOOKUP(B183,'Wind Capacity Factor'!$B$6:$L$276,8,FALSE)","v":0.28933813654390039},{"$f":"IF(INDEX('Wind Capacity Factor'!$A$6:$B$258,MATCH('Country Parameters'!B183,'Wind Capacity Factor'!$B$6:$B$258,0),1)=\"*\",\"*\",\"\")","v":""}]
[null,"Turkmenistan","Turkmenistan","TX","TM","TKM",795,40,60,"Asia",846.53392083466008,919.05070000000001,785.51969999999994,986.74469999999997,986.74469999999997,846.53392083466008,4.45,8.1539771090360952E-2,{"$f":"IF(ISNUMBER(MATCH(B184,'Grid EFs'!$B$4:$B$157,0)),\"\",\"*\")","v":""},{"$f":"VLOOKUP(B184,'Wind Capacity Factor'!$B$6:$L$276,8,FALSE)","v":0.22185234633472933},{"$f":"IF(INDEX('Wind Capacity Factor'!$A$6:$B$258,MATCH('Country Parameters'!B184,'Wind Capacity Factor'!$B$6:$B$258,0),1)=\"*\",\"*\",\"\")","v":"*"}]
[null,"Tuvalu","Tuvalu","TV","TV","TUV",798,-8,178,"Oceana",736.13379999999995,1144.2709,843.06479999999999,451.97480000000002,736.13379999999995,"N/A",5.31,5.2001785658027835E-2,{"$f":"IF(ISNUMBER(MATCH(B185,'Grid EFs'!$B$4:$B$157,0)),\"\",\"*\")","v":"*"},{"$f":"VLOOKUP(B185,'Wind Capacity Factor'!$B$6:$L$276,8,FALSE)","v":0.18500946185704334},{"$f":"IF(INDEX('Wind Capacity Factor'!$A$6:$B$258,MATCH('Country Parameters'!B185,'Wind Capacity Factor'!$B$6:$B$258,0),1)=\"*\",\"*\",\"\")","v":"*"}]
[null,"Uganda","Republic of Uganda","UG","UG","UGA",800,1,32,"Africa",486.73714285714289,974.53949999999998,833.97270000000003,456.774,597.66229999999996,486.73714285714289,5.6,7.571494692664206E-2,{"$f":"IF(ISNUMBER(MATCH(B186,'Grid EFs'!$B$4:$B$157,0)),\"\",\"*\")","v":""},{"$f":"VLOOKUP(B186,'Wind Capacity Factor'!$B$6:$L$276,8,FALSE)","v":0.24610688499118938},{"$f":"IF(INDEX('Wind Capacity Factor'!$A$6:$B$258,MATCH('Country Parameters'!B186,'Wind Capacity Factor'!$B$6:$B$258,0),1)=\"*\",\"*\",\"\")","v":"*"}]
[null,"Ukraine","Ukraine","UP","UA","UKR",804,49,32,"Europe",459.97579999999999,1057.3423,750.41110000000003,371.65429999999998,459.97579999999999,"N/A",3.24,7.4604627493893461E-2,{"$f":"IF(ISNUMBER(MATCH(B187,'Grid EFs'!$B$4:$B$157,0)),\"\",\"*\")","v":""},{"$f":"VLOOKUP(B187,'Wind Capacity Factor'!$B$6:$L$276,8,FALSE)","v":0.11911852293031565},{"$f":"IF(INDEX('Wind Capacity Factor'!$A$6:$B$258,MATCH('Country Parameters'!B187,'Wind Capacity Factor'!$B$6:$B$258,0),1)=\"*\",\"*\",\"\")","v":""}]
[null,"United Arab Emirates","United Arab Emirates","AE","AE","ARE",784,24,54,"Asia",676.37,1144.2709,1195.7221999999999,588.90049999999997,597.27589999999998,676.37,5.61,5.8705113778070299E-2,{"$f":"IF(ISNUMBER(MATCH(B188,'Grid EFs'!$B$4:$B$157,0)),\"\",\"*\")","v":"*"},{"$f":"VLOOKUP(B188,'Wind Capacity Factor'!$B$6:$L$276,8,FALSE)","v":0.22710481994381521},{"$f":"IF(INDEX('Wind Capacity Factor'!$A$6:$B$258,MATCH('Country Parameters'!B188,'Wind Capacity Factor'!$B$6:$B$258,0),1)=\"*\",\"*\",\"\")","v":"*"}]
[null,"United Kingdom","United Kingdom of Great Britain and Northern Ireland","UK","GB","GBR",826,54,-2,"Europe",479.47829999999999,892.97889999999995,761.78660000000002,386.89659999999998,479.47829999999999,"N/A",2.61,5.9621438799079995E-2,{"$f":"IF(ISNUMBER(MATCH(B189,'Grid EFs'!$B$4:$B$157,0)),\"\",\"*\")","v":""},{"$f":"VLOOKUP(B189,'Wind Capacity Factor'!$B$6:$L$276,8,FALSE)","v":0.25150370551874951},{"$f":"IF(INDEX('Wind Capacity Factor'!$A$6:$B$258,MATCH('Country Parameters'!B189,'Wind Capacity Factor'!$B$6:$B$258,0),1)=\"*\",\"*\",\"\")","v":""}]
[null,"United States","United States of America","US","US","USA",840,38,-97,"North America",480.68610000000001,912.45330000000001,671.13300000000004,403.06540000000001,480.68610000000001,"N/A",4.3,5.427651723557974E-2,{"$f":"IF(ISNUMBER(MATCH(B190,'Grid EFs'!$B$4:$B$157,0)),\"\",\"*\")","v":""},{"$f":"VLOOKUP(B190,'Wind Capacity Factor'!$B$6:$L$276,8,FALSE)","v":0.2721213842785562},{"$f":"IF(INDEX('Wind Capacity Factor'!$A$6:$B$258,MATCH('Country Parameters'!B190,'Wind Capacity Factor'!$B$6:$B$258,0),1)=\"*\",\"*\",\"\")","v":""}]
[null,"Uruguay","Oriental Republic of Uruguay","UY","UY","URY",858,-33,-56,"South America",482.06363636363636,1240.4880000000001,714.87819999999999,496,273.4443,482.06363636363636,4.5999999999999996,7.7533378828687827E-2,{"$f":"IF(ISNUMBER(MATCH(B191,'Grid EFs'!$B$4:$B$157,0)),\"\",\"*\")","v":"*"},{"$f":"VLOOKUP(B191,'Wind Capacity Factor'!$B$6:$L$276,8,FALSE)","v":0.22627201565557731},{"$f":"IF(INDEX('Wind Capacity Factor'!$A$6:$B$258,MATCH('Country Parameters'!B191,'Wind Capacity Factor'!$B$6:$B$258,0),1)=\"*\",\"*\",\"\")","v":""}]
[null,"Uzbekistan","Republic of Uzbekistan","UZ","UZ","UZB",860,41,64,"Asia",584.5,1565.6724999999999,783.74810000000002,643.07950000000005,546.10950000000003,584.5,4.32,6.5292401988653451E-2,{"$f":"IF(ISNUMBER(MATCH(B192,'Grid EFs'!$B$4:$B$157,0)),\"\",\"*\")","v":""},{"$f":"VLOOKUP(B192,'Wind Capacity Factor'!$B$6:$L$276,8,FALSE)","v":0.22185234633472933},{"$f":"IF(INDEX('Wind Capacity Factor'!$A$6:$B$258,MATCH('Country Parameters'!B192,'Wind Capacity Factor'!$B$6:$B$258,0),1)=\"*\",\"*\",\"\")","v":"*"}]
[null,"Vanuatu","Republic of Vanuatu","NH","VU","VUT",548,-16,167,"Oceana",736.13379999999995,1144.2709,843.06479999999999,451.97480000000002,736.13379999999995,"N/A",5.24,5.2001785658027835E-2,{"$f":"IF(ISNUMBER(MATCH(B193,'Grid EFs'!$B$4:$B$157,0)),\"\",\"*\")","v":"*"},{"$f":"VLOOKUP(B193,'Wind Capacity Factor'!$B$6:$L$276,8,FALSE)","v":0.18500946185704334},{"$f":"IF(INDEX('Wind Capacity Factor'!$A$6:$B$258,MATCH('Country Parameters'!B193,'Wind Capacity Factor'!$B$6:$B$258,0),1)=\"*\",\"*\",\"\")","v":"*"}]
[null,"Venezuela","Bolivarian Republic of Venezuela","VE","VE","VEN",862,8,-66,"South America",472.44098150782378,1240.4880000000001,942.30510000000004,606.26649999999995,265.3929,472.44098150782378,5.37,9.9701240696059179E-2,{"$f":"IF(ISNUMBER(MATCH(B194,'Grid EFs'!$B$4:$B$157,0)),\"\",\"*\")","v":"*"},{"$f":"VLOOKUP(B194,'Wind Capacity Factor'!$B$6:$L$276,8,FALSE)","v":0.23637861684516193},{"$f":"IF(INDEX('Wind Capacity Factor'!$A$6:$B$258,MATCH('Country Parameters'!B194,'Wind Capacity Factor'!$B$6:$B$258,0),1)=\"*\",\"*\",\"\")","v":"*"}]
[null,"Vietnam","Socialist Republic of Vietnam","VM","VN","VNM",704,16,106,"Asia",602.27901209677634,987.55219999999997,1083.2944,403.93900000000002,351.21499999999997,602.27901209677634,4.5199999999999996,6.7640948579374208E-2,{"$f":"IF(ISNUMBER(MATCH(B195,'Grid EFs'!$B$4:$B$157,0)),\"\",\"*\")","v":"*"},{"$f":"VLOOKUP(B195,'Wind Capacity Factor'!$B$6:$L$276,8,FALSE)","v":0.32037118868758285},{"$f":"IF(INDEX('Wind Capacity Factor'!$A$6:$B$258,MATCH('Country Parameters'!B195,'Wind Capacity Factor'!$B$6:$B$258,0),1)=\"*\",\"*\",\"\")","v":""}]
[null,"Yemen","Republic of Yemen","YM","YE","YEM",887,15,48,"Asia",679.18018867924513,1144.2709,700.92539999999997,551.48310000000004,650.47529999999995,679.18018867924513,6.46,0.10900844576415189,{"$f":"IF(ISNUMBER(MATCH(B196,'Grid EFs'!$B$4:$B$157,0)),\"\",\"*\")","v":"*"},{"$f":"VLOOKUP(B196,'Wind Capacity Factor'!$B$6:$L$276,8,FALSE)","v":0.22710481994381521},{"$f":"IF(INDEX('Wind Capacity Factor'!$A$6:$B$258,MATCH('Country Parameters'!B196,'Wind Capacity Factor'!$B$6:$B$258,0),1)=\"*\",\"*\",\"\")","v":"*"}]
[null,"Zambia","Republic of Zambia","ZA","ZM","ZMB",894,-15,30,"Africa",{"$f":"IF(P197=\"N/A\",O197,P197)","v":964.40000000000009},974.53949999999998,871.19439999999997,456.774,2.6467000000000001,964.40000000000009,5.69,8.6568386403383726E-2,{"$f":"IF(ISNUMBER(MATCH(B197,'Grid EFs'!$B$4:$B$157,0)),\"\",\"*\")","v":""},{"$f":"VLOOKUP(B197,'Wind Capacity Factor'!$B$6:$L$276,8,FALSE)","v":0.24610688499118938},{"$f":"IF(INDEX('Wind Capacity Factor'!$A$6:$B$258,MATCH('Country Parameters'!B197,'Wind Capacity Factor'!$B$6:$B$258,0),1)=\"*\",\"*\",\"\")","v":"*"}]
[null,"Zimbabwe","Republic of Zimbabwe","ZI","ZW","ZWE",716,-20,30,"Africa",{"$f":"IF(P198=\"N/A\",O198,P198)","v":720.02358500000003},903.09500000000003,2116.7406999999998,456.774,365.12180000000001,720.02358500000003,5.71,9.424919000184169E-2,{"$f":"IF(ISNUMBER(MATCH(B198,'Grid EFs'!$B$4:$B$157,0)),\"\",\"*\")","v":""},{"$f":"VLOOKUP(B198,'Wind Capacity Factor'!$B$6:$L$276,8,FALSE)","v":0.24610688499118938},{"$f":"IF(INDEX('Wind Capacity Factor'!$A$6:$B$258,MATCH('Country Parameters'!B198,'Wind Capacity Factor'!$B$6:$B$258,0),1)=\"*\",\"*\",\"\")","v":"*"}]
[]
[null,"Country Dataset Sources"]
[null,"Source: US. State Department List of Countries http://www.state.gov/s/inr/rls/4250.htm#note3"]
[null,"Access Date: 10/10/2012"]
[]
[null,"Source: ISO 3166 List of Countries Codes, Lat/Long Coordinate Averages https://opendata.socrata.com/dataset/Country-List-ISO-3166-Codes-Latitude-Longitude/mnkm-8ram"]
[null,"Access Date: 10/25/2012"]
[]
[null,"Source: Country by Continent: http://www.countrycallingcodes.com/iso-country-codes/"]
[null,"Access Date: 10/25/2012"]
[]
[null,"Source: CIA World Factbook - South Sudan Longitude & Latitude https://www.cia.gov/library/publications/the-world-factbook/geos/od.html"]
[null,"Access Date: 3/16/2016"]
[]
[null,"Parameter Sources"]
[null,"Source: NASA http://eosweb.larc.nasa.gov/sse/"]
[null,"NASA Surface meteorology and Solar Energy (SSE) Release 6.0 Data Set (Jan 2008)\n22-year Monthly & Annual Average (July 1983 - June 2005)\nParameter: Insolation Incident On A Horizontal Surface "]
[null,"Access Date: 10/20/2012"]
[]
[null,"Emission Factors:"]
[null,"Source: IGES List of Grid Emission Factor http://pub.iges.or.jp/modules/envirolib/view.php?docid=2136  "]
[null,"Purchase site: http://pub.iges.or.jp/index.html"]
[null,"Access date: 12/22/2022"]
[null,"IGES assembled average Clean Development Mechanism (CDM) combined marginal emission factors for grid electricity for a number of countries.  \n\n \nData used in precendence of IEA data. "]
[]
[null,"Source: IEA CO2 Emissions From Fuel Combustion - Highlights 2013 http://www.iea.org/bookshop/669-CO2_Emissions_from_Fuel_Combustion  \n"]
[null,"Purchase site: http://www.iea.org/bookshop/"]
[null,"Access Date: 12/1/2015"]
[null,"CO2 data was obtained from IEA. Where country or regional marginal emission factors are not available from IGES, grid average emission factors can be found here. "]
[]
[null,"Lineloss"]
[null,"Source: IEA Electricity Information http://www.iea.org/bookshop/645-Electricity_Information_2014"]
[null,"Purchase site: http://data.iea.org/ieastore/product.asp?dept_id=101&pf_id=305"]
[null,"Access Date: 5/15/2015"]
[null,"Lineloss data was derived by country averages from IEA. For countries that did not have this information, regional averages were used instead."]

{"sheet":"Wind Capacity Factor","index":7,"n_rows":262,"n_cols":15,"rows_kept":262,"cut":false,"hidden":true,"merged":[[1,1,2,11]]}
[]
[null,"Wind Electricity Capacity Factor (%)"]
[]
[]
[null,null,null,2007,2008,2009,2010,2011,2012,"Average","Weighted Average",null,null,null,"Used Regional Values for Missing Data"]
[null,"North America",null,0.23339787536287881,0.25005650682613756,0.24335883990757234,0.27563614479861548,0.31282940899159939,0.26615710811772753,0.26357264733408847,0.26986701930910972,-2.3880975657701281E-2,null,null,"Regional Average"]
[{"$f":"IF(I7=$I$6,\"*\",\"\")","v":"*"},"Bermuda",null,"","","","","",0.26615710811772753,0.26357264733408847,"",""]
["","Canada",null,0.18761167361524717,0.18110417839494591,0.2309887333427941,0.27501430177963637,0.42685174344230664,0.20824127264692882,0.25163531720364318,0.26893062113622629,-6.8731623703624956E-2]
["*","Greenland",null,"","","","","",0.26615710811772753,0.26357264733408847,"",""]
["","Mexico",null,0.296125502961255,0.30403725304037249,0.14323479932708486,0.248573560921588,0.26269003715269074,0.27064524083267233,0.25421773237261053,0.24939414057018261,1.89742539098646E-2]
["*","Saint Pierre and Miquelon",null,0,0,0,0,0,0.26615710811772753,0,0,""]
["","United States",null,0.23812392361892479,0.25637546841241177,0.24593360487369872,0.27609687926058551,0.30035007343764553,0.2721213842785562,0.26483355564697042,0.27028501178454079,-2.0584461528120285E-2]
[null,"Central & South America",null,0.2856194429653543,0.23513109349428304,0.21709364421440416,0.26256745599548426,0.24616825102013723,0.23637861684516193,0.24715975075580418,0.242786997788556,1.7692010749632503E-2]
[{"$f":"IF(I14=$I$13,\"*\",\"\")","v":""},"Antarctica",null,"",0.38051750380517502,0.45662100456621008,0.45662100456621008,0.28538812785388123,0.28538812785388123,0.37290715372907152,0.39363879703983623,-5.5594651653764968E-2]
["*","Antigua and Barbuda",null,"","","","","",0.23637861684516193,0.24715975075580418,"",""]
["","Argentina",null,0.24869536855838226,0.15981735159817351,0.13698630136986301,5.7077625570776246E-2,0.34448620034751681,0.29895874855381749,0.20767026599975488,0.25458456110670297,-0.22590761793025999]
["","Aruba",null,"","",0.11415525114155251,0.38051750380517502,0.34246575342465752,0.34246575342465752,0.29490106544901062,0.29490106544901062,0]
["*","Bahamas, The",null,"","","","","",0.23637861684516193,0.24715975075580418,"",""]
["*","Barbados",null,"","","","","",0.23637861684516193,0.24715975075580418,"",""]
["","Belize",null,0.34246575342465752,0.34246575342465752,0.34246575342465752,0.34246575342465752,0.34246575342465752,0.34246575342465752,0.34246575342465752,0.34246575342465752,0]
["*","Bolivia",null,"","","","","",0.23637861684516193,0,0,""]
["","Brazil",null,0.29809772059231326,0.23079213817748662,0.23554033485540338,0.26808628018895342,0.23931918478312894,0.22985806150910693,0.25028228668439872,0.24122213751096463,3.619972189585581E-2]
["*","Cayman Islands",null,"","","","","",0.23637861684516193,0.24715975075580418,"",""]
["","Chile",null,5.1369863013698634E-2,0.21689497716894979,5.5326778160629753E-2,0.23251253606745667,0.20597577923367083,0.2277536473994877,0.16497226350731556,0.18128761075327346,-9.8897517067979182E-2]
["","Colombia",null,0.31075596144089301,0.31612223393045313,0.33953869570307926,0.22831050228310504,0.34539281114623582,0.32197634937360964,0.3103494256462293,0.31034414596058429,1.7012068361383996E-5]
["","Costa Rica",null,0.39302022178734503,0.32289628180039137,0.31012176560121762,0.3415144596651446,0.34160094091600934,0.40670696762982272,0.35264343956665511,0.35394698437860955,-3.6964952858794006E-3]
["","Cuba",null,0.28538812785388129,0.31709791983764585,0.31709791983764585,0.29270577215782695,0.34149006751746475,0.16586660422276861,0.28660773523787225,0.28150906592188674,1.7789712869242125E-2]
["*","Dominica",null,"",0,0.28538812785388123,8.1539465101108932E-3,8.1539465101108932E-3,0.23637861684516193,6.1924693774008846E-2,1.0569930661254863E-2,0.82930992440868079]
["","Dominican Republic",null,"",0,0.28538812785388123,0.28538812785388123,0.3493842534938425,0.3493842534938425,0.25390895253908952,0.34795069041644383,-0.37037582541669734]
["*","Ecuador",null,3.8051750380517495E-2,8.5616438356164379E-2,0.11415525114155249,0.13698630136986303,0.13698630136986303,0.23637861684516193,8.7302064140564503E-2,5.0362610797743755E-2,0.42312233629831209]
["*","El Salvador",null,"","","","","",0.23637861684516193,0.24715975075580418,"",""]
["","Falkland Islands (Islas Malvinas)",null,3.4246575342465752E-2,0.22831050228310504,0.22831050228310504,0.22831050228310504,0.22831050228310504,0.22831050228310504,0.19596651445966515,0.19596651445966512,1.4163427712208308E-16]
["*","French Guiana",null,"","","","","",0.23637861684516193,0.24715975075580418,"",""]
["*","Grenada",null,0,0,0,0,0,0.23637861684516193,0,0,""]
["","Guadeloupe",null,0.27179821700369644,0.27179821700369644,0.27179821700369644,0.27179821700369644,0.27179821700369644,0.21297621481632931,0.26199454997246857,0.25983744569397388,8.2333937050269538E-3]
["*","Guatemala",null,"","","","","",0.23637861684516193,0.24715975075580418,"",""]
["*","Guyana",null,0,0,0,0,0,0.23637861684516193,0,0,""]
["*","Haiti",null,"","","","","",0.23637861684516193,0.24715975075580418,"",""]
["","Honduras",null,"","","","",0,0.37827916554749752,0.18913958277374876,0.18913958277374876,0]
["","Jamaica",null,0.2826701456838443,0.26636225266362251,0.22677305782328616,0.20371139092600282,0.34461962608770569,0.25607152771794794,0.26336800015040157,0.26914652708170911,-2.1940884724065163E-2]
["","Martinique",null,0.20755500207555003,0.20755500207555003,0.20755500207555003,0.20755500207555003,0.20755500207555003,0.20755500207555003,0.20755500207555003,0.20755500207555,1.3372636331610009E-16]
["*","Montserrat",null,"","","","","",0.23637861684516193,0.24715975075580418,"",""]
["","Netherlands Antilles",null,0.28538812785388123,0.28538812785388123,0.28538812785388123,0.28186481763346305,0.2446183953033268,0.22831050228310501,0.26849301646358975,0.2628286672483941,2.1096821398942391E-2]
["","Nicaragua",null,"","",0.3139269406392694,0.2899180981372762,0.33884177719794156,0.25802214299118037,0.30017723974141691,0.28794930336026225,4.0735721308145234E-2]
["*","Panama",null,"","","","","",0.23637861684516193,0.24715975075580418,"",""]
["*","Paraguay",null,"","","","","",0.23637861684516193,0.24715975075580418,"",""]
["","Peru",null,0.16307893020221789,0.16307893020221789,0.16307893020221789,0.16307893020221789,0.16307893020221789,0.16307893020221789,0.16307893020221789,0.16307893020221786,1.7019718967503649E-16]
["*","Puerto Rico",null,"","","","","",0.23637861684516193,0,0,""]
["*","Saint Kitts and Nevis",null,"","","","",0,0.23637861684516193,0,0,""]
["*","Saint Lucia",null,"","","","","",0.23637861684516193,0.24715975075580418,"",""]
["*","Saint Vincent/Grenadines",null,"","","","","",0.23637861684516193,0.24715975075580418,"",""]
["*","Suriname",null,"","","","","",0.23637861684516193,0.24715975075580418,"",""]
["*","Trinidad and Tobago",null,"","","","","",0.23637861684516193,0.24715975075580418,"",""]
["*","Turks and Caicos Islands",null,"","","","","",0.23637861684516193,0.24715975075580418,"",""]
["","Uruguay",null,0,3.4246575342465758E-2,0.47945205479452058,0.38812785388127857,0.3451205267070192,0.22627201565557731,0.24553650439681027,0.28978815994341767,-0.18022434446281979]
["*","Venezuela",null,"","","","","",0.23637861684516193,0,0,""]
["*","Virgin Islands,  U.S.",null,"","","","","",0.23637861684516193,0.24715975075580418,"",""]
["*","Virgin Islands, British",null,"","","","","",0.23637861684516193,0.24715975075580418,"",""]
[null,"Europe",null,0.21372722070387218,0.212516658293737,0.20305322810060616,0.22975833482456859,0.21604213266535882,0.22185234633472933,0.21615832015381201,0.21672670186079096,-2.6294694859513635E-3]
[{"$f":"IF(I60=$I$59,\"*\",\"\")","v":"*"},"Albania",null,"","","","","",0.22185234633472933,0.21615832015381201,"",""]
["","Austria",null,0.24022132910675872,0.23235446360896977,0.22601361594222871,0.24017985561280775,0.2204887535937764,0.20403801419567769,0.22721600534336983,0.22564824959565921,6.8998473295990761E-3]
["","Belgium",null,0.2030805373568923,0.22443486104064492,0.18949771689497721,0.16171993911719937,0.24945431867789214,0.22536033068145686,0.20892461729484382,0.21218800725961512,-1.5619939895191256E-2]
["*","Bosnia and Herzegovina",null,"","","","","",0.22185234633472933,0.21615832015381201,"",""]
["","Bulgaria",null,0.17884322678843226,0.12216614595850356,0.15914585012087026,0.16826780525410662,0.18078198517283886,0.20680053656355429,0.16933425830971763,0.18145832177915813,-7.1598408913010475E-2]
["","Croatia",null,0.2350255170561375,0.26860059092130001,0.22831050228310501,0.17828741470422244,0.12112656418836489,0.20865043125317095,0.20666683673438349,0.18225220138868253,0.11813523510344152]
["","Cyprus",null,"","","",0.11137097672346588,9.7117153956246149E-2,0.143664771844811,0.11738430084150768,0.11918688755550523,-1.5356284452649282E-2]
["","Czech Republic",null,0.1251702315148602,0.18645357686453581,0.17034565973454469,0.17953994897849807,0.21276823804317532,0.18264840182648404,0.17615434282701636,0.18037128920528767,-2.393892941039975E-2]
["","Denmark",null,0.26203819012038193,0.25003717354052352,0.22034389515289327,0.23446563812845436,0.2823191277188164,0.28168535060637773,0.2551482292112412,0.25622563598105547,-4.2226699873439801E-3]
["","Faroe Islands",null,0.43880164829045543,0.36112039202583807,0.41791959015480568,0.37810446597616659,0.33411293017039756,0.33411293017039756,0.37736199279801008,0.37736199279801019,-2.9420637102142495E-16]
["","Finland",null,0.195101701951017,0.2083532905450714,0.21510887460006836,0.17036367429246926,0.27707028292145658,0.19580796549974636,0.21030096496830483,0.21030261672479739,-7.8542506583523656E-6]
["*","Former Czechoslovakia",null,"","","","","",0.22185234633472933,0.21615832015381201,"",""]
["*","Former Serbia and Montenegro",null,"","","","","",0.22185234633472933,0.21615832015381201,"",""]
["*","Former Yugoslavia",null,"","","","","",0.22185234633472933,0.21615832015381201,"",""]
["","France",null,0.20877041424986628,0.18978060308132444,0.19709345084697116,0.18985880858026979,0.20911655902334109,0.22399963950973328,0.20310324588191767,0.20503925605078607,-9.532147851511864E-3]
["","Germany",null,0.20436584269866451,0.19448814443910775,0.17168164210098272,0.15872955873409472,0.18266411486862327,0.18471169009556013,0.18277349882283886,0.18200108359494882,4.2260789056663825E-3]
["*","Germany, East",null,"","","","","",0.22185234633472933,0.21615832015381201,"",""]
["*","Germany, West",null,"","","","","",0.22185234633472933,0.21615832015381201,"",""]
["*","Gibraltar",null,"","","","","",0.22185234633472933,0.21615832015381201,"",""]
["","Greece",null,0.24531234819780437,0.25042668596806333,0.24790504154822207,0.23868825238688254,0.23074674239893084,0.25128514402228541,0.24406070242036479,0.24352923237316446,2.1776141833966403E-3]
["","Hungary",null,0.20585373156673403,0.17464049614939001,0.18892694063926938,0.208050867268222,0.21589482542178812,0.27046013347383208,0.21063783241987263,0.21879756468797565,-3.8738208489716611E-2]
["*","Iceland",null,"","","","","",0.22185234633472933,0,0,""]
["","Ireland",null,0.26142220085983603,0.2676207735906046,0.2668740246228542,0.23135135490530623,0.30656039239730226,0.26172816299464013,0.26592615156175725,0.26718904663348719,-4.7490442903531192E-3]
["","Italy",null,0.17043015658957172,0.15742090093591116,0.15308829846673053,0.17980338659264899,0.16732209404095727,0.18894808050059195,0.16950215285440193,0.17206978155496064,-1.5148059522077215E-2]
["*","Kosovo",null,"","","","","",0.22185234633472933,0.22185234633472933,"",""]
["","Luxembourg",null,0.20874103065883887,0.16194117022406287,0.16725071678878622,0.14269406392694065,0.16235413495687467,0.14685495429873821,0.1649726784757069,0.16253188943746946,1.4795110686142244E-2]
["*","Macedonia",null,"","","","","",0.22185234633472933,0.21615832015381201,"",""]
["*","Malta",null,"","","","","",0.22185234633472933,0.21615832015381201,"",""]
["*","Montenegro",null,"","","","","",0.22185234633472933,0.21615832015381201,"",""]
["","Netherlands",null,0.22452274223378579,0.2262919357203414,0.23534887735348875,0.20376482691471573,0.25123027420919392,0.23785924767344818,0.22983631735082899,0.23027673756648934,-1.9162342171889096E-3]
["","Norway",null,0.29260483913294494,0.26385758048667707,0.26366354696287664,0.24039752887456356,0.28828660102739728,0.25266795274005083,0.26691300820408503,0.26549435814318312,5.315027807926088E-3]
["","Poland",null,0.19473542841794253,0.18165008594197612,0.17340649573970673,0.17143893312233155,0.17059868087265345,0.21710535944268822,0.18482249725621644,0.18963414433694614,-2.6033881979526521E-2]
["","Portugal",null,0.20937971324781804,0.23002862471890714,0.26005842991567751,0.27612579451573638,0.24424288460878218,0.25858218623563417,0.24640293887375922,0.2500253194332368,-1.4701044460080304E-2]
["","Romania",null,0.11415525114155249,0.11415525114155252,0.10273972602739727,0.93150684931506866,0.15925936259055698,0.15819940315679717,0.26333597389548752,0.16810015401745013,0.36165138575344996]
["*","Serbia",null,"","","","","",0.22185234633472933,0.21615832015381201,"",""]
["","Slovakia",null,0.18264840182648404,0.15981735159817353,0.22831050228310498,0.22831050228310498,0.15220700152206998,0.22831050228310498,0.19660071029934043,0.19198837691988377,2.3460410557184699E-2]
["*","Slovenia",null,"","","","","",0.22185234633472933,0,0,""]
["","Spain",null,0.21263729482907562,0.22717963781996917,0.22691154087205662,0.4714922534991739,0.22468366444666013,0.24796876331393575,0.26847885913014519,0.25382473313581388,5.4582048068178471E-2]
["","Sweden",null,0.22991832272171847,0.279918773069458,0.19590870102676661,0.19800479915686817,0.25077876225860019,0.21834553508521723,0.22881248221977146,0.22482810239168446,1.7413297515211833E-2]
["","Switzerland",null,0.15220700152206998,0.15492498369210697,0.14586504312531712,0.10056534029136768,9.2829544884339393E-2,0.20091324200913238,0.14121752592072226,0.13837000138370001,2.0164101576321446E-2]
["","Turkey",null,0.27756927503596679,0.26563048823322793,0.21548245007149114,0.25217932752179328,0.31202875471080227,0.28933813654390039,0.26870473868619693,0.27753278001530973,-3.2854058965526865E-2]
["","United Kingdom",null,0.24305805188556642,0.23751387198815543,0.23980592834070999,0.21582675870301321,0.2736658854188701,0.25150370551874951,0.2435623669758441,0.24606137193241751,-1.0260226108006447E-2]
["","Eurasia",null,0.15517916268356632,0.1643619373677257,0.16099089045756151,0.17713447911403035,0.23901194570631484,0.184330383518272,0.18016813314124511,0.18798352629999077,-4.3378332352584696E-2]
["","Armenia",null,0.12972187629721876,8.6481250864812509E-2,0.17296250172962502,0.30268437802684378,0.30734106076571832,0.17562346329469616,0.19580242182981911,0.19557054446839578,1.1842415392842405E-3]
["*","Azerbaijan",null,0,0,0,0,0,0.22185234633472933,0,0,""]
["","Belarus",null,0.11415525114155252,0.11415525114155252,5.7077625570776259E-2,0.11415525114155252,0.32534246575342468,0.36049026676279738,0.18089601858527596,0.19256491859231581,-6.4506118477886953E-2]
["","Estonia",null,0.20776255707762553,0.19717725197177252,0.21404109589041095,0.29278707931675968,0.23338406900050732,0.18417613009454939,0.22155469722527091,0.21701087082493106,2.0508824490052691E-2]
["*","Former U.S.S.R.",null,"","","","","",0.22185234633472933,0.21615832015381201,"",""]
["*","Georgia",null,"","","","","",0.22185234633472933,0.21615832015381201,"",""]
["","Kazakhstan",null,0.22831050228310504,0.22831050228310504,0.22831050228310504,0.16307893020221789,5.7077625570776259E-2,0.17123287671232876,0.17938682322243968,0.14729709824716453,0.17888563049853384]
["*","Kyrgyzstan",null,"","","","","",0.22185234633472933,0.21615832015381201,"",""]
["","Latvia",null,0.23270108886547244,0.24054142204827136,0.20384866275277233,0.18645357686453576,0.18788051750380513,0.19137792103142626,0.20713386484438057,0.20227509412801406,2.345715279351783E-2]
["","Lithuania",null,0.25745652385116097,0.2769321833248774,0.20040588533739218,0.16604400166044003,0.19259712762429534,0.27397260273972601,0.22790138742298197,0.22267132432284142,2.2948798861121514E-2]
["*","Moldova",null,"","","","","",0.22185234633472933,0.21615832015381201,"",""]
["*","Russia",null,4.8429500484295E-2,3.4592500345924995E-2,3.2615786040443573E-2,2.9650714582221425E-2,2.7179821700369644E-2,0.22185234633472933,3.440718337978612E-2,3.4484398782343988E-2,-2.2441651705565301E-3]
["*","Tajikistan",null,"","","","","",0.22185234633472933,0.21615832015381201,"",""]
["*","Turkmenistan",null,"","","","","",0.22185234633472933,0.21615832015381201,"",""]
["","Ukraine",null,6.4212328767123295E-2,6.4212328767123295E-2,6.1358447488584482E-2,7.2773972602739725E-2,0.34375009443683907,0.11911852293031565,0.12090428249878758,0.14164357891610116,-0.17153483721737936]
["*","Uzbekistan",null,"","","","","",0.22185234633472933,0.21615832015381201,"",""]
[null,"Middle East",null,0.23839650840806145,0.26325110326144185,0.3003754819204123,0.18461200221366572,0.30072875587873843,0.22710481994381521,0.25241144527102249,0.2513703911027555,4.1244332924332454E-3]
[{"$f":"IF(I120=$I$119,\"*\",\"\")","v":""},"Bahrain",null,"",0.137536447158497,0.275072894316994,0.275072894316994,0.3438411178962425,0.3438411178962425,0.275072894316994,0.275072894316994,0]
["","Iran",null,0.24364478974988071,0.27285889297249138,0.31323087203474775,0.18607305936073057,0.31301369863013695,0.23630136986301367,0.26085378043516688,0.25974081813413136,4.2666136529776796E-3]
["*","Iraq",null,"","","","","",0.22710481994381521,0.25241144527102249,"",""]
["","Israel",null,0.19025875190258748,0.17123287671232873,0.17123287671232873,0.15220700152206998,0.13318112633181123,0.11415525114155249,0.15537798072044642,0.15537798072044648,-3.5726523780182598E-16]
["","Jordan",null,0.24461839530332682,0.24461839530332682,0.24461839530332682,0.24461839530332682,0.24461839530332682,0.22831050228310498,0.24190041313328983,0.24174053182916999,6.6093853271653833E-4]
["*","Kuwait",null,"","","","","",0.22710481994381521,0.25241144527102249,"",""]
["*","Lebanon",null,"","","","","",0.22710481994381521,0.25241144527102249,"",""]
["*","Oman",null,"","","","","",0.22710481994381521,0.25241144527102249,"",""]
["*","Palestinian Territories",null,"","","","","",0.22710481994381521,0.25241144527102249,"",""]
["*","Qatar",null,"","","","","",0.22710481994381521,0.25241144527102249,"",""]
["*","Saudi Arabia",null,"","","","","",0.22710481994381521,0.25241144527102249,"",""]
["*","Syria",null,0,0,0,0,0,0.22710481994381521,0,0,""]
["*","United Arab Emirates",null,"","","","","",0.22710481994381521,0,0,""]
["*","Yemen",null,"","","","","",0.22710481994381521,0.25241144527102249,"",""]
[null,"Africa",null,0.30397280380533331,0.26475384725081641,0.25555909553344142,0.29129857847773627,0.32958956616043517,0.24610688499118938,0.28188012936982532,0.28098057299915474,3.1912727324257747E-3]
[{"$f":"IF(I135=$I$134,\"*\",\"\")","v":"*"},"Algeria",null,"","","","","",0.24610688499118938,0,0,""]
["*","Angola",null,"","","","","",0.24610688499118938,0.28188012936982532,"",""]
["*","Benin",null,"","","","","",0.24610688499118938,0.28188012936982532,"",""]
["*","Botswana",null,"","","","","",0.24610688499118938,0.28188012936982532,"",""]
["*","Burkina Faso",null,"","","","","",0.24610688499118938,0.28188012936982532,"",""]
["*","Burundi",null,"","","","","",0.24610688499118938,0.28188012936982532,"",""]
["*","Cameroon",null,"","","","","",0.24610688499118938,0.28188012936982532,"",""]
["*","Cape Verde",null,0.28538812785388129,0.24461839530332682,0.28538812785388129,0.28538812785388129,0.28538812785388129,0.24610688499118938,0.23625127372105614,0.1184902606785735,0.49845662708055516]
["*","Central African Republic",null,"","","","","",0.24610688499118938,0.28188012936982532,"",""]
["*","Chad",null,"","","","","",0.24610688499118938,0.28188012936982532,"",""]
["*","Comoros",null,"","","","","",0.24610688499118938,0.28188012936982532,"",""]
["*","Congo (Brazzaville)",null,"","","","","",0.24610688499118938,0.28188012936982532,"",""]
["*","Congo (Kinshasa)",null,"","","","","",0.24610688499118938,0.28188012936982532,"",""]
["*","Cote dIvoire (IvoryCoast)",null,"","","","","",0.24610688499118938,0.28188012936982532,"",""]
["*","Djibouti",null,"","","","","",0.24610688499118938,0.28188012936982532,"",""]
["","Egypt",null,0.31621004566210054,0.26569634703196343,0.30078581289157902,0.30821917808219179,0.34391863843918641,0.26151930261519302,0.299391554120369,0.29963700272658589,-8.1982475069490427E-4]
["*","Equatorial Guinea",null,"","","","","",0.24610688499118938,0.28188012936982532,"",""]
["*","Eritrea",null,"","","",0,0,0.24610688499118938,0,0,""]
["*","Ethiopia",null,"","","","",0,0.24610688499118938,2.0435199278426068E-2,2.9824344892838042E-2,-0.45945945945945932]
["*","Gabon",null,"","","","","",0.24610688499118938,0.28188012936982532,"",""]
["*","Gambia, The",null,"","","","","",0.24610688499118938,0.28188012936982532,"",""]
["*","Ghana",null,"","","","","",0.24610688499118938,0.28188012936982532,"",""]
["*","Guinea",null,"","","","","",0.24610688499118938,0.28188012936982532,"",""]
["*","Guinea-Bissau",null,"","","","","",0.24610688499118938,0.28188012936982532,"",""]
["","Kenya",null,0.32615786040443578,0.32615786040443578,5.2185257664709725,0.37702651753173311,0.37702651753173311,0.34246575342465757,1.1612267126279947,0.46470279225764738,0.59981734212265103]
["*","Lesotho",null,"","","","","",0.24610688499118938,0.28188012936982532,"",""]
["*","Liberia",null,"","","","","",0.24610688499118938,0.28188012936982532,"",""]
["*","Libya",null,"","","","","",0.24610688499118938,0.28188012936982532,"",""]
["*","Madagascar",null,"","","","",0,0.24610688499118938,0,0,""]
["*","Malawi",null,"","","","","",0.24610688499118938,0.28188012936982532,"",""]
["*","Mali",null,"","","","","",0.24610688499118938,0.28188012936982532,"",""]
["*","Mauritania",null,"","","","","",0.24610688499118938,0.28188012936982532,"",""]
["","Mauritius",null,0.25367833587011673,0.25367833587011673,0.63419583967529169,1.2683916793505834,1.9025875190258752,0.41511000415110005,0.78794028565718055,0.61643835616438358,0.21765853658536574]
["","Morocco",null,0.27962524204120415,0.27214611872146116,0.17853881278538813,0.26303605070728364,0.34403489777024593,0.28558427089707983,0.27049423215377716,0.27190638343982443,-5.22063363349077E-3]
["*","Mozambique",null,"","","","","",0.24610688499118938,0.28188012936982532,"",""]
["*","Namibia",null,0,0,0,0,0,0.24610688499118938,0,0,""]
["*","Niger",null,"","","","","",0.24610688499118938,0.28188012936982532,"",""]
["*","Nigeria",null,0,0,0,0,0,0.24610688499118938,0,0,""]
["","Reunion",null,0.11415525114155252,0.11415525114155252,0.16307893020221786,0.16307893020221786,0.16307893020221786,9.756859071927565E-2,0.13585264726817237,0.13367125426411303,1.6057051871453652E-2]
["*","Rwanda",null,"","","","","",0.24610688499118938,0.28188012936982532,"",""]
["*","Saint Helena",null,"","","","","",0.24610688499118938,0.28188012936982532,"",""]
["*","Sao Tome and Principe",null,"","","","","",0.24610688499118938,0.28188012936982532,"",""]
["*","Senegal",null,"","","","","",0.24610688499118938,0.28188012936982532,"",""]
["*","Seychelles",null,"","","","","",0.24610688499118938,0.28188012936982532,"",""]
["*","Sierra Leone",null,"","","","","",0.24610688499118938,0.28188012936982532,"",""]
["*","Somalia",null,"","","","","",0.24610688499118938,0.28188012936982532,"",""]
["*","South Africa",null,1.2176560121765598,0.45662100456621008,0.45662100456621008,0.36529680365296807,0.36529680365296807,0.24610688499118938,0.67094152337608193,0.61146295417980268,8.8649408516246822E-2]
[null,"South Sudan",null,"","","","","",0.24610688499118938,0.28188012936982532,"",""]
["*","Sudan ",null,"","","","","",0.24610688499118938,0.28188012936982532,"",""]
["*","Swaziland",null,"","","","","",0.24610688499118938,0.28188012936982532,"",""]
["*","Tanzania",null,"","","","","",0.24610688499118938,0.28188012936982532,"",""]
["*","Togo",null,"","","","","",0.24610688499118938,0.28188012936982532,"",""]
["","Tunisia",null,0.25835135784667146,0.23431867339581833,0.22146118721461183,0.29384407238288518,0.34457973955690852,0.21513874253600282,0.26128229548881637,0.25761035007610356,1.4053556157883602E-2]
["*","Uganda",null,"","","","","",0.24610688499118938,0.28188012936982532,"",""]
["*","Western Sahara",null,"","","","","",0.24610688499118938,0.28188012936982532,"",""]
["*","Zambia",null,"","","","","",0.24610688499118938,0.28188012936982532,"",""]
["*","Zimbabwe",null,"","","","","",0.24610688499118938,0.28188012936982532,"",""]
[null,"Asia & Oceania",null,0.1626015905533405,0.1590875379874449,0.19682262748441792,0.17631596303165858,0.19351873094872621,0.18500946185704334,0.17889265197710524,0.18303476640850383,-2.3154189876556222E-2]
[{"$f":"IF(I193=$I$192,\"*\",\"\")","v":"*"},"Afghanistan",null,"",1.630789302022179E-2,0.16307893020221789,0.16307893020221789,0.16307893020221789,0.18500946185704334,0.10339204174820613,3.6565353881278538E-2,0.64634266561514186]
[{"$f":"IF(I194=$I$192,\"*\",\"\")","v":"*"},"American Samoa",null,"","","","","",0.18500946185704334,0.17889265197710524,"",""]
["","Australia",null,0.23863839930391798,0.24502580970216647,0.25557346226161698,0.29383953593195755,0.31348416639295174,0.27005845597070838,0.26943663826055314,0.27341041545640238,-1.4748466361157899E-2]
["","Bangladesh",null,0.25367833587011668,0.25367833587011668,0.25367833587011668,0.25367833587011668,0.25367833587011668,0.11415525114155252,0.23042448841535598,0.21074815595363541,8.5391672547635772E-2]
["*","Bhutan",null,"","","","","",0.18500946185704334,0.17889265197710524,"",""]
["*","Brunei",null,"","","","","",0.18500946185704334,0.17889265197710524,"",""]
["*","Burma (Myanmar)",null,"","","","","",0.18500946185704334,0.17889265197710524,"",""]
["*","Cambodia",null,"","","","","",0.18500946185704334,0.17889265197710524,"",""]
["","China",null,0.11025481800038309,0.1384834194176211,0.19192351598173515,0.16378892657358055,0.18569254185692541,0.17961299498465455,0.16162603613581664,0.17416123373761727,-7.7556796550198953E-2]
["","Cook Islands",null,8.5616438356164379E-2,8.5616438356164379E-2,8.5616438356164379E-2,8.5616438356164379E-2,8.5616438356164379E-2,8.5616438356164379E-2,8.5616438356164379E-2,8.5616438356164379E-2,0]
["","Fiji",null,0.11415525114155252,0.22831050228310504,0.22831050228310504,0.22831050228310504,0.22831050228310504,0.22831050228310504,0.20928462709284631,0.20928462709284629,1.3262118675976868E-16]
["*","French Polynesia",null,"","","","","",0.18500946185704334,0.17889265197710524,"",""]
["*","Guam",null,"","","","","",0.18500946185704334,0.17889265197710524,"",""]
["*","Hawaiian Trade Zone",null,"","","","","",0.18500946185704334,0.17889265197710524,"",""]
["","Hong Kong",null,0.14269406392694062,0.14269406392694062,0.14269406392694062,0.14269406392694062,0.14269406392694062,0.28538812785388123,0.16647640791476406,0.16647640791476406,0]
["","India",null,0.17263786441868634,0.15640410958904111,0.18476546284765463,0.17397207849058188,0.18453348232282799,0.17524544525443589,0.17459307382053799,0.17562150860118036,-5.8904672341097211E-3]
["","Indonesia",null,2.2831050228310501E-2,0,0,0.11415525114155252,0.45662100456621008,0.40769732550554472,0.16688410524026964,0.23829908675799089,-0.42793159609120518]
["","Japan",null,0.19616462278679359,0.19151558648235406,0.20670274818620624,0.19715915650515739,0.20504529400994034,0.21127892311508456,0.20131105518092265,0.2022051965766645,-4.4415911234395884E-3]
["*","Kiribati",null,"","","","","",0.18500946185704334,0.17889265197710524,"",""]
["*","Korea, North",null,"",0,0,0,0,0.18500946185704334,0,0,""]
["","Korea, South",null,0.21899170627154968,0.16372266282143716,0.22278161547567943,0.24414879628965552,0.23045930701047546,0.216729534775991,0.21613893710746471,0.21802000089575352,-8.7030306221666243E-3]
["*","Laos",null,"","","","","",0.18500946185704334,0.17889265197710524,"",""]
["*","Macau",null,"","","","","",0.18500946185704334,0.17889265197710524,"",""]
["*","Malaysia",null,"","","","","",0.18500946185704334,0.17889265197710524,"",""]
["*","Maldives",null,"","","","","",0.18500946185704334,0.17889265197710524,"",""]
["","Mongolia",null,0.11415525114155251,0.11415525114155252,0.22831050228310504,0.22831050228310504,0.45662100456621008,0.35124692658939233,0.24879990633415291,0.25345722163124418,-1.871911997762658E-2]
["*","Nauru",null,"","","","","",0.18500946185704334,0.17889265197710524,"",""]
["*","Nepal",null,"","","","","",0.18500946185704334,0.17889265197710524,"",""]
["","New Caledonia",null,0.12016342225426581,9.0122566690699346E-2,9.0122566690699346E-2,9.0122566690699346E-2,9.0122566690699346E-2,8.965072079179516E-2,9.505073496814305E-2,9.5046002265096283E-2,4.9791335630946821E-5]
["","New Zealand",null,0.33140696347031967,0.37589439394585983,0.3397039328325232,0.36431578196347031,0.35788221820904725,0.38015091661461126,0.35822570117263863,0.35976774152013241,-4.3046613976774027E-3]
["*","Niue",null,"","","","","",0.18500946185704334,0.17889265197710524,"",""]
["*","Pakistan",null,"",0,0.19025875190258748,0.19025875190258748,0.34246575342465746,0.18500946185704334,0.1519352033050663,7.9908675799086754E-2,0.47406082289803214]
["*","Papua New Guinea",null,"","","","","",0.18500946185704334,0.17889265197710524,"",""]
["","Philippines",null,0.26484018264840181,0.27853881278538811,0.22139200221392,0.21447350214473498,0.34246575342465746,0.25944375259443747,0.26352566763525664,0.26280796828742031,2.7234513976440891E-3]
["*","Samoa",null,"","","","","",0.18500946185704334,0.17889265197710524,"",""]
["*","Singapore",null,"","","","","",0.18500946185704334,0.17889265197710524,"",""]
["*","Solomon Islands",null,"","","","","",0.18500946185704334,0.17889265197710524,"",""]
["","Sri Lanka",null,7.610350076103499E-2,0.11415525114155249,0.11415525114155249,2.0167427701674274,3.5007610350076099,0.26636225266362251,1.0147133434804667,0.43905865823674045,0.56730769230769229]
["","Taiwan",null,0.2700316009954678,0.26681524969196202,0.23893665597979208,0.23357552434833384,0.34408497684510514,0.33986677222528777,0.2822184633476581,0.29134816331221297,-3.2349761444587753E-2]
["","Thailand",null,0,0,0.28538812785388123,0.27179821700369644,7.1347031963470323E-2,0.1437133072407045,0.12870778067695876,0.13920225071228284,-8.1537184311055416E-2]
["*","Timor-Leste (East Timor)",null,"","","","","",0.18500946185704334,0.17889265197710524,"",""]
["*","Tonga",null,"","","","","",0.18500946185704334,0.17889265197710524,"",""]
["*","U.S. Pacific Islands",null,"","","","","",0.18500946185704334,0.17889265197710524,"",""]
["*","Vanuatu",null,0,0,0,0,0,0.18500946185704334,0,0,""]
["","Vietnam",null,"",0.11415525114155252,0.14269406392694065,0.18412137280895566,0.18412137280895566,0.32037118868758285,0.18909264987479749,0.22159548751007249,-0.17188842430837936]
["*","Wake Island",null,"","","","","",0.18500946185704334,0.17889265197710524,"",""]
["","World"]
[]
["*","Andorra",null,null,null,null,null,null,0.22185234633472933,0.21615832015381201]
["*","Brunei Darussalam",null,null,null,null,null,null,0.18500946185704334,0.17889265197710524]
["*","Burma",null,null,null,null,null,null,0.18500946185704334,0.17889265197710524]
["*","Congo",null,null,null,null,null,null,0.24610688499118938,0.28188012936982532]
["*","Congo, Democratic Republic",null,null,null,null,null,null,0.24610688499118938,0.28188012936982532]
["*","Côte d'Ivoire",null,null,null,null,null,null,0.24610688499118938,0.28188012936982532]
["*","Holy See",null,null,null,null,null,null,0.22185234633472933,0.21615832015381201]
["*","Liechtenstein",null,null,null,null,null,null,0.22185234633472933,0.21615832015381201]
["*","Macedonia, FYR",null,null,null,null,null,null,0.22185234633472933,0.21615832015381201]
["*","Marshall Islands",null,null,null,null,null,null,0.18500946185704334,0.17889265197710524]
["*","Micronesia, Federated States of",null,null,null,null,null,null,0.18500946185704334,0.17889265197710524]
["*","Monaco",null,null,null,null,null,null,0.22185234633472933,0.21615832015381201]
["*","Palau",null,null,null,null,null,null,0.18500946185704334,0.17889265197710524]
["*","Saint Vincent and the Grenadines",null,null,null,null,null,null,0.23637861684516193,0.24715975075580418]
["*","San Marino",null,null,null,null,null,null,0.22185234633472933,0.21615832015381201]
["*","Sudan",null,null,null,null,null,null,0.24610688499118938,0.28188012936982532]
["*","Timor-Leste",null,null,null,null,null,null,0.18500946185704334,0.17889265197710524]
["*","Tuvalu",null,null,null,null,null,null,0.18500946185704334,0.17889265197710524]
[]
[]
[null,"IEA World Statistics 2011"]
[null,"http://www.iea.org/statistics/"]

{"sheet":"Conversions","index":8,"n_rows":142,"n_cols":14,"rows_kept":142,"cut":false,"hidden":true,"merged":[]}
[]
[null,null,"IPCC SAR GWPs",null,null,null,"Additional Refrigerant GWPs",null,null,null,"IPCC AR4 GWPs"]
[null,null,"Gas","GWP",null,null,"Gas","GWP","Chemical Formula",null,"Gas","GWP"]
[null,null,"CO2",1,null,null,"HFC-41",150,"CH3F",null,"CO2",1]
[null,null,"CH4",21,null,null,"HFC-134",1000,"CHF2CHF2",null,"CH4",25]
[null,null,"N2O",310,null,null,"HFC-143",300,"CHF2CH2F",null,"N2O",298]
[null,null,"HFC-23",11700,null,null,"HFC-152",53,"CH2FCH2F",null,"HFC-23",14800]
[null,null,"HFC-32",650,null,null,"HFC-161",12,"CH3CH2F",null,"HFC-32",675]
[null,null,"HFC-125",2800,null,null,"HFC-236cb",1340,"CH2FCF2CF3",null,"HFC-125",3500]
[null,null,"HFC-134a",1300,null,null,"HFC-236ea",1370,"CHF2CHFCF3",null,"HFC-134a",1430]
[null,null,"HFC-143a",3800,null,null,"HFC-245ca",560,"CH2FCF2CHF2",null,"HFC-143a",4470]
[null,null,"HFC-152a",140,null,null,"HFC-245fa",1030,"CHF2CH2CF3",null,"HFC-152a",124]
[null,null,"HFC-227ea",2900,null,null,"HFC-365mfc",794,"CF3CH2CF2CH3",null,"HFC-227ea",3220]
[null,null,"HFC-236fa",6300,null,null,"PFC-218",7000,"C3F8 (CF3CF2CF3)",null,"HFC-236fa",9810]
[null,null,"HFC-4310mee",1300,null,null,"PFC-318 or PFC-c318",8700,"c-C4F8 ( -(CF2)4- )",null,"HFC-4310mee",1640]
[null,null,"CF4",6500,"PFC-14",null,"PFC-4-1-12",7500,"C5F12",null,"CF4",7390,"PFC-14"]
[null,null,"C2F6",9200,"PFC-116",null,"PFC-9-1-18",7500,"C10F18",null,"C2F6",12200,"PFC-116"]
[null,null,"C4F10",7000,"PFC-3-1-10",null,"Perfluorocyclopropane",17340,"c-C3F6",null,"C4F10",8860,"PFC-3-1-10"]
[null,null,"C6F14",7400,"PFC-5-1-14",null,null,null,null,null,"C6F14",9300,"PFC-5-1-14"]
[null,null,"SF6",23900,null,null,null,null,null,null,"SF6",22800]
[null,null,"Source: U.S. Inventory of Greenhouse Gas Emissions and Sinks 1990-2005 (Table ES-1), US EPA",null,null,null,"Source: EPA Mandatory Reporting Rule, Federal Register, Friday, October 30, 2009, Table A-1 to Subpart A of Part 98.",null,null,null,"Source: IPCC Fourth Assessment Report: Climate Change 2007, 2.10.2 Direct Global Warming Potentials"]
[null,null,"Available online at: http://www.epa.gov/climatechange/emissions/usgginv_archive.html",null,null,null,"Available online at: http://www.epa.gov/climatechange/emissions/downloads09/GHG-MRR-Full%20Version.pdf",null,null,null,"Avalilable online at: https://www.ipcc.ch/publications_and_data/ar4/wg1/en/ch2s2-10-2.html"]
[]
[null,null,"CO2/C",{"$f":"44/12","v":3.6666666666666665}]
[]
[]
[null,"Physical Conversions"]
[]
[null,"Area"]
[null,null,null,"sq. foot","sq. mile","sq. yard","sq. meter","sq. kilometer","acre","hectare"]
[null,1,"sq. foot",1,3.5870060000000002E-8,0.1111111,9.2903040000000006E-2,9.2903039999999994E-8,2.295675E-5,9.2903040000000008E-6]
[null,1,"sq. mile",27878400,1,3097600,2589988,2.589988,639.99739999999997,258.99880000000002]
[null,1,"sq. yard",9,3.2283059999999999E-7,1,0.83612739999999997,8.361274E-7,2.066107E-4,8.3612739999999996E-5]
[null,1,"sq. meter",10.763909999999999,3.8610219999999998E-7,1.1959900000000001,1,9.9999999999999995E-7,2.4710440000000003E-4,1E-4]
[null,1,"sq. kilometer",10763910,0.38610220000000001,1195990,1000000,1,247.1044,100]
[null,1,"acre",43560,1.5625000000000001E-3,4839.9629999999997,4046.8249999999998,4.0468589999999999E-3,1,0.4046863]
[null,1,"hectare",107639.1,3.861022E-3,11959.9,10000,0.01,2.471044,1]
[]
[null,"Distance"]
[null,null,null,"meter","kilometer","foot","yard","mile"]
[null,1,"meter",1,1E-3,3.2808299999999999,1.09361,6.2137119999999997E-4]
[null,1,"kilometer",1000,1,3280.83,1093.6130000000001,0.62137120000000001]
[null,1,"foot",0.30480000000000002,3.0480090000000002E-4,1,0.3333333,1.893939E-4]
[null,1,"yard",0.91439999999999999,9.1440279999999998E-4,3,1,5.6818180000000002E-4]
[null,1,"mile",1609.3440000000001,1.6093440000000001,5280,1760,1]
[]
[null,"Energy"]
[null,null,null,"watt-hour","kilowatt-hour","megawatt-hour","gigawatt-hour","joule","kilojoule","megajoule","gigajoule","BTU","MMBtu","therm"]
[null,1,"watt-hour",1,1E-3,9.9999999999999995E-7,1.0000000000000001E-9,3600,3.6,3.5999999999999999E-3,3.5999999999999998E-6,3.4121419999999998,3.4121419999999998E-6,3.412128E-5]
[null,1,"kilowatt-hour",1000,1,1E-3,9.9999999999999995E-7,3600000,3600,3.6,3.5999999999999999E-3,3412.1419999999998,3.412142E-3,3.4121279999999997E-2]
[null,1,"megawatt-hour",1000000,1000,1,1E-3,3600000000,3600000,3600,3.6,3412142,3.4121419999999998,34.121279999999999]
[null,1,"gigawatt-hour",1000000000,1000000,1000,1,3600000000000,3600000000,3600000,3600,3412142000,3412.1419999999998,34121.279999999999]
[null,1,"joule",2.777778E-4,2.777778E-7,2.7777780000000002E-10,2.777778E-13,1,1E-3,9.9999999999999995E-7,9.9999999999999986E-10,9.4781710000000003E-4,9.4781710000000005E-10,9.4781340000000003E-9]
[null,1,"kilojoule",0.27777780000000002,2.777778E-4,2.777778E-7,2.7777780000000002E-10,1000,1,1E-3,9.9999999999999995E-7,0.94781709999999997,9.4781709999999994E-7,9.4781339999999996E-6]
[null,1,"megajoule",277.77780000000001,0.27777780000000002,2.777778E-4,2.777778E-7,1000000,1000,1,1E-3,947.81709999999998,9.4781710000000003E-4,9.4781339999999992E-3]
[null,1,"gigajoule",277777.8,277.77780000000001,0.27777780000000002,2.777778E-4,1000000000,1000000,1000,1,947817.1,0.94781710000000008,9.4781339999999989]
[null,1,"BTU",0.29307109999999997,2.9307109999999998E-4,2.9307109999999998E-7,2.9307109999999999E-10,1055.056,1.055056,1.055056E-3,1.0550559999999999E-6,1,9.9999999999999995E-7,9.9999610000000008E-6]
[null,1,"MMBtu",293071.09999999998,293.0711,0.29307109999999997,2.9307109999999998E-4,1055056000,1055056,1055.056,1.055056,1000000,1,9.9999610000000008]
[null,1,"therm",29307.22,29.307220000000001,2.9307219999999998E-2,2.9307220000000001E-5,105506000,105506,105.506,0.105506,100000.4,0.10000039999999999,1]
[]
[null,"Flow"]
[null,null,null,"centimeter3/hour","foot3/hour","yard3/hour","meter3/hour","gallon/hour","liter/hour"]
[null,1,"centimeter3/hour",1,3.531467E-5,1.3079509999999999E-6,9.9999999999999995E-7,2.641721E-4,1E-3]
[null,1,"foot3/hour",28316.85,1,3.703704E-2,2.8316850000000001E-2,7.4805190000000001,28.316849999999999]
[null,1,"yard3/hour",764554.9,27,1,0.76455490000000004,201.97399999999999,764.55489999999998]
[null,1,"meter3/hour",1000000,35.31467,1.3079510000000001,1,264.1721,1000]
[null,1,"gallon/hour",3785.4119999999998,0.13368060000000001,4.9511319999999996E-3,3.7854120000000002E-3,1,3.785412]
[null,1,"liter/hour",1000,3.5314669999999999E-2,1.3079509999999999E-3,1E-3,0.26417210000000002,1]
[]
[null,"Light"]
[null,null,null,"Flame","Foot-Candles","Lux","Meter-Candles"]
[null,1,"Flame",1,4,43.055639999999997,43.055639999999997]
[null,1,"Foot-Candles",0.25,1,10.763909999999999,10.763909999999999]
[null,1,"Lux",2.3225760000000002E-2,9.2903040000000006E-2,1,1]
[null,1,"Meter-Candles",2.3225760000000002E-2,9.2903040000000006E-2,1,1]
[]
[null,"Mass"]
[null,null,null,"gram","kilogram","Megagram (tonne)","Gigagram","Teragram (MMT)","pound","short ton"]
[null,1,"gram",1,1E-3,{"$f":"10^-6","v":9.9999999999999995E-7},{"$f":"10^-9","v":1.0000000000000001E-9},{"$f":"10^-12","v":9.9999999999999998E-13},2.2046226218490001E-3,1.102311310924E-6]
[null,1,"kilogram",1000,1,1E-3,{"$f":"10^-6","v":9.9999999999999995E-7},{"$f":"10^-9","v":1.0000000000000001E-9},2.2046226218489999,{"$f":"J79*1000","v":1.102311310924E-3}]
[null,1,"Megagram (tonne)",1000000,1000,1,1E-3,{"$f":"10^-6","v":9.9999999999999995E-7},{"$f":"I80*D80","v":2204.6226218490001},{"$f":"J80*1000","v":1.1023113109239999}]
[null,1,"Gigagram",1000000000,1000000,1000,1,1E-3,{"$f":"I81*D80","v":2204622.621849},{"$f":"J81*1000","v":1102.3113109239998}]
[null,1,"Teragram (MMT)",1000000000000,1000000000,1000000,1000,1,{"$f":"I82*D80","v":2204622621.849},{"$f":"J82*1000","v":1102311.3109239999}]
[null,1,"pound",453.59237000000002,{"$f":"D84/1000","v":0.45359237000000002},4.5359237000000004E-4,4.5359237000000005E-7,4.5359237000000004E-10,1,{"$f":"1/2000","v":5.0000000000000001E-4}]
[null,1,"short ton",907184.74,907.18474000000003,0.90718474000000004,9.0718474000000009E-4,9.071847400000001E-7,2000,1]
[]
[null,"Power"]
[null,null,null,"watt","kilowatt","megawatt","BTU/hour"]
[null,1,"watt",1,1E-3,9.9999999999999995E-7,3.4151790000000002]
[null,1,"kilowatt",1000,1,1E-3,3415.1790000000001]
[null,1,"megawatt",1000000,1000,1,3415179]
[null,1,"BTU/hour",0.29281040000000003,2.9281039999999998E-4,2.9281040000000001E-7,1]
[]
[null,"Pressure"]
[null,null,null,"pascal","kilopascal","megapascal","pound/inch2","pound/foot2","millimeters of mercury"]
[null,1,"pascal",1,1E-3,9.9999999999999995E-7,1.4503770000000001E-4,2.088543E-2,7.5006170000000002E-3]
[null,1,"kilopascal",1000,1,1E-3,0.14503769999999999,20.885429999999999,7.5006170000000001]
[null,1,"megapascal",1000000,1000,1,145.0377,20885.43,7500.6170000000002]
[null,1,"pound/inch2",6894.7569999999996,6.8947570000000002,6.8947569999999996E-3,1,144,51.714930000000003]
[null,1,"pound/foot2",47.88026,4.7880260000000001E-2,4.788026E-5,6.9444440000000001E-3,1,0.35913149999999999]
[null,1,"millimeters of mercury",133.32239999999999,0.13332240000000001,1.3332240000000001E-4,1.933677E-2,2.7844959999999999,1]
[]
[null,"Speed"]
[null,null,null,"foot/hour","mile/hour","meter/hour","kilometer/hour"]
[null,1,"foot/hour",1,1.893939E-4,0.30480000000000002,3.0479999999999998E-4]
[null,1,"mile/hour",5280,1,1609.3440000000001,1.6093440000000001]
[null,1,"meter/hour",3.28084,6.2137119999999997E-4,1,1E-3]
[null,1,"kilometer/hour",3280.84,0.62137120000000001,1000,1]
[]
[null,"Temperature"]
[null,null,null,"Fahrenheit","Celsius"]
[null,1,"Fahrenheit",1,-17.22222]
[null,1,"Celsius",33.799999999999997,1]
[]
[null,"Time"]
[null,null,null,"second","minute","hour","day","week","month (30 days)","year"]
[null,1,"second",1,1.6666670000000001E-2,2.777778E-4,1.1574069999999999E-5,1.6534389999999999E-6,3.8580249999999999E-7,{"$f":"1/D123","v":3.1688087814028947E-8}]
[null,1,"minute",60,1,1.6666670000000001E-2,6.9444440000000004E-4,9.9206349999999996E-5,2.314815E-5,{"$f":"1/E123","v":1.9012852688417369E-6}]
[null,1,"hour",3600,60,1,4.1666670000000003E-2,5.9523809999999996E-3,1.3888889999999999E-3,{"$f":"1/F123","v":1.1407711613050422E-4}]
[null,1,"day",86400,1440,24,1,0.14285709999999999,3.3333330000000001E-2,{"$f":"1/G123","v":2.7378507871321013E-3}]
[null,1,"week",604800,10080,168,7,1,0.23333329999999999,{"$f":"1/H123","v":1.9164955509924708E-2}]
[null,1,"month (30 days)",2592000,43200,720,30,4.2857139999999996,1,{"$f":"1/I123","v":8.2135523613963035E-2}]
[null,1,"year",{"$f":"E123*D118","v":31557600},{"$f":"F123*E119","v":525960},{"$f":"G123*F120","v":8766},365.25,{"$f":"G123/G121","v":52.178571428571431},{"$f":"G123/G122","v":12.175000000000001},1]
[]
[null,"Volume"]
[null,null,null,"liter","gallon","quart","cubic inch","cubic foot","thousand cubic feet (MCF)","million cubic feet (MMCF)","cubic yard","cubic meter"]
[null,1,"liter",1,0.26417210000000002,1.0566880000000001,61.023739999999997,3.5314669999999999E-2,3.531467E-5,3.5314669999999996E-8,1.3079509999999999E-3,1E-3]
[null,1,"gallon",3.785412,1,4,231,0.13368060000000001,1.3368060000000002E-4,1.3368060000000002E-7,4.9511319999999996E-3,3.7854120000000002E-3]
[null,1,"quart",0.94635290000000005,0.25,1,57.75,3.3420140000000001E-2,3.3420139999999998E-5,3.3420140000000002E-8,1.2377829999999999E-3,9.463529E-4]
[null,1,"cubic inch",1.6387059999999998E-2,4.329004E-3,1.7316020000000001E-2,1,5.7870369999999999E-4,5.7870369999999994E-7,5.7870370000000002E-10,2.1433469999999999E-5,1.6387060000000002E-5]
[null,1,"cubic foot",28.316849999999999,7.4805190000000001,29.922080000000001,1728,1,1E-3,9.9999999999999995E-7,3.703704E-2,2.8316850000000001E-2]
[null,1,"thousand cubic feet (MCF)",28316.85,7480.5190000000002,29922.080000000002,1728000,1000,1,1E-3,37.037039999999998,28.316850000000002]
[null,1,"million cubic feet (MMCF)",28316850,7480519,29922080,1728000000,1000000,1000,1,37037.040000000001,28316.850000000002]
[null,1,"cubic yard",764.55489999999998,201.97399999999999,807.89610000000005,46656,27,2.7E-2,2.6999999999999999E-5,1,0.76455490000000004]
[null,1,"cubic meter",1000,264.1721,1056.6880000000001,61023.74,35.31467,3.5314669999999999E-2,3.531467E-5,1.3079510000000001,1]
[null,1,"petroleum barrel",{"$f":"E136*D128","v":158.98730399999999},42,{"$f":"$E$136*F128","v":168},{"$f":"$E$136*G128","v":9702},{"$f":"$E$136*H128","v":5.6145852000000005},5.6145852000000001E-3,5.6145852000000001E-6,{"$f":"$E$136*K128","v":0.20794754399999998},{"$f":"$E$136*L128","v":0.158987304}]
[]
[]
[]
[null,"Wood Conversions"]
[null,null,1.25,"short ton/cord","EIA, Annual Energy Review 2007, Table B3"]
[null,null,0.8,"cords per ton","EIA, Annual Energy Review 2007, Table B3"]

{"sheet":"Fuel EFs","index":9,"n_rows":71,"n_cols":24,"rows_kept":71,"cut":false,"hidden":true,"merged":[[2,15,4,15],[2,16,3,23]]}
[null,1,2,3,4,5,6,7,8,9,10,11,12,13,14,15,16,17,18,19,20,21,22,22]
[null,"Default Emission Factors for Stationary Combustion in the Energy Industries"]
[null,null,null,"g of GHG per GJ on a Net Calorific Basis",null,null,null,null,null,null,null,null,null,null,null,"Density (kg/L)","Heating Values & Conversions (GJ/unit)"]
[null,null,null,"CO2",null,null,"CH4",null,null,null,"N2O",null,null,"CO2E"]
[null,"USAID CLEER Tool Name","IPCC Name","Default Emission Factor","Lower","Upper","Default Emission Factor","Lower","Upper","Default Emission Factor","Lower","Upper","Default Emission Factor","Lower","Upper",null,"Tonnes (t)","Gallons (gal)","Liter (L)","Pounds (lbs.)","Kilograms (kg)","Million BTUs (MMBTU)","Therms","100 Cubic Feet"]
[null,null,"(intentional blank row)",null,null,null,null,null,null,null,null,null,null,null,null,null,"(GJ/t)","(GJ/gal)","(GJ/L)","(GJ/lbs)","(GJ/kg)","(GJ/MMBTU)","(GJ/Therm)","(GJ/Ccf)"]
[48,"Biofuel - Biodiesels","Biodiesels",70800,59800,84300,3,1,10,0.6,0.2,2,{"$f":"D7*Conversions!$L$4+'Fuel EFs'!G7*Conversions!$L$5+'Fuel EFs'!J7*Conversions!$L$6","v":71053.8},{"$f":"E7*Conversions!$L$4+'Fuel EFs'!H7*Conversions!$L$5+'Fuel EFs'!K7*Conversions!$L$6","v":59884.6},{"$f":"F7*Conversions!$L$4+'Fuel EFs'!I7*Conversions!$L$5+'Fuel EFs'!L7*Conversions!$L$6","v":85146},null,27,null,null,{"$f":"U7*Conversions!$E$84","v":1.224699399E-2},{"$f":"Q7*Conversions!$F$80","v":2.7E-2},{"$f":"Conversions!$K$58","v":1.055056},{"$f":"Conversions!$K$59","v":0.105506}]
[47,"Biofuel - Biogasoline","Biogasoline",70800,59800,84300,3,1,10,0.6,0.2,2,{"$f":"D8*Conversions!$L$4+'Fuel EFs'!G8*Conversions!$L$5+'Fuel EFs'!J8*Conversions!$L$6","v":71053.8},{"$f":"E8*Conversions!$L$4+'Fuel EFs'!H8*Conversions!$L$5+'Fuel EFs'!K8*Conversions!$L$6","v":59884.6},{"$f":"F8*Conversions!$L$4+'Fuel EFs'!I8*Conversions!$L$5+'Fuel EFs'!L8*Conversions!$L$6","v":85146},null,27,null,null,{"$f":"U8*Conversions!$E$84","v":1.224699399E-2},{"$f":"Q8*Conversions!$F$80","v":2.7E-2},{"$f":"Conversions!$K$58","v":1.055056},{"$f":"Conversions!$K$59","v":0.105506}]
[49,"Biofuel - Other Liquid Biofuels","Other Liquid Biofuels",79600,67100,95300,3,1,10,0.6,0.2,2,{"$f":"D9*Conversions!$L$4+'Fuel EFs'!G9*Conversions!$L$5+'Fuel EFs'!J9*Conversions!$L$6","v":79853.8},{"$f":"E9*Conversions!$L$4+'Fuel EFs'!H9*Conversions!$L$5+'Fuel EFs'!K9*Conversions!$L$6","v":67184.600000000006},{"$f":"F9*Conversions!$L$4+'Fuel EFs'!I9*Conversions!$L$5+'Fuel EFs'!L9*Conversions!$L$6","v":96146},null,27.4,null,null,{"$f":"U9*Conversions!$E$84","v":1.2428430938000001E-2},{"$f":"Q9*Conversions!$F$80","v":2.7400000000000001E-2},{"$f":"Conversions!$K$58","v":1.055056},{"$f":"Conversions!$K$59","v":0.105506}]
[50,"Biogas - Landfill Gas","Landfill Gas",54600,46200,66000,1,0.3,3,0.1,0.03,0.3,{"$f":"D10*Conversions!$L$4+'Fuel EFs'!G10*Conversions!$L$5+'Fuel EFs'!J10*Conversions!$L$6","v":54654.8},{"$f":"E10*Conversions!$L$4+'Fuel EFs'!H10*Conversions!$L$5+'Fuel EFs'!K10*Conversions!$L$6","v":46216.44},{"$f":"F10*Conversions!$L$4+'Fuel EFs'!I10*Conversions!$L$5+'Fuel EFs'!L10*Conversions!$L$6","v":66164.399999999994},null,50.4,null,null,{"$f":"U10*Conversions!$E$84","v":2.2861055448E-2},{"$f":"Q10*Conversions!$F$80","v":5.04E-2},{"$f":"Conversions!$K$58","v":1.055056},{"$f":"Conversions!$K$59","v":0.105506}]
[52,"Biogas - Other Biogas","Other Biogas",54600,46200,66000,1,0.3,3,0.1,0.03,0.3,{"$f":"D11*Conversions!$L$4+'Fuel EFs'!G11*Conversions!$L$5+'Fuel EFs'!J11*Conversions!$L$6","v":54654.8},{"$f":"E11*Conversions!$L$4+'Fuel EFs'!H11*Conversions!$L$5+'Fuel EFs'!K11*Conversions!$L$6","v":46216.44},{"$f":"F11*Conversions!$L$4+'Fuel EFs'!I11*Conversions!$L$5+'Fuel EFs'!L11*Conversions!$L$6","v":66164.399999999994},null,50.4,null,null,{"$f":"U11*Conversions!$E$84","v":2.2861055448E-2},{"$f":"Q11*Conversions!$F$80","v":5.04E-2},{"$f":"Conversions!$K$58","v":1.055056},{"$f":"Conversions!$K$59","v":0.105506}]
[51,"Biogas - Sludge Gas","Sludge Gas",54600,46200,66000,1,0.3,3,0.1,0.03,0.3,{"$f":"D12*Conversions!$L$4+'Fuel EFs'!G12*Conversions!$L$5+'Fuel EFs'!J12*Conversions!$L$6","v":54654.8},{"$f":"E12*Conversions!$L$4+'Fuel EFs'!H12*Conversions!$L$5+'Fuel EFs'!K12*Conversions!$L$6","v":46216.44},{"$f":"F12*Conversions!$L$4+'Fuel EFs'!I12*Conversions!$L$5+'Fuel EFs'!L12*Conversions!$L$6","v":66164.399999999994},null,50.4,null,null,{"$f":"U12*Conversions!$E$84","v":2.2861055448E-2},{"$f":"Q12*Conversions!$F$80","v":5.04E-2},{"$f":"Conversions!$K$58","v":1.055056},{"$f":"Conversions!$K$59","v":0.105506}]
[46,"Biomass - Charcoal","Charcoal",112000,95000,132000,200,70,600,4,1.5,15,{"$f":"D13*Conversions!$L$4+'Fuel EFs'!G13*Conversions!$L$5+'Fuel EFs'!J13*Conversions!$L$6","v":118192},{"$f":"E13*Conversions!$L$4+'Fuel EFs'!H13*Conversions!$L$5+'Fuel EFs'!K13*Conversions!$L$6","v":97197},{"$f":"F13*Conversions!$L$4+'Fuel EFs'!I13*Conversions!$L$5+'Fuel EFs'!L13*Conversions!$L$6","v":151470},null,29.5,null,null,{"$f":"U13*Conversions!$E$84","v":1.3380974915000001E-2},{"$f":"Q13*Conversions!$F$80","v":2.9500000000000002E-2},{"$f":"Conversions!$K$58","v":1.055056},{"$f":"Conversions!$K$59","v":0.105506}]
[45,"Biomass - Other Primary Solid","Other Primary Solid Biomass",100000,84700,117000,30,10,100,4,1.5,15,{"$f":"D14*Conversions!$L$4+'Fuel EFs'!G14*Conversions!$L$5+'Fuel EFs'!J14*Conversions!$L$6","v":101942},{"$f":"E14*Conversions!$L$4+'Fuel EFs'!H14*Conversions!$L$5+'Fuel EFs'!K14*Conversions!$L$6","v":85397},{"$f":"F14*Conversions!$L$4+'Fuel EFs'!I14*Conversions!$L$5+'Fuel EFs'!L14*Conversions!$L$6","v":123970},null,11.6,null,null,{"$f":"U14*Conversions!$E$84","v":5.2616714919999997E-3},{"$f":"Q14*Conversions!$F$80","v":1.1599999999999999E-2},{"$f":"Conversions!$K$58","v":1.055056},{"$f":"Conversions!$K$59","v":0.105506}]
[44,"Biomass - Sulphite lyes (Black Liquor)a","Sulphite lyes (Black Liquor)a",95300,80700,110000,3,1,18,2,1,21,{"$f":"D15*Conversions!$L$4+'Fuel EFs'!G15*Conversions!$L$5+'Fuel EFs'!J15*Conversions!$L$6","v":95971},{"$f":"E15*Conversions!$L$4+'Fuel EFs'!H15*Conversions!$L$5+'Fuel EFs'!K15*Conversions!$L$6","v":81023},{"$f":"F15*Conversions!$L$4+'Fuel EFs'!I15*Conversions!$L$5+'Fuel EFs'!L15*Conversions!$L$6","v":116708},null,11.8,null,null,{"$f":"U15*Conversions!$E$84","v":5.3523899660000013E-3},{"$f":"Q15*Conversions!$F$80","v":1.1800000000000001E-2},{"$f":"Conversions!$K$58","v":1.055056},{"$f":"Conversions!$K$59","v":0.105506}]
[43,"Biomass - Wood / Wood Waste","Wood / Wood Waste",112000,95000,132000,30,10,100,4,1.5,15,{"$f":"D16*Conversions!$L$4+'Fuel EFs'!G16*Conversions!$L$5+'Fuel EFs'!J16*Conversions!$L$6","v":113942},{"$f":"E16*Conversions!$L$4+'Fuel EFs'!H16*Conversions!$L$5+'Fuel EFs'!K16*Conversions!$L$6","v":95697},{"$f":"F16*Conversions!$L$4+'Fuel EFs'!I16*Conversions!$L$5+'Fuel EFs'!L16*Conversions!$L$6","v":138970},null,15.6,null,null,{"$f":"U16*Conversions!$E$84","v":7.076040972E-3},{"$f":"Q16*Conversions!$F$80","v":1.5599999999999999E-2},{"$f":"Conversions!$K$58","v":1.055056},{"$f":"Conversions!$K$59","v":0.105506}]
[15,"Bitumen","Bitumen",80700,73000,89900,3,1,10,0.6,0.2,2,{"$f":"D17*Conversions!$L$4+'Fuel EFs'!G17*Conversions!$L$5+'Fuel EFs'!J17*Conversions!$L$6","v":80953.8},{"$f":"E17*Conversions!$L$4+'Fuel EFs'!H17*Conversions!$L$5+'Fuel EFs'!K17*Conversions!$L$6","v":73084.600000000006},{"$f":"F17*Conversions!$L$4+'Fuel EFs'!I17*Conversions!$L$5+'Fuel EFs'!L17*Conversions!$L$6","v":90746},null,40.200000000000003,null,null,{"$f":"U17*Conversions!$E$84","v":1.8234413274000005E-2},{"$f":"Q17*Conversions!$F$80","v":4.0200000000000007E-2},{"$f":"Conversions!$K$58","v":1.055056},{"$f":"Conversions!$K$59","v":0.105506}]
[36,"Blast Furnace Gas","Blast Furnace Gas",260000,219000,308000,1,0.3,3,0.1,0.03,0.3,{"$f":"D18*Conversions!$L$4+'Fuel EFs'!G18*Conversions!$L$5+'Fuel EFs'!J18*Conversions!$L$6","v":260054.8},{"$f":"E18*Conversions!$L$4+'Fuel EFs'!H18*Conversions!$L$5+'Fuel EFs'!K18*Conversions!$L$6","v":219016.44},{"$f":"F18*Conversions!$L$4+'Fuel EFs'!I18*Conversions!$L$5+'Fuel EFs'!L18*Conversions!$L$6","v":308164.40000000002},null,2.4700000000000002,null,null,{"$f":"U18*Conversions!$E$84","v":1.1203731539000002E-3},{"$f":"Q18*Conversions!$F$80","v":2.4700000000000004E-3},{"$f":"Conversions!$K$58","v":1.055056},{"$f":"Conversions!$K$59","v":0.105506}]
[29,"Brown Coal Briquettes","Brown Coal Briquettes",97500,87300,109000,1,0.3,3,1.5,0.5,5,{"$f":"D19*Conversions!$L$4+'Fuel EFs'!G19*Conversions!$L$5+'Fuel EFs'!J19*Conversions!$L$6","v":97972},{"$f":"E19*Conversions!$L$4+'Fuel EFs'!H19*Conversions!$L$5+'Fuel EFs'!K19*Conversions!$L$6","v":87456.5},{"$f":"F19*Conversions!$L$4+'Fuel EFs'!I19*Conversions!$L$5+'Fuel EFs'!L19*Conversions!$L$6","v":110565},null,20.7,null,null,{"$f":"U19*Conversions!$E$84","v":9.3893620590000011E-3},{"$f":"Q19*Conversions!$F$80","v":2.07E-2},{"$f":"Conversions!$K$58","v":1.055056},{"$f":"Conversions!$K$59","v":0.105506}]
[23,"Coal - Anthracite","Anthracite",98300,94600,101000,1,0.3,3,1.5,0.5,5,{"$f":"D20*Conversions!$L$4+'Fuel EFs'!G20*Conversions!$L$5+'Fuel EFs'!J20*Conversions!$L$6","v":98772},{"$f":"E20*Conversions!$L$4+'Fuel EFs'!H20*Conversions!$L$5+'Fuel EFs'!K20*Conversions!$L$6","v":94756.5},{"$f":"F20*Conversions!$L$4+'Fuel EFs'!I20*Conversions!$L$5+'Fuel EFs'!L20*Conversions!$L$6","v":102565},null,26.7,null,null,{"$f":"U20*Conversions!$E$84","v":1.2110916279000001E-2},{"$f":"Q20*Conversions!$F$80","v":2.6700000000000002E-2},{"$f":"Conversions!$K$58","v":1.055056},{"$f":"Conversions!$K$59","v":0.105506}]
[25,"Coal - Bituminous","Other Bituminous Coal",94600,89500,99700,1,0.3,3,1.5,0.5,5,{"$f":"D21*Conversions!$L$4+'Fuel EFs'!G21*Conversions!$L$5+'Fuel EFs'!J21*Conversions!$L$6","v":95072},{"$f":"E21*Conversions!$L$4+'Fuel EFs'!H21*Conversions!$L$5+'Fuel EFs'!K21*Conversions!$L$6","v":89656.5},{"$f":"F21*Conversions!$L$4+'Fuel EFs'!I21*Conversions!$L$5+'Fuel EFs'!L21*Conversions!$L$6","v":101265},null,25.8,null,null,{"$f":"U21*Conversions!$E$84","v":1.1702683146E-2},{"$f":"Q21*Conversions!$F$80","v":2.58E-2},{"$f":"Conversions!$K$58","v":1.055056},{"$f":"Conversions!$K$59","v":0.105506}]
[24,"Coal - Coking Coal","Coking Coal",94600,87300,101000,1,0.3,3,1.5,0.5,5,{"$f":"D22*Conversions!$L$4+'Fuel EFs'!G22*Conversions!$L$5+'Fuel EFs'!J22*Conversions!$L$6","v":95072},{"$f":"E22*Conversions!$L$4+'Fuel EFs'!H22*Conversions!$L$5+'Fuel EFs'!K22*Conversions!$L$6","v":87456.5},{"$f":"F22*Conversions!$L$4+'Fuel EFs'!I22*Conversions!$L$5+'Fuel EFs'!L22*Conversions!$L$6","v":102565},null,28.2,null,null,{"$f":"U22*Conversions!$E$84","v":1.2791304834000001E-2},{"$f":"Q22*Conversions!$F$80","v":2.8199999999999999E-2},{"$f":"Conversions!$K$58","v":1.055056},{"$f":"Conversions!$K$59","v":0.105506}]
[27,"Coal - Lignite","Lignite",101000,90900,115000,1,0.3,3,1.5,0.5,5,{"$f":"D23*Conversions!$L$4+'Fuel EFs'!G23*Conversions!$L$5+'Fuel EFs'!J23*Conversions!$L$6","v":101472},{"$f":"E23*Conversions!$L$4+'Fuel EFs'!H23*Conversions!$L$5+'Fuel EFs'!K23*Conversions!$L$6","v":91056.5},{"$f":"F23*Conversions!$L$4+'Fuel EFs'!I23*Conversions!$L$5+'Fuel EFs'!L23*Conversions!$L$6","v":116565},null,11.9,null,null,{"$f":"U23*Conversions!$E$84","v":5.3977492030000008E-3},{"$f":"Q23*Conversions!$F$80","v":1.1900000000000001E-2},{"$f":"Conversions!$K$58","v":1.055056},{"$f":"Conversions!$K$59","v":0.105506}]
[26,"Coal - Sub-Bituminous","Sub-Bituminous Coal",96100,92800,100000,1,0.3,3,1.5,0.5,5,{"$f":"D24*Conversions!$L$4+'Fuel EFs'!G24*Conversions!$L$5+'Fuel EFs'!J24*Conversions!$L$6","v":96572},{"$f":"E24*Conversions!$L$4+'Fuel EFs'!H24*Conversions!$L$5+'Fuel EFs'!K24*Conversions!$L$6","v":92956.5},{"$f":"F24*Conversions!$L$4+'Fuel EFs'!I24*Conversions!$L$5+'Fuel EFs'!L24*Conversions!$L$6","v":101565},null,18.899999999999999,null,null,{"$f":"U24*Conversions!$E$84","v":8.5728957930000012E-3},{"$f":"Q24*Conversions!$F$80","v":1.89E-2},{"$f":"Conversions!$K$58","v":1.055056},{"$f":"Conversions!$K$59","v":0.105506}]
[33,"Coal Tar","Coal Tar",80700,68200,95300,1,0.3,3,1.5,0.5,5,{"$f":"D25*Conversions!$L$4+'Fuel EFs'!G25*Conversions!$L$5+'Fuel EFs'!J25*Conversions!$L$6","v":81172},{"$f":"E25*Conversions!$L$4+'Fuel EFs'!H25*Conversions!$L$5+'Fuel EFs'!K25*Conversions!$L$6","v":68356.5},{"$f":"F25*Conversions!$L$4+'Fuel EFs'!I25*Conversions!$L$5+'Fuel EFs'!L25*Conversions!$L$6","v":96865},null,28,null,null,{"$f":"U25*Conversions!$E$84","v":1.270058636E-2},{"$f":"Q25*Conversions!$F$80","v":2.8000000000000001E-2},{"$f":"Conversions!$K$58","v":1.055056},{"$f":"Conversions!$K$59","v":0.105506}]
[31,"Coke - Coke Oven and Lignite","Coke Oven Coke and Lignite Coke",107000,95700,119000,1,0.3,3,1.5,0.5,4,{"$f":"D26*Conversions!$L$4+'Fuel EFs'!G26*Conversions!$L$5+'Fuel EFs'!J26*Conversions!$L$6","v":107472},{"$f":"E26*Conversions!$L$4+'Fuel EFs'!H26*Conversions!$L$5+'Fuel EFs'!K26*Conversions!$L$6","v":95856.5},{"$f":"F26*Conversions!$L$4+'Fuel EFs'!I26*Conversions!$L$5+'Fuel EFs'!L26*Conversions!$L$6","v":120267},null,28.2,null,null,{"$f":"U26*Conversions!$E$84","v":1.2791304834000001E-2},{"$f":"Q26*Conversions!$F$80","v":2.8199999999999999E-2},{"$f":"Conversions!$K$58","v":1.055056},{"$f":"Conversions!$K$59","v":0.105506}]
[32,"Coke - Gas","Gas Coke",107000,95700,119000,1,0.3,3,0.1,0.03,0.3,{"$f":"D27*Conversions!$L$4+'Fuel EFs'!G27*Conversions!$L$5+'Fuel EFs'!J27*Conversions!$L$6","v":107054.8},{"$f":"E27*Conversions!$L$4+'Fuel EFs'!H27*Conversions!$L$5+'Fuel EFs'!K27*Conversions!$L$6","v":95716.44},{"$f":"F27*Conversions!$L$4+'Fuel EFs'!I27*Conversions!$L$5+'Fuel EFs'!L27*Conversions!$L$6","v":119164.4},null,28.2,null,null,{"$f":"U27*Conversions!$E$84","v":1.2791304834000001E-2},{"$f":"Q27*Conversions!$F$80","v":2.8199999999999999E-2},{"$f":"Conversions!$K$58","v":1.055056},{"$f":"Conversions!$K$59","v":0.105506}]
[35,"Coke Oven Gas","Coke Oven Gas",44400,37300,54100,1,0.3,3,0.1,0.03,0.3,{"$f":"D28*Conversions!$L$4+'Fuel EFs'!G28*Conversions!$L$5+'Fuel EFs'!J28*Conversions!$L$6","v":44454.8},{"$f":"E28*Conversions!$L$4+'Fuel EFs'!H28*Conversions!$L$5+'Fuel EFs'!K28*Conversions!$L$6","v":37316.44},{"$f":"F28*Conversions!$L$4+'Fuel EFs'!I28*Conversions!$L$5+'Fuel EFs'!L28*Conversions!$L$6","v":54264.4},null,38.700000000000003,null,null,{"$f":"U28*Conversions!$E$84","v":1.7554024719000003E-2},{"$f":"Q28*Conversions!$F$80","v":3.8700000000000005E-2},{"$f":"Conversions!$K$58","v":1.055056},{"$f":"Conversions!$K$59","v":0.105506}]
[13,"Ethane","Ethane",61600,56500,68600,1,0.3,3,0.1,0.03,0.3,{"$f":"D29*Conversions!$L$4+'Fuel EFs'!G29*Conversions!$L$5+'Fuel EFs'!J29*Conversions!$L$6","v":61654.8},{"$f":"E29*Conversions!$L$4+'Fuel EFs'!H29*Conversions!$L$5+'Fuel EFs'!K29*Conversions!$L$6","v":56516.44},{"$f":"F29*Conversions!$L$4+'Fuel EFs'!I29*Conversions!$L$5+'Fuel EFs'!L29*Conversions!$L$6","v":68764.399999999994},null,46.4,null,null,{"$f":"U29*Conversions!$E$84","v":2.1046685967999999E-2},{"$f":"Q29*Conversions!$F$80","v":4.6399999999999997E-2},{"$f":"Conversions!$K$58","v":1.055056},{"$f":"Conversions!$K$59","v":0.105506}]
[34,"Gas Works Gas","Gas Works Gas",44400,37300,54100,1,0.3,3,0.1,0.03,0.3,{"$f":"D30*Conversions!$L$4+'Fuel EFs'!G30*Conversions!$L$5+'Fuel EFs'!J30*Conversions!$L$6","v":44454.8},{"$f":"E30*Conversions!$L$4+'Fuel EFs'!H30*Conversions!$L$5+'Fuel EFs'!K30*Conversions!$L$6","v":37316.44},{"$f":"F30*Conversions!$L$4+'Fuel EFs'!I30*Conversions!$L$5+'Fuel EFs'!L30*Conversions!$L$6","v":54264.4},null,38.700000000000003,null,null,{"$f":"U30*Conversions!$E$84","v":1.7554024719000003E-2},{"$f":"Q30*Conversions!$F$80","v":3.8700000000000005E-2},{"$f":"Conversions!$K$58","v":1.055056},{"$f":"Conversions!$K$59","v":0.105506}]
[5,"Gasoline - Aviation","Aviation Gasoline",70000,67500,73000,3,1,10,0.6,0.2,2,{"$f":"D31*Conversions!$L$4+'Fuel EFs'!G31*Conversions!$L$5+'Fuel EFs'!J31*Conversions!$L$6","v":70253.8},{"$f":"E31*Conversions!$L$4+'Fuel EFs'!H31*Conversions!$L$5+'Fuel EFs'!K31*Conversions!$L$6","v":67584.600000000006},{"$f":"F31*Conversions!$L$4+'Fuel EFs'!I31*Conversions!$L$5+'Fuel EFs'!L31*Conversions!$L$6","v":73846},0.71,44.3,{"$f":"S31*Conversions!$D$128","v":0.11906256363600001},{"$f":"P31*Conversions!$F$80*Q31","v":3.1453000000000002E-2},{"$f":"U31*Conversions!$E$84","v":2.0094141991E-2},{"$f":"Q31*Conversions!$F$80","v":4.4299999999999999E-2},{"$f":"Conversions!$K$58","v":1.055056},{"$f":"Conversions!$K$59","v":0.105506}]
[6,"Gasoline - Jet","Jet Gasoline",70000,67500,73000,3,1,10,0.6,0.2,2,{"$f":"D32*Conversions!$L$4+'Fuel EFs'!G32*Conversions!$L$5+'Fuel EFs'!J32*Conversions!$L$6","v":70253.8},{"$f":"E32*Conversions!$L$4+'Fuel EFs'!H32*Conversions!$L$5+'Fuel EFs'!K32*Conversions!$L$6","v":67584.600000000006},{"$f":"F32*Conversions!$L$4+'Fuel EFs'!I32*Conversions!$L$5+'Fuel EFs'!L32*Conversions!$L$6","v":73846},null,44.3,null,null,{"$f":"U32*Conversions!$E$84","v":2.0094141991E-2},{"$f":"Q32*Conversions!$F$80","v":4.4299999999999999E-2},{"$f":"Conversions!$K$58","v":1.055056},{"$f":"Conversions!$K$59","v":0.105506}]
[4,"Gasoline - Motor","Motor Gasoline",69300,67500,73000,3,1,10,0.6,0.2,2,{"$f":"D33*Conversions!$L$4+'Fuel EFs'!G33*Conversions!$L$5+'Fuel EFs'!J33*Conversions!$L$6","v":69553.8},{"$f":"E33*Conversions!$L$4+'Fuel EFs'!H33*Conversions!$L$5+'Fuel EFs'!K33*Conversions!$L$6","v":67584.600000000006},{"$f":"F33*Conversions!$L$4+'Fuel EFs'!I33*Conversions!$L$5+'Fuel EFs'!L33*Conversions!$L$6","v":73846},0.74,44.3,{"$f":"S33*Conversions!$D$128","v":0.124093376184},{"$f":"P33*Conversions!$F$80*Q33","v":3.2781999999999999E-2},{"$f":"U33*Conversions!$E$84","v":2.0094141991E-2},{"$f":"Q33*Conversions!$F$80","v":4.4299999999999999E-2},{"$f":"Conversions!$K$58","v":1.055056},{"$f":"Conversions!$K$59","v":0.105506}]
[40,"Industrial Wastes","Industrial Wastes",143000,110000,183000,30,10,100,4,1.5,15,{"$f":"D34*Conversions!$L$4+'Fuel EFs'!G34*Conversions!$L$5+'Fuel EFs'!J34*Conversions!$L$6","v":144942},{"$f":"E34*Conversions!$L$4+'Fuel EFs'!H34*Conversions!$L$5+'Fuel EFs'!K34*Conversions!$L$6","v":110697},{"$f":"F34*Conversions!$L$4+'Fuel EFs'!I34*Conversions!$L$5+'Fuel EFs'!L34*Conversions!$L$6","v":189970},null,"NA",null,null,"NA","NA",{"$f":"Conversions!$K$58","v":1.055056},{"$f":"Conversions!$K$59","v":0.105506}]
[7,"Kerosene - Jet","Jet Kerosene",71500,69700,74400,3,1,10,0.6,0.2,2,{"$f":"D35*Conversions!$L$4+'Fuel EFs'!G35*Conversions!$L$5+'Fuel EFs'!J35*Conversions!$L$6","v":71753.8},{"$f":"E35*Conversions!$L$4+'Fuel EFs'!H35*Conversions!$L$5+'Fuel EFs'!K35*Conversions!$L$6","v":69784.600000000006},{"$f":"F35*Conversions!$L$4+'Fuel EFs'!I35*Conversions!$L$5+'Fuel EFs'!L35*Conversions!$L$6","v":75246},0.79,44.1,{"$f":"S35*Conversions!$D$128","v":0.131879968668},{"$f":"P35*Conversions!$F$80*Q35","v":3.4839000000000002E-2},{"$f":"U35*Conversions!$E$84","v":2.0003423517000001E-2},{"$f":"Q35*Conversions!$F$80","v":4.41E-2},{"$f":"Conversions!$K$58","v":1.055056},{"$f":"Conversions!$K$59","v":0.105506}]
[8,"Kerosene - Other","Other Kerosene",71900,70800,73700,3,1,10,0.6,0.2,2,{"$f":"D36*Conversions!$L$4+'Fuel EFs'!G36*Conversions!$L$5+'Fuel EFs'!J36*Conversions!$L$6","v":72153.8},{"$f":"E36*Conversions!$L$4+'Fuel EFs'!H36*Conversions!$L$5+'Fuel EFs'!K36*Conversions!$L$6","v":70884.600000000006},{"$f":"F36*Conversions!$L$4+'Fuel EFs'!I36*Conversions!$L$5+'Fuel EFs'!L36*Conversions!$L$6","v":74546},0.8,43.8,{"$f":"S36*Conversions!$D$128","v":0.13264083648},{"$f":"P36*Conversions!$F$80*Q36","v":3.5040000000000002E-2},{"$f":"U36*Conversions!$E$84","v":1.9867345806000001E-2},{"$f":"Q36*Conversions!$F$80","v":4.3799999999999999E-2},{"$f":"Conversions!$K$58","v":1.055056},{"$f":"Conversions!$K$59","v":0.105506}]
[12,"Liquefied Petroleum Gases","Liquefied Petroleum Gases",63100,61600,65600,1,0.3,3,0.1,0.03,0.3,{"$f":"D37*Conversions!$L$4+'Fuel EFs'!G37*Conversions!$L$5+'Fuel EFs'!J37*Conversions!$L$6","v":63154.8},{"$f":"E37*Conversions!$L$4+'Fuel EFs'!H37*Conversions!$L$5+'Fuel EFs'!K37*Conversions!$L$6","v":61616.44},{"$f":"F37*Conversions!$L$4+'Fuel EFs'!I37*Conversions!$L$5+'Fuel EFs'!L37*Conversions!$L$6","v":65764.399999999994},0.54,47.3,{"$f":"S37*Conversions!$D$128","v":9.6686993303999991E-2},{"$f":"P37*Conversions!$F$80*Q37","v":2.5541999999999999E-2},{"$f":"U37*Conversions!$E$84","v":2.1454919100999999E-2},{"$f":"Q37*Conversions!$F$80","v":4.7299999999999995E-2},{"$f":"Conversions!$K$58","v":1.055056},{"$f":"Conversions!$K$59","v":0.105506}]
[16,"Lubricants","Lubricants",73300,71900,75200,3,1,10,0.6,0.2,2,{"$f":"D38*Conversions!$L$4+'Fuel EFs'!G38*Conversions!$L$5+'Fuel EFs'!J38*Conversions!$L$6","v":73553.8},{"$f":"E38*Conversions!$L$4+'Fuel EFs'!H38*Conversions!$L$5+'Fuel EFs'!K38*Conversions!$L$6","v":71984.600000000006},{"$f":"F38*Conversions!$L$4+'Fuel EFs'!I38*Conversions!$L$5+'Fuel EFs'!L38*Conversions!$L$6","v":76046},1,40.200000000000003,{"$f":"S38*Conversions!$D$128","v":0.15217356240000002},{"$f":"P38*Conversions!$F$80*Q38","v":4.0200000000000007E-2},{"$f":"U38*Conversions!$E$84","v":1.8234413274000005E-2},{"$f":"Q38*Conversions!$F$80","v":4.0200000000000007E-2},{"$f":"Conversions!$K$58","v":1.055056},{"$f":"Conversions!$K$59","v":0.105506}]
[53,"Municipal Wastes (biomass fraction)","Municipal Wastes (biomass fraction)",100000,84700,117000,30,10,100,4,0.03,15,{"$f":"D39*Conversions!$L$4+'Fuel EFs'!G39*Conversions!$L$5+'Fuel EFs'!J39*Conversions!$L$6","v":101942},{"$f":"E39*Conversions!$L$4+'Fuel EFs'!H39*Conversions!$L$5+'Fuel EFs'!K39*Conversions!$L$6","v":84958.94},{"$f":"F39*Conversions!$L$4+'Fuel EFs'!I39*Conversions!$L$5+'Fuel EFs'!L39*Conversions!$L$6","v":123970},null,11.6,null,null,{"$f":"U39*Conversions!$E$84","v":5.2616714919999997E-3},{"$f":"Q39*Conversions!$F$80","v":1.1599999999999999E-2},{"$f":"Conversions!$K$58","v":1.055056},{"$f":"Conversions!$K$59","v":0.105506}]
[39,"Municipal Wastes (nonbiomass fraction)","Municipal Wastes (nonbiomass fraction)",91700,73300,121000,30,10,100,4,1.5,15,{"$f":"D40*Conversions!$L$4+'Fuel EFs'!G40*Conversions!$L$5+'Fuel EFs'!J40*Conversions!$L$6","v":93642},{"$f":"E40*Conversions!$L$4+'Fuel EFs'!H40*Conversions!$L$5+'Fuel EFs'!K40*Conversions!$L$6","v":73997},{"$f":"F40*Conversions!$L$4+'Fuel EFs'!I40*Conversions!$L$5+'Fuel EFs'!L40*Conversions!$L$6","v":127970},null,10,null,null,{"$f":"U40*Conversions!$E$84","v":4.5359237000000005E-3},{"$f":"Q40*Conversions!$F$80","v":0.01},{"$f":"Conversions!$K$58","v":1.055056},{"$f":"Conversions!$K$59","v":0.105506}]
[14,"Naphtha","Naphtha",73300,69300,76300,3,1,10,0.6,0.2,2,{"$f":"D41*Conversions!$L$4+'Fuel EFs'!G41*Conversions!$L$5+'Fuel EFs'!J41*Conversions!$L$6","v":73553.8},{"$f":"E41*Conversions!$L$4+'Fuel EFs'!H41*Conversions!$L$5+'Fuel EFs'!K41*Conversions!$L$6","v":69384.600000000006},{"$f":"F41*Conversions!$L$4+'Fuel EFs'!I41*Conversions!$L$5+'Fuel EFs'!L41*Conversions!$L$6","v":77146},0.77,44.5,{"$f":"S41*Conversions!$D$128","v":0.12970714218000001},{"$f":"P41*Conversions!$F$80*Q41","v":3.4265000000000004E-2},{"$f":"U41*Conversions!$E$84","v":2.0184860464999999E-2},{"$f":"Q41*Conversions!$F$80","v":4.4499999999999998E-2},{"$f":"Conversions!$K$58","v":1.055056},{"$f":"Conversions!$K$59","v":0.105506}]
[38,"Natural Gas","Natural Gas",56100,54300,58300,1,0.3,3,0.1,0.03,0.3,{"$f":"D42*Conversions!$L$4+'Fuel EFs'!G42*Conversions!$L$5+'Fuel EFs'!J42*Conversions!$L$6","v":56154.8},{"$f":"E42*Conversions!$L$4+'Fuel EFs'!H42*Conversions!$L$5+'Fuel EFs'!K42*Conversions!$L$6","v":54316.44},{"$f":"F42*Conversions!$L$4+'Fuel EFs'!I42*Conversions!$L$5+'Fuel EFs'!L42*Conversions!$L$6","v":58464.4},null,48,null,null,{"$f":"U42*Conversions!$E$84","v":2.1772433760000001E-2},{"$f":"Q42*Conversions!$F$80","v":4.8000000000000001E-2},{"$f":"Conversions!$K$58","v":1.055056},{"$f":"Conversions!$K$59","v":0.105506},{"$f":"1023*Conversions!H132/10*'Fuel EFs'!V42*Conversions!M57","v":0.10793222879999999}]
[3,"Natural Gas Liquids","Natural Gas Liquids",64200,58300,70400,3,1,10,0.6,0.2,2,{"$f":"D43*Conversions!$L$4+'Fuel EFs'!G43*Conversions!$L$5+'Fuel EFs'!J43*Conversions!$L$6","v":64453.8},{"$f":"E43*Conversions!$L$4+'Fuel EFs'!H43*Conversions!$L$5+'Fuel EFs'!K43*Conversions!$L$6","v":58384.6},{"$f":"F43*Conversions!$L$4+'Fuel EFs'!I43*Conversions!$L$5+'Fuel EFs'!L43*Conversions!$L$6","v":71246},0.47,44.2,{"$f":"S43*Conversions!$D$128","v":7.8638148887999998E-2},{"$f":"P43*Conversions!$F$80*Q43","v":2.0774000000000001E-2},{"$f":"U43*Conversions!$E$84","v":2.0048782754000002E-2},{"$f":"Q43*Conversions!$F$80","v":4.4200000000000003E-2},{"$f":"Conversions!$K$58","v":1.055056},{"$f":"Conversions!$K$59","v":0.105506}]
[1,"Oil - Crude","Crude Oil",73300,71100,75500,3,1,10,0.6,0.2,2,{"$f":"D44*Conversions!$L$4+'Fuel EFs'!G44*Conversions!$L$5+'Fuel EFs'!J44*Conversions!$L$6","v":73553.8},{"$f":"E44*Conversions!$L$4+'Fuel EFs'!H44*Conversions!$L$5+'Fuel EFs'!K44*Conversions!$L$6","v":71184.600000000006},{"$f":"F44*Conversions!$L$4+'Fuel EFs'!I44*Conversions!$L$5+'Fuel EFs'!L44*Conversions!$L$6","v":76346},0.8,42.3,{"$f":"S44*Conversions!$D$128","v":0.12809834208000001},{"$f":"P44*Conversions!$F$80*Q44","v":3.3840000000000002E-2},{"$f":"U44*Conversions!$E$84","v":1.9186957251E-2},{"$f":"Q44*Conversions!$F$80","v":4.2299999999999997E-2},{"$f":"Conversions!$K$58","v":1.055056},{"$f":"Conversions!$K$59","v":0.105506}]
[10,"Oil - Gas/Diesel","Gas/Diesel Oil",74100,72600,74800,3,1,10,0.6,0.2,2,{"$f":"D45*Conversions!$L$4+'Fuel EFs'!G45*Conversions!$L$5+'Fuel EFs'!J45*Conversions!$L$6","v":74353.8},{"$f":"E45*Conversions!$L$4+'Fuel EFs'!H45*Conversions!$L$5+'Fuel EFs'!K45*Conversions!$L$6","v":72684.600000000006},{"$f":"F45*Conversions!$L$4+'Fuel EFs'!I45*Conversions!$L$5+'Fuel EFs'!L45*Conversions!$L$6","v":75646},0.84,43,{"$f":"S45*Conversions!$D$128","v":0.13672908144000001},{"$f":"P45*Conversions!$F$80*Q45","v":3.6119999999999999E-2},{"$f":"U45*Conversions!$E$84","v":1.9504471910000001E-2},{"$f":"Q45*Conversions!$F$80","v":4.3000000000000003E-2},{"$f":"Conversions!$K$58","v":1.055056},{"$f":"Conversions!$K$59","v":0.105506}]
[22,"Oil - Other Petroleum","Other Petroleum Products",73300,72200,74400,3,1,10,0.6,0.2,2,{"$f":"D46*Conversions!$L$4+'Fuel EFs'!G46*Conversions!$L$5+'Fuel EFs'!J46*Conversions!$L$6","v":73553.8},{"$f":"E46*Conversions!$L$4+'Fuel EFs'!H46*Conversions!$L$5+'Fuel EFs'!K46*Conversions!$L$6","v":72284.600000000006},{"$f":"F46*Conversions!$L$4+'Fuel EFs'!I46*Conversions!$L$5+'Fuel EFs'!L46*Conversions!$L$6","v":75246},null,40.200000000000003,null,null,{"$f":"U46*Conversions!$E$84","v":1.8234413274000005E-2},{"$f":"Q46*Conversions!$F$80","v":4.0200000000000007E-2},{"$f":"Conversions!$K$58","v":1.055056},{"$f":"Conversions!$K$59","v":0.105506}]
[20,"Oil - Paraffin Waxes","Paraffin Waxes",73300,72200,74400,3,1,10,0.6,0.2,2,{"$f":"D47*Conversions!$L$4+'Fuel EFs'!G47*Conversions!$L$5+'Fuel EFs'!J47*Conversions!$L$6","v":73553.8},{"$f":"E47*Conversions!$L$4+'Fuel EFs'!H47*Conversions!$L$5+'Fuel EFs'!K47*Conversions!$L$6","v":72284.600000000006},{"$f":"F47*Conversions!$L$4+'Fuel EFs'!I47*Conversions!$L$5+'Fuel EFs'!L47*Conversions!$L$6","v":75246},null,40.200000000000003,null,null,{"$f":"U47*Conversions!$E$84","v":1.8234413274000005E-2},{"$f":"Q47*Conversions!$F$80","v":4.0200000000000007E-2},{"$f":"Conversions!$K$58","v":1.055056},{"$f":"Conversions!$K$59","v":0.105506}]
[19,"Oil - Refinery Gas","Refinery Gas",57600,48200,69000,1,0.3,3,0.1,0.03,0.3,{"$f":"D48*Conversions!$L$4+'Fuel EFs'!G48*Conversions!$L$5+'Fuel EFs'!J48*Conversions!$L$6","v":57654.8},{"$f":"E48*Conversions!$L$4+'Fuel EFs'!H48*Conversions!$L$5+'Fuel EFs'!K48*Conversions!$L$6","v":48216.44},{"$f":"F48*Conversions!$L$4+'Fuel EFs'!I48*Conversions!$L$5+'Fuel EFs'!L48*Conversions!$L$6","v":69164.399999999994},null,49.5,null,null,{"$f":"U48*Conversions!$E$84","v":2.2452822315000003E-2},{"$f":"Q48*Conversions!$F$80","v":4.9500000000000002E-2},{"$f":"Conversions!$K$58","v":1.055056},{"$f":"Conversions!$K$59","v":0.105506}]
[11,"Oil - Residual Fuel","Residual Fuel Oil",77400,75500,78800,3,3,30,0.6,0.2,2,{"$f":"D49*Conversions!$L$4+'Fuel EFs'!G49*Conversions!$L$5+'Fuel EFs'!J49*Conversions!$L$6","v":77653.8},{"$f":"E49*Conversions!$L$4+'Fuel EFs'!H49*Conversions!$L$5+'Fuel EFs'!K49*Conversions!$L$6","v":75634.600000000006},{"$f":"F49*Conversions!$L$4+'Fuel EFs'!I49*Conversions!$L$5+'Fuel EFs'!L49*Conversions!$L$6","v":80146},0.94,40.4,{"$f":"S49*Conversions!$D$128","v":0.14375480611199998},{"$f":"P49*Conversions!$F$80*Q49","v":3.7975999999999996E-2},{"$f":"U49*Conversions!$E$84","v":1.8325131748E-2},{"$f":"Q49*Conversions!$F$80","v":4.0399999999999998E-2},{"$f":"Conversions!$K$58","v":1.055056},{"$f":"Conversions!$K$59","v":0.105506}]
[9,"Oil - Shale","Shale Oil",73300,67800,79200,3,1,10,0.6,0.2,2,{"$f":"D50*Conversions!$L$4+'Fuel EFs'!G50*Conversions!$L$5+'Fuel EFs'!J50*Conversions!$L$6","v":73553.8},{"$f":"E50*Conversions!$L$4+'Fuel EFs'!H50*Conversions!$L$5+'Fuel EFs'!K50*Conversions!$L$6","v":67884.600000000006},{"$f":"F50*Conversions!$L$4+'Fuel EFs'!I50*Conversions!$L$5+'Fuel EFs'!L50*Conversions!$L$6","v":80046},1,38.1,{"$f":"S50*Conversions!$D$128","v":0.14422419720000001},{"$f":"P50*Conversions!$F$80*Q50","v":3.8100000000000002E-2},{"$f":"U50*Conversions!$E$84","v":1.7281869297000003E-2},{"$f":"Q50*Conversions!$F$80","v":3.8100000000000002E-2},{"$f":"Conversions!$K$58","v":1.055056},{"$f":"Conversions!$K$59","v":0.105506}]
[21,"Oil - White Spirit and SBP","White Spirit and SBP",73300,72200,74400,3,1,10,0.6,0.2,2,{"$f":"D51*Conversions!$L$4+'Fuel EFs'!G51*Conversions!$L$5+'Fuel EFs'!J51*Conversions!$L$6","v":73553.8},{"$f":"E51*Conversions!$L$4+'Fuel EFs'!H51*Conversions!$L$5+'Fuel EFs'!K51*Conversions!$L$6","v":72284.600000000006},{"$f":"F51*Conversions!$L$4+'Fuel EFs'!I51*Conversions!$L$5+'Fuel EFs'!L51*Conversions!$L$6","v":75246},null,40.200000000000003,null,null,{"$f":"U51*Conversions!$E$84","v":1.8234413274000005E-2},{"$f":"Q51*Conversions!$F$80","v":4.0200000000000007E-2},{"$f":"Conversions!$K$58","v":1.055056},{"$f":"Conversions!$K$59","v":0.105506}]
[28,"Oil Shale and Tar Sands","Oil Shale and Tar Sands",107000,90200,125000,1,0.3,3,1.5,0.5,5,{"$f":"D52*Conversions!$L$4+'Fuel EFs'!G52*Conversions!$L$5+'Fuel EFs'!J52*Conversions!$L$6","v":107472},{"$f":"E52*Conversions!$L$4+'Fuel EFs'!H52*Conversions!$L$5+'Fuel EFs'!K52*Conversions!$L$6","v":90356.5},{"$f":"F52*Conversions!$L$4+'Fuel EFs'!I52*Conversions!$L$5+'Fuel EFs'!L52*Conversions!$L$6","v":126565},null,8.9,null,null,{"$f":"U52*Conversions!$E$84","v":4.0369720929999998E-3},{"$f":"Q52*Conversions!$F$80","v":8.8999999999999999E-3},{"$f":"Conversions!$K$58","v":1.055056},{"$f":"Conversions!$K$59","v":0.105506}]
[2,"Orimulsion","Orimulsion",77000,69300,85400,3,1,10,0.6,0.2,2,{"$f":"D53*Conversions!$L$4+'Fuel EFs'!G53*Conversions!$L$5+'Fuel EFs'!J53*Conversions!$L$6","v":77253.8},{"$f":"E53*Conversions!$L$4+'Fuel EFs'!H53*Conversions!$L$5+'Fuel EFs'!K53*Conversions!$L$6","v":69384.600000000006},{"$f":"F53*Conversions!$L$4+'Fuel EFs'!I53*Conversions!$L$5+'Fuel EFs'!L53*Conversions!$L$6","v":86246},null,27.5,null,null,{"$f":"U53*Conversions!$E$84","v":1.2473790175000001E-2},{"$f":"Q53*Conversions!$F$80","v":2.75E-2},{"$f":"Conversions!$K$58","v":1.055056},{"$f":"Conversions!$K$59","v":0.105506}]
[37,"Oxygen Steel Furnace Gas","Oxygen Steel Furnace Gas",182000,145000,202000,1,0.3,3,0.1,0.03,0.3,{"$f":"D54*Conversions!$L$4+'Fuel EFs'!G54*Conversions!$L$5+'Fuel EFs'!J54*Conversions!$L$6","v":182054.8},{"$f":"E54*Conversions!$L$4+'Fuel EFs'!H54*Conversions!$L$5+'Fuel EFs'!K54*Conversions!$L$6","v":145016.44},{"$f":"F54*Conversions!$L$4+'Fuel EFs'!I54*Conversions!$L$5+'Fuel EFs'!L54*Conversions!$L$6","v":202164.4},null,7.06,null,null,{"$f":"U54*Conversions!$E$84","v":3.2023621321999999E-3},{"$f":"Q54*Conversions!$F$80","v":7.0599999999999994E-3},{"$f":"Conversions!$K$58","v":1.055056},{"$f":"Conversions!$K$59","v":0.105506}]
[30,"Patent Fuel","Patent Fuel",97500,87300,109000,1,0.3,3,1.5,0.5,5,{"$f":"D55*Conversions!$L$4+'Fuel EFs'!G55*Conversions!$L$5+'Fuel EFs'!J55*Conversions!$L$6","v":97972},{"$f":"E55*Conversions!$L$4+'Fuel EFs'!H55*Conversions!$L$5+'Fuel EFs'!K55*Conversions!$L$6","v":87456.5},{"$f":"F55*Conversions!$L$4+'Fuel EFs'!I55*Conversions!$L$5+'Fuel EFs'!L55*Conversions!$L$6","v":110565},null,20.7,null,null,{"$f":"U55*Conversions!$E$84","v":9.3893620590000011E-3},{"$f":"Q55*Conversions!$F$80","v":2.07E-2},{"$f":"Conversions!$K$58","v":1.055056},{"$f":"Conversions!$K$59","v":0.105506}]
[42,"Peat","Peata",106000,100000,108000,1,0.3,3,1.5,0.5,5,{"$f":"D56*Conversions!$L$4+'Fuel EFs'!G56*Conversions!$L$5+'Fuel EFs'!J56*Conversions!$L$6","v":106472},{"$f":"E56*Conversions!$L$4+'Fuel EFs'!H56*Conversions!$L$5+'Fuel EFs'!K56*Conversions!$L$6","v":100156.5},{"$f":"F56*Conversions!$L$4+'Fuel EFs'!I56*Conversions!$L$5+'Fuel EFs'!L56*Conversions!$L$6","v":109565},null,9.76,null,null,{"$f":"U56*Conversions!$E$84","v":4.4270615312000001E-3},{"$f":"Q56*Conversions!$F$80","v":9.7599999999999996E-3},{"$f":"Conversions!$K$58","v":1.055056},{"$f":"Conversions!$K$59","v":0.105506}]
[17,"Petroleum Coke","Petroleum Coke",97500,82900,115000,3,1,10,0.6,0.2,2,{"$f":"D57*Conversions!$L$4+'Fuel EFs'!G57*Conversions!$L$5+'Fuel EFs'!J57*Conversions!$L$6","v":97753.8},{"$f":"E57*Conversions!$L$4+'Fuel EFs'!H57*Conversions!$L$5+'Fuel EFs'!K57*Conversions!$L$6","v":82984.600000000006},{"$f":"F57*Conversions!$L$4+'Fuel EFs'!I57*Conversions!$L$5+'Fuel EFs'!L57*Conversions!$L$6","v":115846},null,32.5,null,null,{"$f":"U57*Conversions!$E$84","v":1.4741752025000001E-2},{"$f":"Q57*Conversions!$F$80","v":3.2500000000000001E-2},{"$f":"Conversions!$K$58","v":1.055056},{"$f":"Conversions!$K$59","v":0.105506}]
[18,"Refinery Feedstocks","Refinery Feedstocks",73300,68900,76600,3,1,10,0.6,0.2,2,{"$f":"D58*Conversions!$L$4+'Fuel EFs'!G58*Conversions!$L$5+'Fuel EFs'!J58*Conversions!$L$6","v":73553.8},{"$f":"E58*Conversions!$L$4+'Fuel EFs'!H58*Conversions!$L$5+'Fuel EFs'!K58*Conversions!$L$6","v":68984.600000000006},{"$f":"F58*Conversions!$L$4+'Fuel EFs'!I58*Conversions!$L$5+'Fuel EFs'!L58*Conversions!$L$6","v":77446},null,43,null,null,{"$f":"U58*Conversions!$E$84","v":1.9504471910000001E-2},{"$f":"Q58*Conversions!$F$80","v":4.3000000000000003E-2},{"$f":"Conversions!$K$58","v":1.055056},{"$f":"Conversions!$K$59","v":0.105506}]
[41,"Waste Oils","Waste Oils",73300,72200,74400,30,10,100,4,1.5,15,{"$f":"D59*Conversions!$L$4+'Fuel EFs'!G59*Conversions!$L$5+'Fuel EFs'!J59*Conversions!$L$6","v":75242},{"$f":"E59*Conversions!$L$4+'Fuel EFs'!H59*Conversions!$L$5+'Fuel EFs'!K59*Conversions!$L$6","v":72897},{"$f":"F59*Conversions!$L$4+'Fuel EFs'!I59*Conversions!$L$5+'Fuel EFs'!L59*Conversions!$L$6","v":81370},null,40.200000000000003,null,null,{"$f":"U59*Conversions!$E$84","v":1.8234413274000005E-2},{"$f":"Q59*Conversions!$F$80","v":4.0200000000000007E-2},{"$f":"Conversions!$K$58","v":1.055056},{"$f":"Conversions!$K$59","v":0.105506}]
[null,"a Includes the biomass-derived CO2 emitted from the black liquor combustion unit and the biomass-derived CO2 emitted from the kraft mill lime kiln."]
[]
[null,"Sources ",null,null,null,null,null,null,null,null,null,null,null,null,null,{"$f":"50000*44.5","v":2225000}]
[null,"Fuel Emission Factors: 2006 IPCC Guidelines for  National Greenhouse Gas Inventories - Chapter 2: Stationary Combustion."]
[null,"Table 2.2 - Default Emission Factors for Stationary Combustion in the Energy Industries (kg of greenhouse gas per TJ on a Net Calorific Basis)"]
[null,"Note: Units converted to g of GHG per GJ for purposes of this tool"]
[null,"Heating Value Factors: 2006 IPCC Guidelines for  National Greenhouse Gas Inventories - Chapter 1: Introduction"]
[null,"Tables 1.2 - Default Net Calorific Values (NCVs) in TJ per Gg"]
[null,"Note: Units converted to GJ of energy per metric ton (mt) for purposes of this tool"]
[null,"Fuel Density Factors: World Resources Institute - GHG Protocol for Stationary Combustion, 2005."]
[null,"Emission factors from Cross-cutting tools. Table 1.1 CO2 emission factors by fuel"]
[null,"Heat content of Natural Gas, Btu per Cubic Foot, for 2011, End-Use Sectors is used. http://www.eia.gov/totalenergy/data/annual/showtext.cfm?t=ptb1204, http://www.eia.gov/totalenergy/data/monthly/pdf/sec13_4.pdf"]

{"sheet":"LineLoss","index":10,"n_rows":209,"n_cols":6,"rows_kept":209,"cut":false,"hidden":true,"merged":[[201,1,206,2]]}
[]
[null,"IEA Electricity Information  - Lineloss",null,null,"Regional Averages"]
["IEA Names","Region/Country/Economy","Grid Average Lineloss",null,"Region","Grid Average Lineloss"]
["Afghanistan","Afghanistan",5.7300046286854894E-2,null,"Africa",7.571494692664206E-2]
["Albania","Albania",0.10120170181363654,null,"Asia",5.7300046286854894E-2]
["Algeria","Algeria",9.4921608188063056E-2,null,"Europe",5.8109323007447068E-2]
["Andorra","Andorra",5.8109323007447068E-2,null,"North America",5.7679364750868239E-2]
["Angola","Angola",7.4274443578152466E-2,null,"Oceania",5.2001785658027835E-2]
["Antigua and Barbuda","Antigua and Barbuda",5.7679364750868239E-2,null,"South America",8.3808354719636283E-2]
["Argentina","Argentina",8.483952739530716E-2]
["Armenia","Armenia",8.1117836477101496E-2]
["Australia","Australia",5.1088307102519909E-2]
["Austria","Austria",4.4668720748035434E-2]
["Azerbaijan","Azerbaijan",9.2191028899319433E-2]
["Bahamas, The","Bahamas, The",5.7679364750868239E-2]
["Bahrain","Bahrain",5.6529996543816623E-2]
["Bangladesh","Bangladesh",7.5634750299117065E-2]
["Barbados","Barbados",5.7679364750868239E-2]
["Belarus","Belarus",7.3645600865716615E-2]
["Belgium","Belgium",4.2668640828300589E-2]
["Belize","Belize",5.7679364750868239E-2]
["Benin","Benin",7.571494692664206E-2]
["Bhutan","Bhutan",5.7300046286854894E-2]
["Bolivia","Bolivia",7.3745933119281321E-2]
["Bosnia and Herzegovina","Bosnia and Herzegovina",7.0304641404584214E-2]
["Botswana","Botswana",7.571494692664206E-2]
["Brazil","Brazil",8.9500586040335006E-2]
["Brunei Darussalam","Brunei Darussalam",6.0705841105028524E-2]
["Bulgaria","Bulgaria",6.7275341301240382E-2]
["Burkina Faso","Burkina Faso",7.571494692664206E-2]
["Burma","Burma",0.10284541921067245]
["Burundi","Burundi",7.571494692664206E-2]
["Cambodia","Cambodia",0.10295623418100149]
["Cameroon","Cameroon",6.8913922466941349E-2]
["Canada","Canada",6.4650871431311707E-2]
["Cape Verde","Cape Verde",7.571494692664206E-2]
["Central African Republic","Central African Republic",7.571494692664206E-2]
["Chad","Chad",7.571494692664206E-2]
["Chile","Chile",6.008554031852776E-2]
["China","China",5.3072478000304985E-2]
["Colombia","Colombia",8.2565240146690311E-2]
["Comoros","Comoros",7.571494692664206E-2]
["Congo","Congo",0.16409249290783473]
["Congo, Democratic Republic","Congo, Democratic Republic",5.4988988608486125E-2]
["Costa Rica","Costa Rica",7.2176076836942007E-2]
["Côte d'Ivoire","Côte d'Ivoire",9.7900354249586069E-2]
["Croatia","Croatia",8.7756785661199613E-2]
["Cuba","Cuba",8.7291441760489002E-2]
["Cyprus","Cyprus",3.4014957464301235E-2]
["Czech Republic","Czech Republic",4.5793323849111701E-2]
["Denmark","Denmark",5.5707210593762352E-2]
["Djibouti","Djibouti",7.571494692664206E-2]
["Dominica","Dominica",5.7679364750868239E-2]
["Dominican Republic","Dominican Republic",7.7815670694859229E-2]
["Ecuador","Ecuador",8.7447715846942081E-2]
["Egypt","Egypt",7.0400638981562028E-2]
["El Salvador","El Salvador",7.4692994471491109E-2]
["Equatorial Guinea","Equatorial Guinea",7.571494692664206E-2]
["Eritrea","Eritrea",8.320590989926839E-2]
["Estonia","Estonia",6.1741215301746567E-2]
["Ethiopia","Ethiopia",9.0737612181809923E-2]
["Fiji","Fiji",5.2001785658027835E-2]
["Finland","Finland",3.487435012324297E-2]
["France","France",5.5384649184760749E-2]
["Gabon","Gabon",9.526458561652712E-2]
["Gambia, The","Gambia, The",7.571494692664206E-2]
["Georgia","Georgia",7.321278244601806E-2]
["Germany","Germany",3.6652588492908249E-2]
["Ghana","Ghana",0.10121890471249963]
["Greece","Greece",4.727855578999432E-2]
["Grenada","Grenada",5.7679364750868239E-2]
["Guatemala","Guatemala",8.2606532693671908E-2]
["Guinea","Guinea",7.571494692664206E-2]
["Guinea-Bissau","Guinea-Bissau",7.571494692664206E-2]
["Guyana","Guyana",8.3808354719636283E-2]
["Haiti","Haiti",0.16997056886453349]
["Holy See","Holy See",5.8109323007447068E-2]
["Honduras","Honduras",0.10999961316374203]
["Hungary","Hungary",7.2762088179621043E-2]
["Iceland","Iceland",2.8281817890827204E-2]
["India","India",9.4936484643830046E-2]
["Indonesia","Indonesia",6.7548430769630338E-2]
["Iran","Iran",8.531177294768473E-2]
["Iraq","Iraq",0.12766128361792253]
["Ireland","Ireland",5.9890561655961128E-2]
["Israel","Israel",2.9304993199727951E-2]
["Italy","Italy",5.7985703238292274E-2]
["Jamaica","Jamaica",0.10257433755508308]
["Japan","Japan",4.1804802630211163E-2]
["Jordan","Jordan",8.4241217866165952E-2]
["Kazakhstan","Kazakhstan",6.441055862536349E-2]
["Kenya","Kenya",9.0117373839958784E-2]
["Kiribati","Kiribati",5.2001785658027835E-2]
["Korea, North","Korea, North",8.7624497301248452E-2]
["Korea, South","Korea, South",3.2314563389374634E-2]
["Kosovo","Kosovo",8.9069375133888309E-2]
["Kuwait","Kuwait",8.1267237119299576E-2]
["Kyrgyzstan","Kyrgyzstan",0.10150764628784838]
["Laos","Laos",5.7300046286854894E-2]
["Latvia","Latvia",7.2143457753547496E-2]
["Lebanon","Lebanon",7.4354580078326668E-2]
["Lesotho","Lesotho",7.571494692664206E-2]
["Liberia","Liberia",7.571494692664206E-2]
["Libya","Libya",9.4501315786315487E-2]
["Liechtenstein","Liechtenstein",5.8109323007447068E-2]
["Lithuania","Lithuania",8.6966897015945344E-2]
["Luxembourg","Luxembourg",3.0645061061586217E-2]
["Macedonia, FYR","Macedonia, FYR",9.4054826014044579E-2]
["Madagascar","Madagascar",7.571494692664206E-2]
["Malawi","Malawi",7.571494692664206E-2]
["Malaysia","Malaysia",5.5166139611296301E-2]
["Maldives","Maldives",5.7300046286854894E-2]
["Mali","Mali",7.571494692664206E-2]
["Malta","Malta",7.5127864818267928E-2]
["Marshall Islands","Marshall Islands",5.2001785658027835E-2]
["Mauritania","Mauritania",7.571494692664206E-2]
["Mauritius","Mauritius",7.571494692664206E-2]
["Mexico","Mexico",8.6922303767348635E-2]
["Micronesia, Federated States of","Micronesia, Federated States of",5.2001785658027835E-2]
["Moldova","Moldova",0.10199026384034973]
["Monaco","Monaco",5.8109323007447068E-2]
["Mongolia","Mongolia",8.2757554009730963E-2]
["Montenegro","Montenegro",9.8910719081152371E-2]
["Morocco","Morocco",8.1508808637105731E-2]
["Mozambique","Mozambique",8.6519294893573948E-2]
["Namibia","Namibia",0.10446053736616828]
["Nauru","Nauru",5.2001785658027835E-2]
["Nepal","Nepal",0.12083028942699647]
["Netherlands","Netherlands",3.7946664409079553E-2]
["New Zealand","New Zealand",5.7198995787467392E-2]
["Nicaragua","Nicaragua",9.1213803073282473E-2]
["Niger","Niger",7.571494692664206E-2]
["Nigeria","Nigeria",7.5301373595601281E-2]
["Norway","Norway",5.714087819177658E-2]
["Oman","Oman",8.4378298802939206E-2]
["Pakistan","Pakistan",9.0821453399386798E-2]
["Palau","Palau",5.2001785658027835E-2]
["Panama","Panama",8.340054595367366E-2]
["Papua New Guinea","Papua New Guinea",5.2001785658027835E-2]
["Paraguay","Paraguay",5.4041871098959984E-2]
["Peru","Peru",6.4456639702917901E-2]
["Philippines","Philippines",7.5181041228041534E-2]
["Poland","Poland",5.8177484713456594E-2]
["Portugal","Portugal",6.5132991732206935E-2]
["Qatar","Qatar",5.4999577809971605E-2]
["Romania","Romania",7.724103385949288E-2]
["Russia","Russia",7.0715108357251089E-2]
["Rwanda","Rwanda",7.571494692664206E-2]
["Saint Kitts and Nevis","Saint Kitts and Nevis",5.7679364750868239E-2]
["Saint Lucia","Saint Lucia",5.7679364750868239E-2]
["Saint Vincent and the Grenadines","Saint Vincent and the Grenadines",5.7679364750868239E-2]
["Samoa","Samoa",5.2001785658027835E-2]
["San Marino","San Marino",5.8109323007447068E-2]
["Sao Tome and Principe","Sao Tome and Principe",7.571494692664206E-2]
["Saudi Arabia","Saudi Arabia",6.3908736846161052E-2]
["Senegal","Senegal",8.8533399421868941E-2]
["Serbia","Serbia",8.6227193943721442E-2]
["Seychelles","Seychelles",7.571494692664206E-2]
["Sierra Leone","Sierra Leone",7.571494692664206E-2]
["Singapore","Singapore",2.8070764025719307E-2]
["Slovakia","Slovakia",2.8398567714420182E-2]
["Slovenia","Slovenia",4.9546630344902906E-2]
["Solomon Islands","Solomon Islands",5.2001785658027835E-2]
["Somalia","Somalia",7.571494692664206E-2]
["South Africa","South Africa",6.5632243029264389E-2]
["South Sudan","South Sudan",5.0847457627118647E-2]
["Spain","Spain",6.4954149822595675E-2]
["Sri Lanka","Sri Lanka",8.0096018487556597E-2]
["Sudan","Sudan",0.22909373784519643]
["Suriname","Suriname",8.3808354719636283E-2]
["Swaziland","Swaziland",7.571494692664206E-2]
["Sweden","Sweden",5.7607294381684979E-2]
["Switzerland","Switzerland",5.6305117502635019E-2]
["Syria","Syria",9.0559603936660571E-2]
["Tajikistan","Tajikistan",8.4144536558726835E-2]
["Tanzania","Tanzania",0.10294208145456486]
["Thailand","Thailand",5.491050395418097E-2]
["Timor-Leste","Timor-Leste",5.2001785658027835E-2]
["Togo","Togo",7.571494692664206E-2]
["Tonga","Tonga",5.2001785658027835E-2]
["Trinidad and Tobago","Trinidad and Tobago",2.7960562547982112E-2]
["Tunisia","Tunisia",8.293450109061215E-2]
["Turkey","Turkey",8.5460915686455904E-2]
["Turkmenistan","Turkmenistan",8.1539771090360952E-2]
["Tuvalu","Tuvalu",5.2001785658027835E-2]
["Uganda","Uganda",7.571494692664206E-2]
["Ukraine","Ukraine",7.4604627493893461E-2]
["United Arab Emirates","United Arab Emirates",5.8705113778070299E-2]
["United Kingdom","United Kingdom",5.9621438799079995E-2]
["United States","United States",5.427651723557974E-2]
["Uruguay","Uruguay",7.7533378828687827E-2]
["Uzbekistan","Uzbekistan",6.5292401988653451E-2]
["Vanuatu","Vanuatu",5.2001785658027835E-2]
["Venezuela","Venezuela",9.9701240696059179E-2]
["Vietnam","Vietnam",6.7640948579374208E-2]
["Yemen","Yemen",0.10900844576415189]
["Zambia","Zambia",8.6568386403383726E-2]
["Zimbabwe","Zimbabwe",9.424919000184169E-2]
[]
[]
[null,"Country Dataset Sources"]
[null,"Source: IEA Electricity Information - adjusted Supply and Loss data\nAccess Date: 9/22/2015\n\nSource: IEA Electricity Information - adjusted Supply and Loss data for South Sudan and Sudan\nAccess Date: 3/23/2016"]
[]
[]
[]
[]
[]
[]
[null,"Regional averages for lineloss rates were used where no data was available."]

{"sheet":"Grid EFs","index":11,"n_rows":223,"n_cols":14,"rows_kept":223,"cut":false,"hidden":true,"merged":[[2,8,2,11],[2,12,2,13],[220,1,220,5],[222,1,224,5]]}
[]
[null,"IEA CO2 From Fossil Fuel  - Grams CO2/kWh (2012)",null,null,null,null,null,"Regional Averages"]
["IEA Names","Region/Country/Economy","Grid Average","Coal/Peat","Oil","Natural Gas",null,null,"IEA",null,null,null,"IGES"]
["Canada","Canada",150.88890000000001,900.98339999999996,882.01819999999998,475.46699999999998,null,"Region","Average of Grams CO2","Coal/Peat","Oil","Natural Gas","Region","CDM CM (IGES)"]
["Chile","Chile",599.67925000000048,868.79169999999999,984.12059999999997,438.09780000000001,null,"Africa",597.66229999999996,974.53949999999998,833.97270000000003,456.774,"Africa",713.78507792207802]
["Mexico","Mexico",529.39173553718979,963.50099999999998,696.73030000000006,406.79509999999999,null,"Asia",736.13379999999995,1144.2709,843.06479999999999,451.97480000000002,"Asia",852.140056482962]
["United States","United States",480.68610000000001,912.45330000000001,671.13300000000004,403.06540000000001,null,"Europe",331.06400000000002,917.48320000000001,690.57929999999999,359.07440000000003,"Europe and Eurasia","N/A"]
[null,"OECD Americas",440.16149638429761,911.43235000000004,808.50052499999993,430.85632499999997]
[null,"Australia",798.90189999999996,993.75379999999996,679.18949999999995,522.1739,null,"North America",439.49040000000002,912.40520000000004,718.42819999999995,407.01139999999998,"North America","N/A"]
["Australia","Israel",705.11789473684212,851.55619999999999,869.50779999999997,364.53910000000002,null,"Oceania",578.45060000000001,931.32029999999997,633.54280000000006,439.2518,"Pacific Islands","N/A"]
["Israel","Japan",852.140056482962,908.60310000000004,613.74609999999996,437.642,null,"South America",200.8047,1240.4880000000001,671.35590000000002,502.83659999999998,"Latin America and the Caribbean",472.65132124352402]
["Japan","Korea, South",911.65,924.70600000000002,649.11210000000005,419.58620000000002]
["Korea","New Zealand",173.28200000000001,1127.9532999999999,1040.6667,411.54259999999999]
["OECD Asia Oceania","OECD Asia Oceania",688.21837024396086,961.31448,770.44443999999987,431.09676000000002]
["Austria","Austria",164.791,1057.8384000000001,578.3732,320.45830000000001]
["Belgium","Belgium",212.018,1318.2679000000001,507.5213,313.30309999999997]
["Czech Republic","Czech Republic",551.84950000000003,1008.5516,925.98440000000005,419.25749999999999]
["Denmark","Denmark",257.26420000000002,579.9076,602.43290000000002,270.12759999999997]
["Estonia","Estonia",911.99310000000003,1050.2034000000001,840.80529999999999,240.0607]
["Finland","Finland",134.1499,661.47760000000005,570.2242,241.48099999999999]
["France","France",69.254199999999997,1046.1799000000001,623.31330000000003,457.6925]
["Germany","Germany",475.40809999999999,894.91300000000001,606.77779999999996,331.24009999999998]
["Greece","Greece",684.61030000000005,1024.2320999999999,737.72590000000002,387.5806]
["Hungary","Hungary",314.01240000000001,1085.4237000000001,851.28489999999999,370.63900000000001]
["Iceland","Iceland",0.1779,917.48320000000001,1040.6667,359.07440000000003]
["Ireland","Ireland",456.58359999999999,857.84320000000002,710.49,385.3494]
["Italy","Italy",385.04079999999999,900.39570000000003,757.4991,370.93520000000001]
["Luxembourg","Luxembourg",340.3408,917.48320000000001,690.57929999999999,357.65460000000002]
["Netherlands","Netherlands",440.69659999999999,912.89919999999995,703.0788,300.13510000000002]
["Norway","Norway",8.0572999999999997,1191.7299,304.37299999999999,338.78710000000001]
["Poland","Poland",755.83529999999996,874.21640000000002,484.0102,337.33870000000002]
["Portugal","Portugal",363.95909999999998,861.59159999999997,528.9271,351.45780000000002]
["Slovak Republic","Slovakia",194.3861,1043.6219000000001,767.25229999999999,336.15199999999999]
["Slovenia","Slovenia",331.47609999999997,952.66920000000005,1041,371.8492]
["Spain","Spain",305.35539999999997,927.68790000000001,708.73649999999998,356.82209999999998]
["Sweden","Sweden",12.357900000000001,704.76710000000003,398.2251,214.38130000000001]
["Switzerland","Switzerland",28.036300000000001,917.48320000000001,424.65320000000003,257.98930000000001]
["Turkey","Turkey",459.1454,1024.6189999999999,642.71379999999999,373.39429999999999]
["United Kingdom","United Kingdom",479.47829999999999,892.97889999999995,761.78660000000002,386.89659999999998]
["OECD Europe","OECD Europe",333.45110400000004,944.97859199999994,672.33739600000001,338.00230000000005]
["Albania","Albania",393.40000000000003,919.05070000000001,785.51969999999994,527.41980000000001]
["Armenia","Andorra",331.06400000000002,917.48320000000001,690.57929999999999,359.07440000000003]
["Azerbaijan","Armenia",435.9666666666667,919.05070000000001,785.51969999999994,417.32839999999999]
["Belarus","Azerbaijan",589.7600000000001,919.05070000000001,627.95230000000004,533.89710000000002]
["Bosnia and Herzegovina","Belarus",425.11810000000003,1487.011,583.20280000000002,422.51690000000002]
["Bulgaria","Bosnia and Herzegovina",973.15,1395.2871,765.82140000000004,694.42309999999998]
["Croatia","Bulgaria",531.69439999999997,1042.7764,782.32849999999996,311.90859999999998]
["Cyprus","Croatia",311.06299999999999,868.73990000000003,638.58630000000005,365.64839999999998]
["Georgia","Cyprus",798.22,919.05070000000001,768.14729999999997,527.41980000000001]
["Kazakhstan","Georgia",402.46600000000001,919.05070000000001,785.51969999999994,458.91669999999999]
["Kosovo","Holy See",331.06400000000002,917.48320000000001,690.57929999999999,359.07440000000003]
["Kyrgyzstan","Kazakhstan",852.140056482962,491.55970000000002,301.59410000000003,573.98879999999997]
["Latvia","Kosovo",1026.3259,1040.9362000000001,1110.4793999999999,527.41980000000001]
["Lithuania","Kyrgyzstan",852.140056482962,443.45170000000002,936.13329999999996,448.21289999999999]
["FYR of Macedonia","Latvia",91.083699999999993,919.05070000000001,702.46960000000001,256.64830000000001]
["Malta","Liechtenstein",331.06400000000002,917.48320000000001,690.57929999999999,359.07440000000003]
["Republic of Moldova","Lithuania",271.19240000000002,919.05070000000001,916.47770000000003,350.495]
["Montenegro","Macedonia, FYR",861.23333333333335,1069.4612,800.75,351.517]
["Romania","Malta",871.5258,919.05070000000001,881.14530000000002,527.41980000000001]
["Russian Federation","Moldova",497.12479999999999,919.05070000000001,785.51969999999994,521.75530000000003]
["Serbia","Monaco",331.06400000000002,917.48320000000001,690.57929999999999,359.07440000000003]
["Tajikistan","Montenegro",983.6,1132.5757000000001,785.51969999999994,527.41980000000001]
["Turkmenistan","Romania",480.62779999999998,1056.0931,721.27279999999996,393.21120000000002]
["Ukraine","Russia",428.779,935.50450000000001,801.72310000000004,520.05700000000002]
[null,"San Marino",331.06400000000002,917.48320000000001,690.57929999999999,359.07440000000003]
[null,"Serbia",1099.111373,1031.1309000000001,463.3784,474.06]
[null,"Tajikistan",852.140056482962,919.05070000000001,785.51969999999994,293.83760000000001]
[null,"Turkmenistan",852.140056482962,919.05070000000001,785.51969999999994,986.74469999999997]
[null,"Ukraine",459.97579999999999,1057.3423,750.41110000000003,371.65429999999998]
["Uzbekistan","Uzbekistan",593,1565.6724999999999,783.74810000000002,643.07950000000005]
["Non-OECD Europe and Eurasia","Non-OECD Europe and Eurasia",586.27660996439488,977.15052999999966,742.90519666666694,460.7457266666666]
[null,"Algeria",713.78507792207802,974.53949999999998,935.38210000000004,528.50840000000005]
[null,"Angola",840.8,974.53949999999998,1343.4219000000001,456.774]
[null,"Benin",713.78507792207802,974.53949999999998,725.1481,456.774]
[null,"Botswana",713.78507792207802,1478.836,833.97270000000003,456.774]
[null,"Burkina Faso",368.25,974.53949999999998,833.97270000000003,456.774]
[null,"Burundi",713.78507792207802,974.53949999999998,833.97270000000003,456.774]
[null,"Cameroon",713.78507792207802,974.53949999999998,859.74220000000003,537.85019999999997]
[null,"Cape Verde",713.78507792207802,974.53949999999998,833.97270000000003,456.774]
[null,"Central African Republic",713.78507792207802,974.53949999999998,833.97270000000003,456.774]
[null,"Chad",713.78507792207802,974.53949999999998,833.97270000000003,456.774]
[null,"Comoros",713.78507792207802,974.53949999999998,833.97270000000003,456.774]
[null,"Congo",713.78507792207802,974.53949999999998,1058.4444000000001,584.13869999999997]
[null,"Congo, Democratic Republic",713.78507792207802,974.53949999999998,1058.1667,573.20690000000002]
[null,"Côte d'Ivoire",660.37499999999989,974.53949999999998,928.70090000000005,642.93790000000001]
[null,"Djibouti",713.78507792207802,974.53949999999998,833.97270000000003,456.774]
[null,"Egypt",538.90999999999985,974.53949999999998,834.98019999999997,418.28910000000002]
[null,"Equatorial Guinea",713.78507792207802,974.53949999999998,833.97270000000003,456.774]
[null,"Eritrea",713.78507792207802,974.53949999999998,854.09799999999996,456.774]
[null,"Ethiopia",713.78507792207802,974.53949999999998,1111.2750000000001,456.774]
[null,"Gabon",713.78507792207802,974.53949999999998,714.58309999999994,763.5163]
[null,"Gambia, The",713.78507792207802,974.53949999999998,833.97270000000003,456.774]
[null,"Ghana",478.51500000000004,974.53949999999998,869.63149999999996,566.91849999999999]
[null,"Guinea",713.78507792207802,974.53949999999998,833.97270000000003,456.774]
[null,"Guinea-Bissau",713.78507792207802,974.53949999999998,833.97270000000003,456.774]
[null,"Kenya",603.23384615384612,974.53949999999998,898.12819999999999,456.774]
[null,"Lesotho",713.78507792207802,974.53949999999998,833.97270000000003,456.774]
[null,"Liberia",713.78507792207802,974.53949999999998,833.97270000000003,456.774]
["Algeria","Libya",793.7,974.53949999999998,858.23180000000002,383.43419999999998]
["Angola","Madagascar",552,974.53949999999998,833.97270000000003,456.774]
["Benin","Malawi",713.78507792207802,974.53949999999998,833.97270000000003,456.774]
["Botswana","Mali",582.20000000000005,974.53949999999998,833.97270000000003,456.774]
["Cameroon","Mauritania",713.78507792207802,974.53949999999998,833.97270000000003,456.774]
["Congo","Mauritius",975.25,974.53949999999998,833.97270000000003,456.774]
["Dem. Rep. of Congo","Morocco",660.76433333333341,986.82029999999997,723.58849999999995,376.73469999999998]
["Côte d'Ivoire","Mozambique",713.78507792207802,974.53949999999998,833.97270000000003,853.80949999999996]
["Egypt","Namibia",920,1402.5333000000001,1110.3333,456.774]
["Eritrea","Niger",713.78507792207802,974.53949999999998,833.97270000000003,456.774]
["Ethiopia","Nigeria",573.28,974.53949999999998,833.97270000000003,502.23219999999998]
["Gabon","Rwanda",654,974.53949999999998,833.97270000000003,456.774]
["Ghana","Sao Tome and Principe",713.78507792207802,974.53949999999998,833.97270000000003,456.774]
["Kenya","Senegal",682.60000000000014,974.53949999999998,709.80399999999997,368.42140000000001]
["Libya","Seychelles",713.78507792207802,974.53949999999998,833.97270000000003,456.774]
["Morocco","Sierra Leone",402,974.53949999999998,833.97270000000003,456.774]
["Mozambique","Somalia",713.78507792207802,974.53949999999998,833.97270000000003,456.774]
["Namibia","South Africa",954.52702702702732,972.85919999999999,762.36080000000004,456.774]
["Nigeria","South Sudan",713.78507792207802,974.53949999999998,833.97270000000003,456.774]
["Senegal","Sudan",305,974.53949999999998,676.48850000000004,456.774]
["South Africa","Swaziland",713.78507792207802,974.53949999999998,833.97270000000003,456.774]
["Sudan","Tanzania",529,974.53949999999998,1051.8036,542.39390000000003]
["United Rep. of Tanzania","Togo",713.78507792207802,974.53949999999998,1118.4118000000001,456.774]
["Togo","Tunisia",553.64,974.53949999999998,833.97270000000003,473.0899]
["Tunisia","Uganda",529.02666666666664,974.53949999999998,833.97270000000003,456.774]
["Zambia","Zambia",713.78507792207802,974.53949999999998,871.19439999999997,456.774]
["Zimbabwe","Zimbabwe",713.78507792207802,903.09500000000003,2116.7406999999998,456.774]
["Other Africa","Africa",679.85147119647138,990.67739444444396,889.70024814814803,480.17903333333339]
["Africa","Afghanistan",852.140056482962,919.05070000000001,785.51969999999994,527.41980000000001]
["Bangladesh","Bangladesh",640.68500000000006,1037.0159000000001,598.72649999999999,572.85310000000004]
[null,"Bhutan",779,1144.2709,843.06479999999999,451.97480000000002]
[null,"Brunei Darussalam",852.140056482962,1144.2709,858.10810000000004,721.75040000000001]
[null,"Burma",713.40000000000009,939.99220000000003,809.33330000000001,724.95759999999996]
[null,"Cambodia",665.06000000000006,1062.6486,839.21820000000002,451.97480000000002]
[null,"Fiji",596.49999999999989,1144.2709,843.06479999999999,451.97480000000002]
[null,"India",898.57717075366929,1218.9636,1098.298,440.04199999999997]
[null,"Indonesia",757.73934426229505,1111.7001,869.32550000000003,529.69830000000002]
[null,"Kiribati",736.13379999999995,1144.2709,843.06479999999999,451.97480000000002]
[null,"Korea, North",631.58224390243925,1255.8557000000001,1380.2612999999999,451.97480000000002]
[null,"Korea, North",631.58224390243925,1255.8557000000001,1380.2612999999999,451.97480000000002]
[null,"Laos",554.04999999999995,1144.2709,843.06479999999999,451.97480000000002]
[null,"Malaysia",668.08048780487843,983.67769999999996,720.28020000000004,494.76960000000003]
[null,"Maldives",852.140056482962,1144.2709,843.06479999999999,451.97480000000002]
[null,"Marshall Islands",736.13379999999995,1144.2709,843.06479999999999,451.97480000000002]
[null,"Micronesia, Federated States of",736.13379999999995,1144.2709,843.06479999999999,451.97480000000002]
[null,"Mongolia",1061,875.55420000000004,1038.2815000000001,451.97480000000002]
[null,"Nauru",736.13379999999995,1144.2709,843.06479999999999,451.97480000000002]
[null,"Nepal",852.140056482962,1144.2709,712.94740000000002,451.97480000000002]
["Brunei Darussalam","Pakistan",540.25999999999988,2334.2458999999999,702.83109999999999,579.99519999999995]
["Cambodia","Palau",736.13379999999995,1144.2709,843.06479999999999,451.97480000000002]
["Chinese Taipei","Papua New Guinea",678.57142857142856,1144.2709,843.06479999999999,451.97480000000002]
["India","Philippines",510.89444444444422,936.76829999999995,726.19039999999995,358.52760000000001]
["Indonesia","Samoa",736.13379999999995,1144.2709,843.06479999999999,451.97480000000002]
["DPR of Korea","Singapore",486.23333333333329,1144.2709,827.18820000000005,398.09429999999998]
["Malaysia","Solomon Islands",736.13379999999995,1144.2709,843.06479999999999,451.97480000000002]
["Mongolia","Sri Lanka",690.78499999999997,1209.5291999999999,677.39149999999995,451.97480000000002]
["Myanmar","Thailand",547.4492248062013,1011.3687,687.81290000000001,409.82740000000001]
["Nepal","Timor-Leste",852.140056482962,1144.2709,843.06479999999999,451.97480000000002]
["Pakistan","Tonga",736.13379999999995,1144.2709,843.06479999999999,451.97480000000002]
["Philippines","Tuvalu",736.13379999999995,1144.2709,843.06479999999999,451.97480000000002]
["Singapore","Vanuatu",736.13379999999995,1144.2709,843.06479999999999,451.97480000000002]
["Sri Lanka","Vietnam",563.75861224489984,987.55219999999997,1083.2944,403.93900000000002]
["Thailand","Asia",712.86020048355408,1143.5566411764703,861.30312647058827,473.68587941176469]
["Vietnam","Antigua and Barbuda",472.65132124352402,1240.4880000000001,671.35590000000002,502.83659999999998]
["Other Asia","Argentina",521.49441176470577,1165.1775,731.76139999999998,476.05540000000002]
["Asia","Bahamas, The",723,1240.4880000000001,671.35590000000002,502.83659999999998]
["People's Rep. of China","Barbados",472.65132124352402,1240.4880000000001,671.35590000000002,502.83659999999998]
["Hong Kong, China","Belize",151.9,1240.4880000000001,671.35590000000002,502.83659999999998]
["China","Bolivia",711,1240.4880000000001,942.25810000000001,634.07849999999996]
["Argentina","Brazil",298.76581203007527,1409.4494,726.96900000000005,428.30650000000003]
["Bolivia","China",884.35902390290642,948.2106,755.21159999999998,508.38440000000003]
["Brazil","Colombia",332.58833333333331,959.6617,921.27110000000005,451.85820000000001]
["Colombia","Costa Rica",280.6957142857143,1240.4880000000001,666.34820000000002,502.83659999999998]
["Costa Rica","Cuba",873.5,1240.4880000000001,989.4932,502.23230000000001]
["Cuba","Dominica",472.65132124352402,1240.4880000000001,671.35590000000002,502.83659999999998]
["Dominican Republic","Dominican Republic",654.14285714285711,953.69870000000003,616.92409999999995,458.23329999999999]
["Ecuador","Ecuador",590.21607142857135,1240.4880000000001,752.96360000000004,490.99270000000001]
[null,"El Salvador",677.65555555555557,1240.4880000000001,662.95349999999996,502.83659999999998]
[null,"Grenada",472.65132124352402,1240.4880000000001,671.35590000000002,502.83659999999998]
[null,"Guatemala",651.32105263157882,960.22540000000004,640.81590000000006,502.83659999999998]
[null,"Guyana",948.30000000000007,1240.4880000000001,671.35590000000002,502.83659999999998]
[null,"Haiti",472.65132124352402,1240.4880000000001,687.30100000000004,502.83659999999998]
[null,"Honduras",665.5344827586207,927.07749999999999,637.28480000000002,502.83659999999998]
[null,"Jamaica",783.2,1240.4880000000001,704.72829999999999,502.83659999999998]
[null,"Nicaragua",689.90000000000009,1240.4880000000001,711.10929999999996,502.83659999999998]
[null,"Panama",606.80000000000007,1113.2175999999999,813.40959999999995,502.83659999999998]
[null,"Paraguay",472.65132124352402,1240.4880000000001,671.35590000000002,502.83659999999998]
[null,"Peru",593.79603773584915,1173.7519,905.29150000000004,586.44259999999997]
["El Salvador","Saint Kitts and Nevis",472.65132124352402,1240.4880000000001,671.35590000000002,502.83659999999998]
["Guatemala","Saint Lucia",472.65132124352402,1240.4880000000001,671.35590000000002,502.83659999999998]
["Haiti","Saint Vincent and the Grenadines",472.65132124352402,1240.4880000000001,671.35590000000002,502.83659999999998]
["Honduras","Suriname",472.65132124352402,1240.4880000000001,671.35590000000002,502.83659999999998]
["Jamaica","Trinidad and Tobago",472.65132124352402,1240.4880000000001,789.54169999999999,676.07249999999999]
["Netherlands Antilles","Uruguay",574.09130434782617,1240.4880000000001,714.87819999999999,496]
["Nicaragua","Venezuela",472.65132124352402,1240.4880000000001,942.30510000000004,606.26649999999995]
["Panama","Non-OECD Americas",558.87739099499618,1191.9279468750001,730.28406250000012,511.61421562500016]
["Paraguay","Bahrain",852.140056482962,1144.2709,915.41219999999998,754.71889999999996]
["Peru","Iran",632.26499999999999,1144.2709,905.75850000000003,473.08449999999999]
["Trinidad and Tobago","Iraq",852.140056482962,1144.2709,1945.5879,330.7998]
["Uruguay","Jordan",583.86666666666667,1144.2709,670.17309999999998,499.36489999999998]
["Venezuela","Kuwait",780,1144.2709,842.09519999999998,573.92409999999995]
["Other Non-OECD Americas","Lebanon",650,1144.2709,864.34829999999999,547.42639999999994]
["Non-OECD Americas","Oman",852.140056482962,1144.2709,766.20500000000004,598.00850000000003]
["Bahrain","Qatar",852.140056482962,1144.2709,915.41219999999998,492.94900000000001]
["Islamic Rep. of Iran","Saudi Arabia",654,1144.2709,820.30669999999998,636.60609999999997]
["Iraq","Syria",852.140056482962,1144.2709,801.84029999999996,542.96730000000002]
["Jordan","United Arab Emirates",704.03333333333342,1144.2709,1195.7221999999999,588.90049999999997]
["Kuwait","Yemen",852.140056482962,1144.2709,700.92539999999997,551.48310000000004]
["Lebanon","Middle East",759.75044490814764,1144.2708999999998,945.31558333333317,549.1860916666667]
["Oman","European Union - 28",399.86670714285725,936.32006071428543,707.37341785714284,351.91298214285717]
["Qatar"]
["Saudi Arabia","Country Dataset Sources"]
[null,"Source: IGES List of Grid Emission Factor http://pub.iges.or.jp/modules/envirolib/view.php?docid=2136  "]
[null,"Purchase site: http://pub.iges.or.jp/index.html"]
[null,"Access date: 3/15/2016"]
[null,"IGES assembled average Clean Development Mechanism (CDM) combined marginal emission factors for grid electricity for a number of countries.  \n\n \nData used in precendence of IEA data. "]
[]
["Syrian Arab Republic ","Source: IEA CO2 Emissions From Fuel Combustion - Highlights 2013 http://www.iea.org/bookshop/669-CO2_Emissions_from_Fuel_Combustion  \n"]
["United Arab Emirates","Purchase site: http://www.iea.org/bookshop/"]
["Yemen","Access Date: 12/1/2015"]
["Middle East","CO2 data was obtained from IEA. Where country or regional marginal emission factors are not available from IGES, grid average emission factors can be found here. "]
["European Union - 27"]
[null,"Regional averages for fuel-specific emission factors were used where no data was available."]
[]
[null,"Note: The CLEER Protocol assumes that electricity generated from renewable sources have a default emission factor of zero gCO2/kWh.  This includes Solar Photovoltaic, Solar Thermal Power, Wind Turbine, Geothermal Power, and Hydroelectric Power."]

{"sheet":"Assumptions","index":12,"n_rows":9,"n_cols":3,"rows_kept":9,"cut":false,"hidden":true,"merged":[]}
[]
[null,"Decisions and assumptions made for the development of the Solar PV Worksheet"]
[null,"Date","Assumption"]
[null,"2012-12-07"," For countries that did not have specific IEA grid emission factors or line loss values, regional averages were used as a proxy"]
[null,"2012-12-07","Project emissions for solar projects are 0. Activity generation is assumed equal to the baseline consumption."]
[null,"2012-12-18","Average Daily Insolation (HS) in hours equals annual average insolation in kWh/m2/day"]
[null,"2012-12-18","Assumes default array tilt angle is equal to the latitude angle of the location."]
[null,"2012-12-28","For countries without country-specific grid emission factors, the \"Other Countries\" category within the region was used instead. If the \"Other Countries\" category was not available, the regional average was use."]
[null,"2012-12-29","Fuel Emission Factors assume a net calorific basis of combustion "]

{"sheet":"Diesel Efficiency Estimator","index":13,"n_rows":39,"n_cols":13,"rows_kept":39,"cut":false,"hidden":true,"merged":[]}
[]
[]
[null,null,"http://www.dieselserviceandsupply.com/Diesel_Fuel_Consumption.aspx",null,null,null,null,null," Efficiencies for Individual mode of operation"]
[null,null,null,null,null,null,null,null,0.25,0.5,0.75,1]
[null,null,"Generator Size (kW)","1/4 Load (gal/hr)","1/2 Load (gal/hr)","3/4 Load (gal/hr)","Full Load (gal/hr)",null,"1/4 Load (gal/hr)","1/2 Load (gal/hr)","3/4 Load (gal/hr)","Full Load (gal/hr)"]
[null,null,20,0.6,0.9,1.3,1.6,null,{"$f":"1/(D6/$C6/I$4*$D$35/$D$37)","v":0.2194119910998211},0.29254932146642815,0.30380121844590613,0.32911798664973169]
[null,null,30,1.3,1.8,2.4,2.9,null,0.15190060922295306,0.2194119910998211,0.24683848998729874,0.27237350619288136]
[null,null,40,1.6,2.2999999999999998,3.2,4,null,0.16455899332486584,0.22895164288676992,0.24683848998729874,0.26329438931978533]
[null,null,60,1.8,2.9,3.8,4.8,null,0.2194119910998211,0.27237350619288136,0.3117959873523774,0.32911798664973169]
[null,null,75,2.4,3.4,4.5999999999999996,6.1,null,0.20569874165608229,0.29039822351446914,0.32196324780952018,0.3237226098194082]
[null,null,100,2.6,4.0999999999999996,5.8,7.4,null,0.25316768203825513,0.32109071868266509,0.34046688274110176,0.35580322881052068]
[null,null,125,3.1,5,7.1,9.1,null,0.26541773116913847,0.32911798664973169,0.3476598450525335,0.36166811719750735]
[null,null,135,3.3,5.4,7.6,9.8000000000000007,null,0.26927835271341682,0.32911798664973169,0.35077048577142461,0.36270145467521447]
[null,null,150,3.6,5.9,8.4,10.9,null,0.27426498887477641,0.33469625760989652,0.35262641426756969,0.36233172842172295]
[null,null,175,4.0999999999999996,6.8,9.6999999999999993,12.7,null,0.28095437884733193,0.33879792743354736,0.35626173812599821,0.36280722937765697]
[null,null,200,4.7,7.7,11,14.4,null,0.28010041416998438,0.34194076535037055,0.35903780361788912,0.36568665183303517]
[null,null,230,5.3,8.8000000000000007,12.5,16.600000000000001,null,0.28564957331863505,0.34407789513381032,0.36334625726130376,0.36480547917801576]
[null,null,250,5.7,9.5,13.6,18,null,0.28869998828923832,0.34643998594708603,0.36299777939308647,0.36568665183303523]
[null,null,300,6.8,11.3,16.100000000000001,21.5,null,0.29039822351446914,0.34950582653068846,0.36795799749659441,0.36738751998109576]
[null,null,350,7.9,13.1,18.7,25.1,null,0.29162353247444578,0.35172914603788114,0.36959773901841525,0.36714357076464088]
[null,null,400,8.9,14.9,21.3,28.6,null,0.29583639249414084,0.35341528767756425,0.37083716805603573,0.36824390114655287]
[null,null,500,11,18.5,26.4,35.700000000000003,null,0.29919816968157431,0.35580322881052073,0.37399771210196781,0.36875964890726232]
[null,null,600,13.2,22,31.5,42.8,null,0.29919816968157431,0.35903780361788912,0.37613484188540763,0.36910428409315699]
[null,null,750,16.3,27.4,39.299999999999997,53.4,null,0.30286931286785124,0.36034816056539964,0.37685265646915844,0.36979549061767603]
[null,null,1000,21.6,36.4,52.1,71.099999999999994,null,0.30473887652752929,0.36166811719750735,0.37902263337780995,0.37031559679294701]
[null,null,1250,26.9,45.3,65,88.8,null,0.30587173480458335,0.36326488592685618,0.37975152305738269,0.37062836334429244]
[null,null,1500,32.200000000000003,54.3,77.8,106.5,null,0.30663166458049534,0.36366628359086378,0.3807277480523889,0.37083716805603573]
[null,null,1750,37.5,63.2,90.7,124.2,null,0.30717678753974959,0.36452941559305724,0.38100759204213697,0.37098645838134003]
[null,null,2000,42.8,72.2,103.5,141.9,null,0.30758690341096417,0.36467366941798524,0.38158607147794987,0.37109850503140995]
[null,null,2250,48.1,81.099999999999994,116.4,159.6,null,0.30790664031679676,0.36523574350771704,0.38170900513499811,0.37118569922902073]
[null,null,null,null,null,null,null,null,{"$f":"AVERAGE(I6:I30)","v":0.27110207374873974},{"$f":"AVERAGE(J6:J30)","v":0.33207367108364561},{"$f":"AVERAGE(K6:K30)","v":0.35134349311934215},{"$f":"AVERAGE(L6:L30)","v":0.35418412905214708},{"$f":"AVERAGE(I6:L30)","v":0.32717584175096875}]
[null,null,"Slope",{"$f":"LINEST(D6:D30,$C$6:$C$30,FALSE)","v":2.1513975569424443E-2},{"$f":"LINEST(E6:E30,$C$6:$C$30,FALSE)","v":3.62327839120926E-2},{"$f":"LINEST(F6:F30,$C$6:$C$30,FALSE)","v":5.1948045020536619E-2},{"$f":"LINEST(G6:G30,$C$6:$C$30,FALSE)","v":7.1031925108017271E-2},"[gal/hr]/[kW]",null,null,null,null,{"$f":"MEDIAN(I6:L30)","v":0.34858283579161098}]
[null,null,"Load",0.25,0.5,0.75,1]
[null,null,"Fuel Consumption per kWh",{"$f":"D32/D33","v":8.6055902277697771E-2},{"$f":"E32/E33","v":7.2465567824185201E-2},{"$f":"F32/F33","v":6.9264060027382154E-2},{"$f":"G32/G33","v":7.1031925108017271E-2},"[gal/kWh] or [gal diesel/kWh electricity]"]
[null,null,"GJ/gal Diesel",{"$f":"'Fuel EFs'!R45","v":0.13672908144000001},null,null,null,"Energy content of diesel"]
[null,null,"GJ diesel/kWh electricity",{"$f":"D34*$D$35","v":1.1766344470920021E-2},{"$f":"E34*$D$35","v":9.9081505246288622E-3},{"$f":"F34*$D$35","v":9.4704113043489833E-3},{"$f":"G34*$D$35","v":9.7121298729340756E-3},"GJ of diesel required to create 1 kWh electricity"]
[null,null,"GJ/kWh",{"$f":"Conversions!K50","v":3.5999999999999999E-3}]
[null,null,"GJ diesel/GJ electricity",{"$f":"D36/$D$37","v":3.2684290197000059},{"$f":"E36/$D$37","v":2.7522640346191283},{"$f":"F36/$D$37","v":2.6306698067636067},{"$f":"G36/$D$37","v":2.6978138535927987},"GJ of diesel required to create 1 GJ of electricity"]
[null,null,"GJ kWh/GJ diesel ",{"$f":"1/D38","v":0.305957386246615},{"$f":"1/E38","v":0.36333723342730995},{"$f":"1/F38","v":0.38013132527272758},{"$f":"1/G38","v":0.37067049628656012},"[Efficiency] - GJ of electricity created by 1 GJ of diesel"]

{"sheet":"PlotData","index":14,"n_rows":10,"n_cols":5,"rows_kept":10,"cut":false,"hidden":true,"merged":[]}
[]
[null,"For Bar Plot"]
[null,"Baseline Emissions",null,null,{"$f":"IF(Results!D23=\"\",0,Results!D23)","v":0}]
[null,"Activity Emissions",null,null,{"$f":"IF(Results!F23=\"\",0,Results!F23)","v":0}]
[null,"Emission Reductions",null,null,{"$f":"IF(Results!H23=\"\",0,Results!H23)","v":0}]
[]
[null,"For Line Plot"]
[null,"Coordinates","Action","Baseline"]
[null,0.75,{"$f":"E4+E5/100","v":0},{"$f":"E3+E5/100","v":0}]
[null,1.25,{"$f":"E4+E5/100","v":0},{"$f":"E3+E5/100","v":0}]